
BEGIN:VCALENDAR
VERSION:2.0
PRODID:-//Gold Foundation - ECPv6.15.13.1//NONSGML v1.0//EN
CALSCALE:GREGORIAN
METHOD:PUBLISH
X-WR-CALNAME:Gold Foundation
X-ORIGINAL-URL:https://goldfoundation.com.au
X-WR-CALDESC:Events for Gold Foundation
REFRESH-INTERVAL;VALUE=DURATION:PT1H
X-Robots-Tag:noindex
X-PUBLISHED-TTL:PT1H
BEGIN:VTIMEZONE
TZID:Australia/Adelaide
BEGIN:STANDARD
TZOFFSETFROM:+1030
TZOFFSETTO:+0930
TZNAME:ACST
DTSTART:20200404T163000
END:STANDARD
BEGIN:DAYLIGHT
TZOFFSETFROM:+0930
TZOFFSETTO:+1030
TZNAME:ACDT
DTSTART:20201003T163000
END:DAYLIGHT
BEGIN:STANDARD
TZOFFSETFROM:+1030
TZOFFSETTO:+0930
TZNAME:ACST
DTSTART:20210403T163000
END:STANDARD
BEGIN:DAYLIGHT
TZOFFSETFROM:+0930
TZOFFSETTO:+1030
TZNAME:ACDT
DTSTART:20211002T163000
END:DAYLIGHT
BEGIN:STANDARD
TZOFFSETFROM:+1030
TZOFFSETTO:+0930
TZNAME:ACST
DTSTART:20220402T163000
END:STANDARD
BEGIN:DAYLIGHT
TZOFFSETFROM:+0930
TZOFFSETTO:+1030
TZNAME:ACDT
DTSTART:20221001T163000
END:DAYLIGHT
END:VTIMEZONE
BEGIN:VEVENT
DTSTART;TZID=Australia/Adelaide:20210803T180000
DTEND;TZID=Australia/Adelaide:20210803T190000
DTSTAMP:20260426T081418
CREATED:20210527T090548Z
LAST-MODIFIED:20211105T063232Z
UID:10002269-1628013600-1628017200@goldfoundation.com.au
SUMMARY:What's the Buzz (Social Skills Training Program for ages 12-15)
DESCRIPTION:‘What’s the Buzz?’ (for ages 12-15) is a social and emotional skills training program created in 2019 to help older children on the Autism Spectrum improve social connections and navigate social situations. The program follows on from the highly successful ‘What’s the Buzz?’ (for ages 5-8) and ‘What’s the Buzz’ (for ages 9-11) which Gold Foundation has run for many years. \nMore information can be found here: https://goldfoundation.com.au/programs/whats-the-buzz-for-older-students/
URL:https://goldfoundation.com.au/event/whats-the-buzz-social-skills-training-program-for-ages-12-15/2021-08-03/
LOCATION:The Gold Foundation\, 9-11 Carlisle Street\, Camden Park\, SA\, 5038\, Australia
CATEGORIES:Test
ATTACH;FMTTYPE=image/jpeg:https://goldfoundation.com.au/wp-content/uploads/2021/10/WTB-Graduation-5-scaled.jpg
ORGANIZER;CN="The Gold Foundation":MAILTO:info@goldfoundation.com.au
END:VEVENT
BEGIN:VEVENT
DTSTART;TZID=Australia/Adelaide:20210810T180000
DTEND;TZID=Australia/Adelaide:20210810T190000
DTSTAMP:20260426T081418
CREATED:20210527T090548Z
LAST-MODIFIED:20211105T063232Z
UID:10002270-1628618400-1628622000@goldfoundation.com.au
SUMMARY:What's the Buzz (Social Skills Training Program for ages 12-15)
DESCRIPTION:‘What’s the Buzz?’ (for ages 12-15) is a social and emotional skills training program created in 2019 to help older children on the Autism Spectrum improve social connections and navigate social situations. The program follows on from the highly successful ‘What’s the Buzz?’ (for ages 5-8) and ‘What’s the Buzz’ (for ages 9-11) which Gold Foundation has run for many years. \nMore information can be found here: https://goldfoundation.com.au/programs/whats-the-buzz-for-older-students/
URL:https://goldfoundation.com.au/event/whats-the-buzz-social-skills-training-program-for-ages-12-15/2021-08-10/
LOCATION:The Gold Foundation\, 9-11 Carlisle Street\, Camden Park\, SA\, 5038\, Australia
CATEGORIES:Test
ATTACH;FMTTYPE=image/jpeg:https://goldfoundation.com.au/wp-content/uploads/2021/10/WTB-Graduation-5-scaled.jpg
ORGANIZER;CN="The Gold Foundation":MAILTO:info@goldfoundation.com.au
END:VEVENT
BEGIN:VEVENT
DTSTART;TZID=Australia/Adelaide:20210817T180000
DTEND;TZID=Australia/Adelaide:20210817T190000
DTSTAMP:20260426T081418
CREATED:20210527T090548Z
LAST-MODIFIED:20211105T063232Z
UID:10002271-1629223200-1629226800@goldfoundation.com.au
SUMMARY:What's the Buzz (Social Skills Training Program for ages 12-15)
DESCRIPTION:‘What’s the Buzz?’ (for ages 12-15) is a social and emotional skills training program created in 2019 to help older children on the Autism Spectrum improve social connections and navigate social situations. The program follows on from the highly successful ‘What’s the Buzz?’ (for ages 5-8) and ‘What’s the Buzz’ (for ages 9-11) which Gold Foundation has run for many years. \nMore information can be found here: https://goldfoundation.com.au/programs/whats-the-buzz-for-older-students/
URL:https://goldfoundation.com.au/event/whats-the-buzz-social-skills-training-program-for-ages-12-15/2021-08-17/
LOCATION:The Gold Foundation\, 9-11 Carlisle Street\, Camden Park\, SA\, 5038\, Australia
CATEGORIES:Test
ATTACH;FMTTYPE=image/jpeg:https://goldfoundation.com.au/wp-content/uploads/2021/10/WTB-Graduation-5-scaled.jpg
ORGANIZER;CN="The Gold Foundation":MAILTO:info@goldfoundation.com.au
END:VEVENT
BEGIN:VEVENT
DTSTART;TZID=Australia/Adelaide:20210824T180000
DTEND;TZID=Australia/Adelaide:20210824T190000
DTSTAMP:20260426T081419
CREATED:20210527T090548Z
LAST-MODIFIED:20211105T063232Z
UID:10002272-1629828000-1629831600@goldfoundation.com.au
SUMMARY:What's the Buzz (Social Skills Training Program for ages 12-15)
DESCRIPTION:‘What’s the Buzz?’ (for ages 12-15) is a social and emotional skills training program created in 2019 to help older children on the Autism Spectrum improve social connections and navigate social situations. The program follows on from the highly successful ‘What’s the Buzz?’ (for ages 5-8) and ‘What’s the Buzz’ (for ages 9-11) which Gold Foundation has run for many years. \nMore information can be found here: https://goldfoundation.com.au/programs/whats-the-buzz-for-older-students/
URL:https://goldfoundation.com.au/event/whats-the-buzz-social-skills-training-program-for-ages-12-15/2021-08-24/
LOCATION:The Gold Foundation\, 9-11 Carlisle Street\, Camden Park\, SA\, 5038\, Australia
CATEGORIES:Test
ATTACH;FMTTYPE=image/jpeg:https://goldfoundation.com.au/wp-content/uploads/2021/10/WTB-Graduation-5-scaled.jpg
ORGANIZER;CN="The Gold Foundation":MAILTO:info@goldfoundation.com.au
END:VEVENT
BEGIN:VEVENT
DTSTART;TZID=Australia/Adelaide:20210831T180000
DTEND;TZID=Australia/Adelaide:20210831T190000
DTSTAMP:20260426T081419
CREATED:20210527T090548Z
LAST-MODIFIED:20211105T063232Z
UID:10002273-1630432800-1630436400@goldfoundation.com.au
SUMMARY:What's the Buzz (Social Skills Training Program for ages 12-15)
DESCRIPTION:‘What’s the Buzz?’ (for ages 12-15) is a social and emotional skills training program created in 2019 to help older children on the Autism Spectrum improve social connections and navigate social situations. The program follows on from the highly successful ‘What’s the Buzz?’ (for ages 5-8) and ‘What’s the Buzz’ (for ages 9-11) which Gold Foundation has run for many years. \nMore information can be found here: https://goldfoundation.com.au/programs/whats-the-buzz-for-older-students/
URL:https://goldfoundation.com.au/event/whats-the-buzz-social-skills-training-program-for-ages-12-15/2021-08-31/
LOCATION:The Gold Foundation\, 9-11 Carlisle Street\, Camden Park\, SA\, 5038\, Australia
CATEGORIES:Test
ATTACH;FMTTYPE=image/jpeg:https://goldfoundation.com.au/wp-content/uploads/2021/10/WTB-Graduation-5-scaled.jpg
ORGANIZER;CN="The Gold Foundation":MAILTO:info@goldfoundation.com.au
END:VEVENT
END:VCALENDAR