
BEGIN:VCALENDAR
VERSION:2.0
PRODID:-//Gold Foundation - ECPv6.15.13.1//NONSGML v1.0//EN
CALSCALE:GREGORIAN
METHOD:PUBLISH
X-ORIGINAL-URL:https://goldfoundation.com.au
X-WR-CALDESC:Events for Gold Foundation
REFRESH-INTERVAL;VALUE=DURATION:PT1H
X-Robots-Tag:noindex
X-PUBLISHED-TTL:PT1H
BEGIN:VTIMEZONE
TZID:Australia/Adelaide
BEGIN:STANDARD
TZOFFSETFROM:+1030
TZOFFSETTO:+0930
TZNAME:ACST
DTSTART:20200404T163000
END:STANDARD
BEGIN:DAYLIGHT
TZOFFSETFROM:+0930
TZOFFSETTO:+1030
TZNAME:ACDT
DTSTART:20201003T163000
END:DAYLIGHT
BEGIN:STANDARD
TZOFFSETFROM:+1030
TZOFFSETTO:+0930
TZNAME:ACST
DTSTART:20210403T163000
END:STANDARD
BEGIN:DAYLIGHT
TZOFFSETFROM:+0930
TZOFFSETTO:+1030
TZNAME:ACDT
DTSTART:20211002T163000
END:DAYLIGHT
BEGIN:STANDARD
TZOFFSETFROM:+1030
TZOFFSETTO:+0930
TZNAME:ACST
DTSTART:20220402T163000
END:STANDARD
BEGIN:DAYLIGHT
TZOFFSETFROM:+0930
TZOFFSETTO:+1030
TZNAME:ACDT
DTSTART:20221001T163000
END:DAYLIGHT
END:VTIMEZONE
BEGIN:VEVENT
DTSTART;TZID=Australia/Adelaide:20210702T183000
DTEND;TZID=Australia/Adelaide:20210702T203000
DTSTAMP:20260423T072616
CREATED:20200723T032148Z
LAST-MODIFIED:20211105T062422Z
UID:10001974-1625250600-1625257800@goldfoundation.com.au
SUMMARY:Youth Group (13 to 18 years)
DESCRIPTION:Gold Foundation organises regular social groups for young people on the Autism Spectrum from 13 to 18 years of age. \nOur Youth Groups are held in a relaxed and fun environment\, where young people can be social together\, forge lasting friendships and\, informally\, develop social skills and connect with others their age. \nYouth Groups are operated by skilled facilitators while members also have input on their program for the year. \nYouth Group activities include\, but are not limited to: \n\n\n\nMovie nights;\nVideo games;\nBoard games\nArts & crafts;\n\n\n\n\nThemed nights (e.g. Halloween\, birthday parties\, World Autism Awareness Day… etc.);\nScience night;\nHealth & fitness;\nTable tennis; and\nExcursions & events (may incur separate fees).
URL:https://goldfoundation.com.au/event/youth-group-12-to-20-years-2021-02-12/2021-07-02/
LOCATION:The Gold Foundation\, 9-11 Carlisle Street\, Camden Park\, SA\, 5038\, Australia
ATTACH;FMTTYPE=image/jpeg:https://goldfoundation.com.au/wp-content/uploads/2021/09/Bowling-Laser-Skirmish-4-1.jpg
ORGANIZER;CN="The Gold Foundation":MAILTO:info@goldfoundation.com.au
END:VEVENT
BEGIN:VEVENT
DTSTART;TZID=Australia/Adelaide:20210703T180000
DTEND;TZID=Australia/Adelaide:20210703T200000
DTSTAMP:20260423T072616
CREATED:20200723T032933Z
LAST-MODIFIED:20211105T061859Z
UID:10002061-1625335200-1625342400@goldfoundation.com.au
SUMMARY:Not So Youth Group (18 years and over)
DESCRIPTION:Not So Youth Group is held in a relaxed and easy-going environment where attendees can be social\, find common ground and make friends as well as other meaningful\, long-term connections—all the while continuing to develop communication and social skills. \nNot So Youth Group is operated by skilled facilitators while attendees have input on their program and activities throughout the year. \nNot So Youth Group activities include: \n\nMovie nights;\nVideo games;\nBoard games;\nCooking lessons;\nArts & crafts;\nThemed nights (e.g. Halloween\, Birthday Parties\, World Autism Day… etc.);\nScience night;\nHealth & fitness;\nTable tennis;\nPhotography; and\nExcursions & events (may incur separate fees).
URL:https://goldfoundation.com.au/event/not-so-youth-group-18-years-and-over-2021-02-06/2021-07-03/
LOCATION:The Gold Foundation\, 9-11 Carlisle Street\, Camden Park\, SA\, 5038\, Australia
ATTACH;FMTTYPE=image/jpeg:https://goldfoundation.com.au/wp-content/uploads/2021/10/Space-Discovery-Centre-1.jpg
ORGANIZER;CN="The Gold Foundation":MAILTO:info@goldfoundation.com.au
END:VEVENT
BEGIN:VEVENT
DTSTART;TZID=Australia/Adelaide:20210709T183000
DTEND;TZID=Australia/Adelaide:20210709T203000
DTSTAMP:20260423T072616
CREATED:20200723T032148Z
LAST-MODIFIED:20211105T062422Z
UID:10001975-1625855400-1625862600@goldfoundation.com.au
SUMMARY:Youth Group (13 to 18 years)
DESCRIPTION:Gold Foundation organises regular social groups for young people on the Autism Spectrum from 13 to 18 years of age. \nOur Youth Groups are held in a relaxed and fun environment\, where young people can be social together\, forge lasting friendships and\, informally\, develop social skills and connect with others their age. \nYouth Groups are operated by skilled facilitators while members also have input on their program for the year. \nYouth Group activities include\, but are not limited to: \n\n\n\nMovie nights;\nVideo games;\nBoard games\nArts & crafts;\n\n\n\n\nThemed nights (e.g. Halloween\, birthday parties\, World Autism Awareness Day… etc.);\nScience night;\nHealth & fitness;\nTable tennis; and\nExcursions & events (may incur separate fees).
URL:https://goldfoundation.com.au/event/youth-group-12-to-20-years-2021-02-12/2021-07-09/
LOCATION:The Gold Foundation\, 9-11 Carlisle Street\, Camden Park\, SA\, 5038\, Australia
ATTACH;FMTTYPE=image/jpeg:https://goldfoundation.com.au/wp-content/uploads/2021/09/Bowling-Laser-Skirmish-4-1.jpg
ORGANIZER;CN="The Gold Foundation":MAILTO:info@goldfoundation.com.au
END:VEVENT
BEGIN:VEVENT
DTSTART;TZID=Australia/Adelaide:20210716T183000
DTEND;TZID=Australia/Adelaide:20210716T203000
DTSTAMP:20260423T072616
CREATED:20200723T032148Z
LAST-MODIFIED:20211105T062422Z
UID:10001976-1626460200-1626467400@goldfoundation.com.au
SUMMARY:Youth Group (13 to 18 years)
DESCRIPTION:Gold Foundation organises regular social groups for young people on the Autism Spectrum from 13 to 18 years of age. \nOur Youth Groups are held in a relaxed and fun environment\, where young people can be social together\, forge lasting friendships and\, informally\, develop social skills and connect with others their age. \nYouth Groups are operated by skilled facilitators while members also have input on their program for the year. \nYouth Group activities include\, but are not limited to: \n\n\n\nMovie nights;\nVideo games;\nBoard games\nArts & crafts;\n\n\n\n\nThemed nights (e.g. Halloween\, birthday parties\, World Autism Awareness Day… etc.);\nScience night;\nHealth & fitness;\nTable tennis; and\nExcursions & events (may incur separate fees).
URL:https://goldfoundation.com.au/event/youth-group-12-to-20-years-2021-02-12/2021-07-16/
LOCATION:The Gold Foundation\, 9-11 Carlisle Street\, Camden Park\, SA\, 5038\, Australia
ATTACH;FMTTYPE=image/jpeg:https://goldfoundation.com.au/wp-content/uploads/2021/09/Bowling-Laser-Skirmish-4-1.jpg
ORGANIZER;CN="The Gold Foundation":MAILTO:info@goldfoundation.com.au
END:VEVENT
BEGIN:VEVENT
DTSTART;TZID=Australia/Adelaide:20210717T180000
DTEND;TZID=Australia/Adelaide:20210717T200000
DTSTAMP:20260423T072616
CREATED:20200723T032933Z
LAST-MODIFIED:20211105T061859Z
UID:10002062-1626544800-1626552000@goldfoundation.com.au
SUMMARY:Not So Youth Group (18 years and over)
DESCRIPTION:Not So Youth Group is held in a relaxed and easy-going environment where attendees can be social\, find common ground and make friends as well as other meaningful\, long-term connections—all the while continuing to develop communication and social skills. \nNot So Youth Group is operated by skilled facilitators while attendees have input on their program and activities throughout the year. \nNot So Youth Group activities include: \n\nMovie nights;\nVideo games;\nBoard games;\nCooking lessons;\nArts & crafts;\nThemed nights (e.g. Halloween\, Birthday Parties\, World Autism Day… etc.);\nScience night;\nHealth & fitness;\nTable tennis;\nPhotography; and\nExcursions & events (may incur separate fees).
URL:https://goldfoundation.com.au/event/not-so-youth-group-18-years-and-over-2021-02-06/2021-07-17/
LOCATION:The Gold Foundation\, 9-11 Carlisle Street\, Camden Park\, SA\, 5038\, Australia
ATTACH;FMTTYPE=image/jpeg:https://goldfoundation.com.au/wp-content/uploads/2021/10/Space-Discovery-Centre-1.jpg
ORGANIZER;CN="The Gold Foundation":MAILTO:info@goldfoundation.com.au
END:VEVENT
BEGIN:VEVENT
DTSTART;TZID=Australia/Adelaide:20210723T183000
DTEND;TZID=Australia/Adelaide:20210723T203000
DTSTAMP:20260423T072616
CREATED:20200723T032148Z
LAST-MODIFIED:20211105T062422Z
UID:10001977-1627065000-1627072200@goldfoundation.com.au
SUMMARY:Youth Group (13 to 18 years)
DESCRIPTION:Gold Foundation organises regular social groups for young people on the Autism Spectrum from 13 to 18 years of age. \nOur Youth Groups are held in a relaxed and fun environment\, where young people can be social together\, forge lasting friendships and\, informally\, develop social skills and connect with others their age. \nYouth Groups are operated by skilled facilitators while members also have input on their program for the year. \nYouth Group activities include\, but are not limited to: \n\n\n\nMovie nights;\nVideo games;\nBoard games\nArts & crafts;\n\n\n\n\nThemed nights (e.g. Halloween\, birthday parties\, World Autism Awareness Day… etc.);\nScience night;\nHealth & fitness;\nTable tennis; and\nExcursions & events (may incur separate fees).
URL:https://goldfoundation.com.au/event/youth-group-12-to-20-years-2021-02-12/2021-07-23/
LOCATION:The Gold Foundation\, 9-11 Carlisle Street\, Camden Park\, SA\, 5038\, Australia
ATTACH;FMTTYPE=image/jpeg:https://goldfoundation.com.au/wp-content/uploads/2021/09/Bowling-Laser-Skirmish-4-1.jpg
ORGANIZER;CN="The Gold Foundation":MAILTO:info@goldfoundation.com.au
END:VEVENT
BEGIN:VEVENT
DTSTART;TZID=Australia/Adelaide:20210728T170000
DTEND;TZID=Australia/Adelaide:20210728T183000
DTSTAMP:20260423T072616
CREATED:20210527T090001Z
LAST-MODIFIED:20211028T060604Z
UID:10002204-1627491600-1627497000@goldfoundation.com.au
SUMMARY:Cadets (Social Group for ages 8-12)
DESCRIPTION:Cadets is a social group for young people on the Autism Spectrum aged 8-12. \nMore information can be found here: https://goldfoundation.com.au/programs/cadets/
URL:https://goldfoundation.com.au/event/cadets-social-group-for-ages-8-12/2021-07-28/
LOCATION:The Gold Foundation\, 9-11 Carlisle Street\, Camden Park\, SA\, 5038\, Australia
ATTACH;FMTTYPE=image/jpeg:https://goldfoundation.com.au/wp-content/uploads/2021/05/IMG_1581-scaled-e1622105936687.jpg
ORGANIZER;CN="The Gold Foundation":MAILTO:info@goldfoundation.com.au
END:VEVENT
BEGIN:VEVENT
DTSTART;TZID=Australia/Adelaide:20210730T183000
DTEND;TZID=Australia/Adelaide:20210730T203000
DTSTAMP:20260423T072616
CREATED:20200723T032148Z
LAST-MODIFIED:20211105T062422Z
UID:10001978-1627669800-1627677000@goldfoundation.com.au
SUMMARY:Youth Group (13 to 18 years)
DESCRIPTION:Gold Foundation organises regular social groups for young people on the Autism Spectrum from 13 to 18 years of age. \nOur Youth Groups are held in a relaxed and fun environment\, where young people can be social together\, forge lasting friendships and\, informally\, develop social skills and connect with others their age. \nYouth Groups are operated by skilled facilitators while members also have input on their program for the year. \nYouth Group activities include\, but are not limited to: \n\n\n\nMovie nights;\nVideo games;\nBoard games\nArts & crafts;\n\n\n\n\nThemed nights (e.g. Halloween\, birthday parties\, World Autism Awareness Day… etc.);\nScience night;\nHealth & fitness;\nTable tennis; and\nExcursions & events (may incur separate fees).
URL:https://goldfoundation.com.au/event/youth-group-12-to-20-years-2021-02-12/2021-07-30/
LOCATION:The Gold Foundation\, 9-11 Carlisle Street\, Camden Park\, SA\, 5038\, Australia
ATTACH;FMTTYPE=image/jpeg:https://goldfoundation.com.au/wp-content/uploads/2021/09/Bowling-Laser-Skirmish-4-1.jpg
ORGANIZER;CN="The Gold Foundation":MAILTO:info@goldfoundation.com.au
END:VEVENT
BEGIN:VEVENT
DTSTART;TZID=Australia/Adelaide:20210731T180000
DTEND;TZID=Australia/Adelaide:20210731T200000
DTSTAMP:20260423T072616
CREATED:20200723T032933Z
LAST-MODIFIED:20211105T061859Z
UID:10002063-1627754400-1627761600@goldfoundation.com.au
SUMMARY:Not So Youth Group (18 years and over)
DESCRIPTION:Not So Youth Group is held in a relaxed and easy-going environment where attendees can be social\, find common ground and make friends as well as other meaningful\, long-term connections—all the while continuing to develop communication and social skills. \nNot So Youth Group is operated by skilled facilitators while attendees have input on their program and activities throughout the year. \nNot So Youth Group activities include: \n\nMovie nights;\nVideo games;\nBoard games;\nCooking lessons;\nArts & crafts;\nThemed nights (e.g. Halloween\, Birthday Parties\, World Autism Day… etc.);\nScience night;\nHealth & fitness;\nTable tennis;\nPhotography; and\nExcursions & events (may incur separate fees).
URL:https://goldfoundation.com.au/event/not-so-youth-group-18-years-and-over-2021-02-06/2021-07-31/
LOCATION:The Gold Foundation\, 9-11 Carlisle Street\, Camden Park\, SA\, 5038\, Australia
ATTACH;FMTTYPE=image/jpeg:https://goldfoundation.com.au/wp-content/uploads/2021/10/Space-Discovery-Centre-1.jpg
ORGANIZER;CN="The Gold Foundation":MAILTO:info@goldfoundation.com.au
END:VEVENT
END:VCALENDAR