
BEGIN:VCALENDAR
VERSION:2.0
PRODID:-//Gold Foundation - ECPv6.15.13.1//NONSGML v1.0//EN
CALSCALE:GREGORIAN
METHOD:PUBLISH
X-ORIGINAL-URL:https://goldfoundation.com.au
X-WR-CALDESC:Events for Gold Foundation
REFRESH-INTERVAL;VALUE=DURATION:PT1H
X-Robots-Tag:noindex
X-PUBLISHED-TTL:PT1H
BEGIN:VTIMEZONE
TZID:Australia/Adelaide
BEGIN:STANDARD
TZOFFSETFROM:+1030
TZOFFSETTO:+0930
TZNAME:ACST
DTSTART:20200404T163000
END:STANDARD
BEGIN:DAYLIGHT
TZOFFSETFROM:+0930
TZOFFSETTO:+1030
TZNAME:ACDT
DTSTART:20201003T163000
END:DAYLIGHT
BEGIN:STANDARD
TZOFFSETFROM:+1030
TZOFFSETTO:+0930
TZNAME:ACST
DTSTART:20210403T163000
END:STANDARD
BEGIN:DAYLIGHT
TZOFFSETFROM:+0930
TZOFFSETTO:+1030
TZNAME:ACDT
DTSTART:20211002T163000
END:DAYLIGHT
BEGIN:STANDARD
TZOFFSETFROM:+1030
TZOFFSETTO:+0930
TZNAME:ACST
DTSTART:20220402T163000
END:STANDARD
BEGIN:DAYLIGHT
TZOFFSETFROM:+0930
TZOFFSETTO:+1030
TZNAME:ACDT
DTSTART:20221001T163000
END:DAYLIGHT
END:VTIMEZONE
BEGIN:VEVENT
DTSTART;TZID=Australia/Adelaide:20211101T180000
DTEND;TZID=Australia/Adelaide:20211101T193000
DTSTAMP:20260423T015855
CREATED:20210628T053931Z
LAST-MODIFIED:20211105T062759Z
UID:10002307-1635789600-1635795000@goldfoundation.com.au
SUMMARY:Cooking Connection Program (for ages 13-18)
DESCRIPTION:Gold Foundation’s cooking program for young people on the Autism Spectrum\, where each week the group uses teamwork to cook a different meal. \nFor program details\, please see here: https://goldfoundation.com.au/programs/cooking-connection/ \n 
URL:https://goldfoundation.com.au/event/cooking-connection-program-for-ages-13-18/2021-11-01/
LOCATION:The Gold Foundation\, 9-11 Carlisle Street\, Camden Park\, SA\, 5038\, Australia
ATTACH;FMTTYPE=image/jpeg:https://goldfoundation.com.au/wp-content/uploads/2021/10/IMG_1553-scaled-e1633646905732.jpg
ORGANIZER;CN="The Gold Foundation":MAILTO:info@goldfoundation.com.au
END:VEVENT
BEGIN:VEVENT
DTSTART;TZID=Australia/Adelaide:20211102T180000
DTEND;TZID=Australia/Adelaide:20211102T190000
DTSTAMP:20260423T015855
CREATED:20210527T090548Z
LAST-MODIFIED:20211105T063232Z
UID:10002282-1635876000-1635879600@goldfoundation.com.au
SUMMARY:What's the Buzz (Social Skills Training Program for ages 12-15)
DESCRIPTION:‘What’s the Buzz?’ (for ages 12-15) is a social and emotional skills training program created in 2019 to help older children on the Autism Spectrum improve social connections and navigate social situations. The program follows on from the highly successful ‘What’s the Buzz?’ (for ages 5-8) and ‘What’s the Buzz’ (for ages 9-11) which Gold Foundation has run for many years. \nMore information can be found here: https://goldfoundation.com.au/programs/whats-the-buzz-for-older-students/
URL:https://goldfoundation.com.au/event/whats-the-buzz-social-skills-training-program-for-ages-12-15/2021-11-02/
LOCATION:The Gold Foundation\, 9-11 Carlisle Street\, Camden Park\, SA\, 5038\, Australia
CATEGORIES:Test
ATTACH;FMTTYPE=image/jpeg:https://goldfoundation.com.au/wp-content/uploads/2021/10/WTB-Graduation-5-scaled.jpg
ORGANIZER;CN="The Gold Foundation":MAILTO:info@goldfoundation.com.au
END:VEVENT
BEGIN:VEVENT
DTSTART;TZID=Australia/Adelaide:20211103T170000
DTEND;TZID=Australia/Adelaide:20211103T183000
DTSTAMP:20260423T015855
CREATED:20210527T090001Z
LAST-MODIFIED:20211028T060604Z
UID:10002218-1635958800-1635964200@goldfoundation.com.au
SUMMARY:Cadets (Social Group for ages 8-12)
DESCRIPTION:Cadets is a social group for young people on the Autism Spectrum aged 8-12. \nMore information can be found here: https://goldfoundation.com.au/programs/cadets/
URL:https://goldfoundation.com.au/event/cadets-social-group-for-ages-8-12/2021-11-03/
LOCATION:The Gold Foundation\, 9-11 Carlisle Street\, Camden Park\, SA\, 5038\, Australia
ATTACH;FMTTYPE=image/jpeg:https://goldfoundation.com.au/wp-content/uploads/2021/05/IMG_1581-scaled-e1622105936687.jpg
ORGANIZER;CN="The Gold Foundation":MAILTO:info@goldfoundation.com.au
END:VEVENT
BEGIN:VEVENT
DTSTART;TZID=Australia/Adelaide:20211104T180000
DTEND;TZID=Australia/Adelaide:20211104T190000
DTSTAMP:20260423T015855
CREATED:20210527T091037Z
LAST-MODIFIED:20210527T091037Z
UID:10002298-1636048800-1636052400@goldfoundation.com.au
SUMMARY:Discovery Program for Girls (ages 13-16)
DESCRIPTION:Gold Foundation’s pioneering program for girls on the Autism Spectrum aged 13-16 that will empower and inspire! \nThis 12-week program provides a safe space for teenage girls to learn\, share and build their confidence to take on new challenges with the guidance of an experienced Facilitator. \nTopics include: Identity\, Healthy Relationships\, Mental Well-being\, Navigating Tricky Social Situations\, Positive Self-Image\, and much more! Content will be tailored to the needs of participants for personalised benefits. \nMore information can be found here: https://goldfoundation.com.au/programs/discovery-program-for-girls/
URL:https://goldfoundation.com.au/event/discovery-program-for-girls-ages-13-16/2021-11-04/
LOCATION:The Gold Foundation\, 9-11 Carlisle Street\, Camden Park\, SA\, 5038\, Australia
ATTACH;FMTTYPE=image/jpeg:https://goldfoundation.com.au/wp-content/uploads/2021/05/Discovery-Program-Image-e1622106615463.jpg
ORGANIZER;CN="The Gold Foundation":MAILTO:info@goldfoundation.com.au
END:VEVENT
BEGIN:VEVENT
DTSTART;TZID=Australia/Adelaide:20211105T183000
DTEND;TZID=Australia/Adelaide:20211105T203000
DTSTAMP:20260423T015855
CREATED:20200723T032148Z
LAST-MODIFIED:20211105T062422Z
UID:10001992-1636137000-1636144200@goldfoundation.com.au
SUMMARY:Youth Group (13 to 18 years)
DESCRIPTION:Gold Foundation organises regular social groups for young people on the Autism Spectrum from 13 to 18 years of age. \nOur Youth Groups are held in a relaxed and fun environment\, where young people can be social together\, forge lasting friendships and\, informally\, develop social skills and connect with others their age. \nYouth Groups are operated by skilled facilitators while members also have input on their program for the year. \nYouth Group activities include\, but are not limited to: \n\n\n\nMovie nights;\nVideo games;\nBoard games\nArts & crafts;\n\n\n\n\nThemed nights (e.g. Halloween\, birthday parties\, World Autism Awareness Day… etc.);\nScience night;\nHealth & fitness;\nTable tennis; and\nExcursions & events (may incur separate fees).
URL:https://goldfoundation.com.au/event/youth-group-12-to-20-years-2021-02-12/2021-11-05/
LOCATION:The Gold Foundation\, 9-11 Carlisle Street\, Camden Park\, SA\, 5038\, Australia
ATTACH;FMTTYPE=image/jpeg:https://goldfoundation.com.au/wp-content/uploads/2021/09/Bowling-Laser-Skirmish-4-1.jpg
ORGANIZER;CN="The Gold Foundation":MAILTO:info@goldfoundation.com.au
END:VEVENT
BEGIN:VEVENT
DTSTART;TZID=Australia/Adelaide:20211106T180000
DTEND;TZID=Australia/Adelaide:20211106T200000
DTSTAMP:20260423T015855
CREATED:20200723T032933Z
LAST-MODIFIED:20211105T061859Z
UID:10002070-1636221600-1636228800@goldfoundation.com.au
SUMMARY:Not So Youth Group (18 years and over)
DESCRIPTION:Not So Youth Group is held in a relaxed and easy-going environment where attendees can be social\, find common ground and make friends as well as other meaningful\, long-term connections—all the while continuing to develop communication and social skills. \nNot So Youth Group is operated by skilled facilitators while attendees have input on their program and activities throughout the year. \nNot So Youth Group activities include: \n\nMovie nights;\nVideo games;\nBoard games;\nCooking lessons;\nArts & crafts;\nThemed nights (e.g. Halloween\, Birthday Parties\, World Autism Day… etc.);\nScience night;\nHealth & fitness;\nTable tennis;\nPhotography; and\nExcursions & events (may incur separate fees).
URL:https://goldfoundation.com.au/event/not-so-youth-group-18-years-and-over-2021-02-06/2021-11-06/
LOCATION:The Gold Foundation\, 9-11 Carlisle Street\, Camden Park\, SA\, 5038\, Australia
ATTACH;FMTTYPE=image/jpeg:https://goldfoundation.com.au/wp-content/uploads/2021/10/Space-Discovery-Centre-1.jpg
ORGANIZER;CN="The Gold Foundation":MAILTO:info@goldfoundation.com.au
END:VEVENT
BEGIN:VEVENT
DTSTART;TZID=Australia/Adelaide:20211108T180000
DTEND;TZID=Australia/Adelaide:20211108T193000
DTSTAMP:20260423T015855
CREATED:20210628T053931Z
LAST-MODIFIED:20211105T062759Z
UID:10002308-1636394400-1636399800@goldfoundation.com.au
SUMMARY:Cooking Connection Program (for ages 13-18)
DESCRIPTION:Gold Foundation’s cooking program for young people on the Autism Spectrum\, where each week the group uses teamwork to cook a different meal. \nFor program details\, please see here: https://goldfoundation.com.au/programs/cooking-connection/ \n 
URL:https://goldfoundation.com.au/event/cooking-connection-program-for-ages-13-18/2021-11-08/
LOCATION:The Gold Foundation\, 9-11 Carlisle Street\, Camden Park\, SA\, 5038\, Australia
ATTACH;FMTTYPE=image/jpeg:https://goldfoundation.com.au/wp-content/uploads/2021/10/IMG_1553-scaled-e1633646905732.jpg
ORGANIZER;CN="The Gold Foundation":MAILTO:info@goldfoundation.com.au
END:VEVENT
BEGIN:VEVENT
DTSTART;TZID=Australia/Adelaide:20211109T180000
DTEND;TZID=Australia/Adelaide:20211109T190000
DTSTAMP:20260423T015855
CREATED:20210527T090548Z
LAST-MODIFIED:20211105T063232Z
UID:10002283-1636480800-1636484400@goldfoundation.com.au
SUMMARY:What's the Buzz (Social Skills Training Program for ages 12-15)
DESCRIPTION:‘What’s the Buzz?’ (for ages 12-15) is a social and emotional skills training program created in 2019 to help older children on the Autism Spectrum improve social connections and navigate social situations. The program follows on from the highly successful ‘What’s the Buzz?’ (for ages 5-8) and ‘What’s the Buzz’ (for ages 9-11) which Gold Foundation has run for many years. \nMore information can be found here: https://goldfoundation.com.au/programs/whats-the-buzz-for-older-students/
URL:https://goldfoundation.com.au/event/whats-the-buzz-social-skills-training-program-for-ages-12-15/2021-11-09/
LOCATION:The Gold Foundation\, 9-11 Carlisle Street\, Camden Park\, SA\, 5038\, Australia
CATEGORIES:Test
ATTACH;FMTTYPE=image/jpeg:https://goldfoundation.com.au/wp-content/uploads/2021/10/WTB-Graduation-5-scaled.jpg
ORGANIZER;CN="The Gold Foundation":MAILTO:info@goldfoundation.com.au
END:VEVENT
BEGIN:VEVENT
DTSTART;TZID=Australia/Adelaide:20211110T170000
DTEND;TZID=Australia/Adelaide:20211110T183000
DTSTAMP:20260423T015855
CREATED:20210527T090001Z
LAST-MODIFIED:20211028T060604Z
UID:10002219-1636563600-1636569000@goldfoundation.com.au
SUMMARY:Cadets (Social Group for ages 8-12)
DESCRIPTION:Cadets is a social group for young people on the Autism Spectrum aged 8-12. \nMore information can be found here: https://goldfoundation.com.au/programs/cadets/
URL:https://goldfoundation.com.au/event/cadets-social-group-for-ages-8-12/2021-11-10/
LOCATION:The Gold Foundation\, 9-11 Carlisle Street\, Camden Park\, SA\, 5038\, Australia
ATTACH;FMTTYPE=image/jpeg:https://goldfoundation.com.au/wp-content/uploads/2021/05/IMG_1581-scaled-e1622105936687.jpg
ORGANIZER;CN="The Gold Foundation":MAILTO:info@goldfoundation.com.au
END:VEVENT
BEGIN:VEVENT
DTSTART;TZID=Australia/Adelaide:20211112T183000
DTEND;TZID=Australia/Adelaide:20211112T203000
DTSTAMP:20260423T015855
CREATED:20200723T032148Z
LAST-MODIFIED:20211105T062422Z
UID:10001993-1636741800-1636749000@goldfoundation.com.au
SUMMARY:Youth Group (13 to 18 years)
DESCRIPTION:Gold Foundation organises regular social groups for young people on the Autism Spectrum from 13 to 18 years of age. \nOur Youth Groups are held in a relaxed and fun environment\, where young people can be social together\, forge lasting friendships and\, informally\, develop social skills and connect with others their age. \nYouth Groups are operated by skilled facilitators while members also have input on their program for the year. \nYouth Group activities include\, but are not limited to: \n\n\n\nMovie nights;\nVideo games;\nBoard games\nArts & crafts;\n\n\n\n\nThemed nights (e.g. Halloween\, birthday parties\, World Autism Awareness Day… etc.);\nScience night;\nHealth & fitness;\nTable tennis; and\nExcursions & events (may incur separate fees).
URL:https://goldfoundation.com.au/event/youth-group-12-to-20-years-2021-02-12/2021-11-12/
LOCATION:The Gold Foundation\, 9-11 Carlisle Street\, Camden Park\, SA\, 5038\, Australia
ATTACH;FMTTYPE=image/jpeg:https://goldfoundation.com.au/wp-content/uploads/2021/09/Bowling-Laser-Skirmish-4-1.jpg
ORGANIZER;CN="The Gold Foundation":MAILTO:info@goldfoundation.com.au
END:VEVENT
BEGIN:VEVENT
DTSTART;TZID=Australia/Adelaide:20211115T180000
DTEND;TZID=Australia/Adelaide:20211115T193000
DTSTAMP:20260423T015855
CREATED:20210628T053931Z
LAST-MODIFIED:20211105T062759Z
UID:10002309-1636999200-1637004600@goldfoundation.com.au
SUMMARY:Cooking Connection Program (for ages 13-18)
DESCRIPTION:Gold Foundation’s cooking program for young people on the Autism Spectrum\, where each week the group uses teamwork to cook a different meal. \nFor program details\, please see here: https://goldfoundation.com.au/programs/cooking-connection/ \n 
URL:https://goldfoundation.com.au/event/cooking-connection-program-for-ages-13-18/2021-11-15/
LOCATION:The Gold Foundation\, 9-11 Carlisle Street\, Camden Park\, SA\, 5038\, Australia
ATTACH;FMTTYPE=image/jpeg:https://goldfoundation.com.au/wp-content/uploads/2021/10/IMG_1553-scaled-e1633646905732.jpg
ORGANIZER;CN="The Gold Foundation":MAILTO:info@goldfoundation.com.au
END:VEVENT
BEGIN:VEVENT
DTSTART;TZID=Australia/Adelaide:20211116T180000
DTEND;TZID=Australia/Adelaide:20211116T190000
DTSTAMP:20260423T015855
CREATED:20210527T090548Z
LAST-MODIFIED:20211105T063232Z
UID:10002284-1637085600-1637089200@goldfoundation.com.au
SUMMARY:What's the Buzz (Social Skills Training Program for ages 12-15)
DESCRIPTION:‘What’s the Buzz?’ (for ages 12-15) is a social and emotional skills training program created in 2019 to help older children on the Autism Spectrum improve social connections and navigate social situations. The program follows on from the highly successful ‘What’s the Buzz?’ (for ages 5-8) and ‘What’s the Buzz’ (for ages 9-11) which Gold Foundation has run for many years. \nMore information can be found here: https://goldfoundation.com.au/programs/whats-the-buzz-for-older-students/
URL:https://goldfoundation.com.au/event/whats-the-buzz-social-skills-training-program-for-ages-12-15/2021-11-16/
LOCATION:The Gold Foundation\, 9-11 Carlisle Street\, Camden Park\, SA\, 5038\, Australia
CATEGORIES:Test
ATTACH;FMTTYPE=image/jpeg:https://goldfoundation.com.au/wp-content/uploads/2021/10/WTB-Graduation-5-scaled.jpg
ORGANIZER;CN="The Gold Foundation":MAILTO:info@goldfoundation.com.au
END:VEVENT
BEGIN:VEVENT
DTSTART;TZID=Australia/Adelaide:20211117T170000
DTEND;TZID=Australia/Adelaide:20211117T183000
DTSTAMP:20260423T015855
CREATED:20210527T090001Z
LAST-MODIFIED:20211028T060604Z
UID:10002220-1637168400-1637173800@goldfoundation.com.au
SUMMARY:Cadets (Social Group for ages 8-12)
DESCRIPTION:Cadets is a social group for young people on the Autism Spectrum aged 8-12. \nMore information can be found here: https://goldfoundation.com.au/programs/cadets/
URL:https://goldfoundation.com.au/event/cadets-social-group-for-ages-8-12/2021-11-17/
LOCATION:The Gold Foundation\, 9-11 Carlisle Street\, Camden Park\, SA\, 5038\, Australia
ATTACH;FMTTYPE=image/jpeg:https://goldfoundation.com.au/wp-content/uploads/2021/05/IMG_1581-scaled-e1622105936687.jpg
ORGANIZER;CN="The Gold Foundation":MAILTO:info@goldfoundation.com.au
END:VEVENT
BEGIN:VEVENT
DTSTART;TZID=Australia/Adelaide:20211119T183000
DTEND;TZID=Australia/Adelaide:20211119T203000
DTSTAMP:20260423T015855
CREATED:20200723T032148Z
LAST-MODIFIED:20211105T062422Z
UID:10001994-1637346600-1637353800@goldfoundation.com.au
SUMMARY:Youth Group (13 to 18 years)
DESCRIPTION:Gold Foundation organises regular social groups for young people on the Autism Spectrum from 13 to 18 years of age. \nOur Youth Groups are held in a relaxed and fun environment\, where young people can be social together\, forge lasting friendships and\, informally\, develop social skills and connect with others their age. \nYouth Groups are operated by skilled facilitators while members also have input on their program for the year. \nYouth Group activities include\, but are not limited to: \n\n\n\nMovie nights;\nVideo games;\nBoard games\nArts & crafts;\n\n\n\n\nThemed nights (e.g. Halloween\, birthday parties\, World Autism Awareness Day… etc.);\nScience night;\nHealth & fitness;\nTable tennis; and\nExcursions & events (may incur separate fees).
URL:https://goldfoundation.com.au/event/youth-group-12-to-20-years-2021-02-12/2021-11-19/
LOCATION:The Gold Foundation\, 9-11 Carlisle Street\, Camden Park\, SA\, 5038\, Australia
ATTACH;FMTTYPE=image/jpeg:https://goldfoundation.com.au/wp-content/uploads/2021/09/Bowling-Laser-Skirmish-4-1.jpg
ORGANIZER;CN="The Gold Foundation":MAILTO:info@goldfoundation.com.au
END:VEVENT
BEGIN:VEVENT
DTSTART;TZID=Australia/Adelaide:20211120T180000
DTEND;TZID=Australia/Adelaide:20211120T200000
DTSTAMP:20260423T015855
CREATED:20200723T032933Z
LAST-MODIFIED:20211105T061859Z
UID:10002071-1637431200-1637438400@goldfoundation.com.au
SUMMARY:Not So Youth Group (18 years and over)
DESCRIPTION:Not So Youth Group is held in a relaxed and easy-going environment where attendees can be social\, find common ground and make friends as well as other meaningful\, long-term connections—all the while continuing to develop communication and social skills. \nNot So Youth Group is operated by skilled facilitators while attendees have input on their program and activities throughout the year. \nNot So Youth Group activities include: \n\nMovie nights;\nVideo games;\nBoard games;\nCooking lessons;\nArts & crafts;\nThemed nights (e.g. Halloween\, Birthday Parties\, World Autism Day… etc.);\nScience night;\nHealth & fitness;\nTable tennis;\nPhotography; and\nExcursions & events (may incur separate fees).
URL:https://goldfoundation.com.au/event/not-so-youth-group-18-years-and-over-2021-02-06/2021-11-20/
LOCATION:The Gold Foundation\, 9-11 Carlisle Street\, Camden Park\, SA\, 5038\, Australia
ATTACH;FMTTYPE=image/jpeg:https://goldfoundation.com.au/wp-content/uploads/2021/10/Space-Discovery-Centre-1.jpg
ORGANIZER;CN="The Gold Foundation":MAILTO:info@goldfoundation.com.au
END:VEVENT
BEGIN:VEVENT
DTSTART;TZID=Australia/Adelaide:20211122T180000
DTEND;TZID=Australia/Adelaide:20211122T193000
DTSTAMP:20260423T015855
CREATED:20210628T053931Z
LAST-MODIFIED:20211105T062759Z
UID:10002310-1637604000-1637609400@goldfoundation.com.au
SUMMARY:Cooking Connection Program (for ages 13-18)
DESCRIPTION:Gold Foundation’s cooking program for young people on the Autism Spectrum\, where each week the group uses teamwork to cook a different meal. \nFor program details\, please see here: https://goldfoundation.com.au/programs/cooking-connection/ \n 
URL:https://goldfoundation.com.au/event/cooking-connection-program-for-ages-13-18/2021-11-22/
LOCATION:The Gold Foundation\, 9-11 Carlisle Street\, Camden Park\, SA\, 5038\, Australia
ATTACH;FMTTYPE=image/jpeg:https://goldfoundation.com.au/wp-content/uploads/2021/10/IMG_1553-scaled-e1633646905732.jpg
ORGANIZER;CN="The Gold Foundation":MAILTO:info@goldfoundation.com.au
END:VEVENT
BEGIN:VEVENT
DTSTART;TZID=Australia/Adelaide:20211126T183000
DTEND;TZID=Australia/Adelaide:20211126T203000
DTSTAMP:20260423T015855
CREATED:20200723T032148Z
LAST-MODIFIED:20211105T062422Z
UID:10001995-1637951400-1637958600@goldfoundation.com.au
SUMMARY:Youth Group (13 to 18 years)
DESCRIPTION:Gold Foundation organises regular social groups for young people on the Autism Spectrum from 13 to 18 years of age. \nOur Youth Groups are held in a relaxed and fun environment\, where young people can be social together\, forge lasting friendships and\, informally\, develop social skills and connect with others their age. \nYouth Groups are operated by skilled facilitators while members also have input on their program for the year. \nYouth Group activities include\, but are not limited to: \n\n\n\nMovie nights;\nVideo games;\nBoard games\nArts & crafts;\n\n\n\n\nThemed nights (e.g. Halloween\, birthday parties\, World Autism Awareness Day… etc.);\nScience night;\nHealth & fitness;\nTable tennis; and\nExcursions & events (may incur separate fees).
URL:https://goldfoundation.com.au/event/youth-group-12-to-20-years-2021-02-12/2021-11-26/
LOCATION:The Gold Foundation\, 9-11 Carlisle Street\, Camden Park\, SA\, 5038\, Australia
ATTACH;FMTTYPE=image/jpeg:https://goldfoundation.com.au/wp-content/uploads/2021/09/Bowling-Laser-Skirmish-4-1.jpg
ORGANIZER;CN="The Gold Foundation":MAILTO:info@goldfoundation.com.au
END:VEVENT
END:VCALENDAR