
BEGIN:VCALENDAR
VERSION:2.0
PRODID:-//Gold Foundation - ECPv6.15.13.1//NONSGML v1.0//EN
CALSCALE:GREGORIAN
METHOD:PUBLISH
X-ORIGINAL-URL:https://goldfoundation.com.au
X-WR-CALDESC:Events for Gold Foundation
REFRESH-INTERVAL;VALUE=DURATION:PT1H
X-Robots-Tag:noindex
X-PUBLISHED-TTL:PT1H
BEGIN:VTIMEZONE
TZID:Australia/Adelaide
BEGIN:STANDARD
TZOFFSETFROM:+1030
TZOFFSETTO:+0930
TZNAME:ACST
DTSTART:20210403T163000
END:STANDARD
BEGIN:DAYLIGHT
TZOFFSETFROM:+0930
TZOFFSETTO:+1030
TZNAME:ACDT
DTSTART:20211002T163000
END:DAYLIGHT
BEGIN:STANDARD
TZOFFSETFROM:+1030
TZOFFSETTO:+0930
TZNAME:ACST
DTSTART:20220402T163000
END:STANDARD
BEGIN:DAYLIGHT
TZOFFSETFROM:+0930
TZOFFSETTO:+1030
TZNAME:ACDT
DTSTART:20221001T163000
END:DAYLIGHT
BEGIN:STANDARD
TZOFFSETFROM:+1030
TZOFFSETTO:+0930
TZNAME:ACST
DTSTART:20230401T163000
END:STANDARD
BEGIN:DAYLIGHT
TZOFFSETFROM:+0930
TZOFFSETTO:+1030
TZNAME:ACDT
DTSTART:20230930T163000
END:DAYLIGHT
END:VTIMEZONE
BEGIN:VEVENT
DTSTART;TZID=Australia/Adelaide:20220204T183000
DTEND;TZID=Australia/Adelaide:20220204T203000
DTSTAMP:20260422T220607
CREATED:20200723T032148Z
LAST-MODIFIED:20211105T062422Z
UID:10002003-1643999400-1644006600@goldfoundation.com.au
SUMMARY:Youth Group (13 to 18 years)
DESCRIPTION:Gold Foundation organises regular social groups for young people on the Autism Spectrum from 13 to 18 years of age. \nOur Youth Groups are held in a relaxed and fun environment\, where young people can be social together\, forge lasting friendships and\, informally\, develop social skills and connect with others their age. \nYouth Groups are operated by skilled facilitators while members also have input on their program for the year. \nYouth Group activities include\, but are not limited to: \n\n\n\nMovie nights;\nVideo games;\nBoard games\nArts & crafts;\n\n\n\n\nThemed nights (e.g. Halloween\, birthday parties\, World Autism Awareness Day… etc.);\nScience night;\nHealth & fitness;\nTable tennis; and\nExcursions & events (may incur separate fees).
URL:https://goldfoundation.com.au/event/youth-group-12-to-20-years-2021-02-12/2022-02-04/
LOCATION:The Gold Foundation\, 9-11 Carlisle Street\, Camden Park\, SA\, 5038\, Australia
ATTACH;FMTTYPE=image/jpeg:https://goldfoundation.com.au/wp-content/uploads/2021/09/Bowling-Laser-Skirmish-4-1.jpg
ORGANIZER;CN="The Gold Foundation":MAILTO:info@goldfoundation.com.au
END:VEVENT
BEGIN:VEVENT
DTSTART;TZID=Australia/Adelaide:20220205T180000
DTEND;TZID=Australia/Adelaide:20220205T200000
DTSTAMP:20260422T220607
CREATED:20211028T035038Z
LAST-MODIFIED:20211105T061350Z
UID:10002363-1644084000-1644091200@goldfoundation.com.au
SUMMARY:Not So Youth Group (ages 18+)
DESCRIPTION:Not So Youth Group is held in a relaxed and easy-going environment where attendees can be social\, find common ground and make friends as well as other meaningful\, long-term connections—all the while continuing to develop communication and social skills. \nNot So Youth Group is operated by skilled facilitators while attendees have input on their program and activities throughout the year. \nNot So Youth Group activities include: \n\nMovie nights;\nVideo games;\nBoard games;\nCooking lessons;\nArts & crafts;\nThemed nights (e.g. Halloween\, Birthday Parties\, World Autism Day… etc.);\nScience night;\nHealth & fitness;\nTable tennis;\nPhotography; and\nExcursions & events (may incur separate fees).
URL:https://goldfoundation.com.au/event/not-so-youth-group-ages-18/2022-02-05/
LOCATION:The Gold Foundation\, 9-11 Carlisle Street\, Camden Park\, SA\, 5038\, Australia
ATTACH;FMTTYPE=image/jpeg:https://goldfoundation.com.au/wp-content/uploads/2021/10/Space-Discovery-Centre-1.jpg
ORGANIZER;CN="The Gold Foundation":MAILTO:info@goldfoundation.com.au
END:VEVENT
BEGIN:VEVENT
DTSTART;TZID=Australia/Adelaide:20220211T183000
DTEND;TZID=Australia/Adelaide:20220211T203000
DTSTAMP:20260422T220607
CREATED:20200723T032148Z
LAST-MODIFIED:20211105T062422Z
UID:10002004-1644604200-1644611400@goldfoundation.com.au
SUMMARY:Youth Group (13 to 18 years)
DESCRIPTION:Gold Foundation organises regular social groups for young people on the Autism Spectrum from 13 to 18 years of age. \nOur Youth Groups are held in a relaxed and fun environment\, where young people can be social together\, forge lasting friendships and\, informally\, develop social skills and connect with others their age. \nYouth Groups are operated by skilled facilitators while members also have input on their program for the year. \nYouth Group activities include\, but are not limited to: \n\n\n\nMovie nights;\nVideo games;\nBoard games\nArts & crafts;\n\n\n\n\nThemed nights (e.g. Halloween\, birthday parties\, World Autism Awareness Day… etc.);\nScience night;\nHealth & fitness;\nTable tennis; and\nExcursions & events (may incur separate fees).
URL:https://goldfoundation.com.au/event/youth-group-12-to-20-years-2021-02-12/2022-02-11/
LOCATION:The Gold Foundation\, 9-11 Carlisle Street\, Camden Park\, SA\, 5038\, Australia
ATTACH;FMTTYPE=image/jpeg:https://goldfoundation.com.au/wp-content/uploads/2021/09/Bowling-Laser-Skirmish-4-1.jpg
ORGANIZER;CN="The Gold Foundation":MAILTO:info@goldfoundation.com.au
END:VEVENT
BEGIN:VEVENT
DTSTART;TZID=Australia/Adelaide:20220212T180000
DTEND;TZID=Australia/Adelaide:20220212T200000
DTSTAMP:20260422T220607
CREATED:20211028T035038Z
LAST-MODIFIED:20211105T061350Z
UID:10002364-1644688800-1644696000@goldfoundation.com.au
SUMMARY:Not So Youth Group (ages 18+)
DESCRIPTION:Not So Youth Group is held in a relaxed and easy-going environment where attendees can be social\, find common ground and make friends as well as other meaningful\, long-term connections—all the while continuing to develop communication and social skills. \nNot So Youth Group is operated by skilled facilitators while attendees have input on their program and activities throughout the year. \nNot So Youth Group activities include: \n\nMovie nights;\nVideo games;\nBoard games;\nCooking lessons;\nArts & crafts;\nThemed nights (e.g. Halloween\, Birthday Parties\, World Autism Day… etc.);\nScience night;\nHealth & fitness;\nTable tennis;\nPhotography; and\nExcursions & events (may incur separate fees).
URL:https://goldfoundation.com.au/event/not-so-youth-group-ages-18/2022-02-12/
LOCATION:The Gold Foundation\, 9-11 Carlisle Street\, Camden Park\, SA\, 5038\, Australia
ATTACH;FMTTYPE=image/jpeg:https://goldfoundation.com.au/wp-content/uploads/2021/10/Space-Discovery-Centre-1.jpg
ORGANIZER;CN="The Gold Foundation":MAILTO:info@goldfoundation.com.au
END:VEVENT
BEGIN:VEVENT
DTSTART;TZID=Australia/Adelaide:20220218T183000
DTEND;TZID=Australia/Adelaide:20220218T203000
DTSTAMP:20260422T220607
CREATED:20200723T032148Z
LAST-MODIFIED:20211105T062422Z
UID:10002005-1645209000-1645216200@goldfoundation.com.au
SUMMARY:Youth Group (13 to 18 years)
DESCRIPTION:Gold Foundation organises regular social groups for young people on the Autism Spectrum from 13 to 18 years of age. \nOur Youth Groups are held in a relaxed and fun environment\, where young people can be social together\, forge lasting friendships and\, informally\, develop social skills and connect with others their age. \nYouth Groups are operated by skilled facilitators while members also have input on their program for the year. \nYouth Group activities include\, but are not limited to: \n\n\n\nMovie nights;\nVideo games;\nBoard games\nArts & crafts;\n\n\n\n\nThemed nights (e.g. Halloween\, birthday parties\, World Autism Awareness Day… etc.);\nScience night;\nHealth & fitness;\nTable tennis; and\nExcursions & events (may incur separate fees).
URL:https://goldfoundation.com.au/event/youth-group-12-to-20-years-2021-02-12/2022-02-18/
LOCATION:The Gold Foundation\, 9-11 Carlisle Street\, Camden Park\, SA\, 5038\, Australia
ATTACH;FMTTYPE=image/jpeg:https://goldfoundation.com.au/wp-content/uploads/2021/09/Bowling-Laser-Skirmish-4-1.jpg
ORGANIZER;CN="The Gold Foundation":MAILTO:info@goldfoundation.com.au
END:VEVENT
BEGIN:VEVENT
DTSTART;TZID=Australia/Adelaide:20220219T180000
DTEND;TZID=Australia/Adelaide:20220219T200000
DTSTAMP:20260422T220607
CREATED:20211028T035038Z
LAST-MODIFIED:20211105T061350Z
UID:10002365-1645293600-1645300800@goldfoundation.com.au
SUMMARY:Not So Youth Group (ages 18+)
DESCRIPTION:Not So Youth Group is held in a relaxed and easy-going environment where attendees can be social\, find common ground and make friends as well as other meaningful\, long-term connections—all the while continuing to develop communication and social skills. \nNot So Youth Group is operated by skilled facilitators while attendees have input on their program and activities throughout the year. \nNot So Youth Group activities include: \n\nMovie nights;\nVideo games;\nBoard games;\nCooking lessons;\nArts & crafts;\nThemed nights (e.g. Halloween\, Birthday Parties\, World Autism Day… etc.);\nScience night;\nHealth & fitness;\nTable tennis;\nPhotography; and\nExcursions & events (may incur separate fees).
URL:https://goldfoundation.com.au/event/not-so-youth-group-ages-18/2022-02-19/
LOCATION:The Gold Foundation\, 9-11 Carlisle Street\, Camden Park\, SA\, 5038\, Australia
ATTACH;FMTTYPE=image/jpeg:https://goldfoundation.com.au/wp-content/uploads/2021/10/Space-Discovery-Centre-1.jpg
ORGANIZER;CN="The Gold Foundation":MAILTO:info@goldfoundation.com.au
END:VEVENT
BEGIN:VEVENT
DTSTART;TZID=Australia/Adelaide:20220223T170000
DTEND;TZID=Australia/Adelaide:20220223T183000
DTSTAMP:20260422T220607
CREATED:20211215T021251Z
LAST-MODIFIED:20220531T084448Z
UID:10002428-1645635600-1645641000@goldfoundation.com.au
SUMMARY:Cadets (Social Group ages 8-12)
DESCRIPTION:Cadets is an activity-based social group designed to help young people on the autism spectrum aged 8-12 develop friendships and improve their social well-being. Through conversations and activities\, participants have the opportunity to improve their confidence and build their social skills in a safe and fun environment.
URL:https://goldfoundation.com.au/event/cadets-social-group-ages-8-12/2022-02-23/
LOCATION:The Gold Foundation\, 9-11 Carlisle Street\, Camden Park\, SA\, 5038\, Australia
ATTACH;FMTTYPE=image/jpeg:https://goldfoundation.com.au/wp-content/uploads/2021/10/IMG_1581-scaled.jpg
ORGANIZER;CN="The Gold Foundation":MAILTO:info@goldfoundation.com.au
END:VEVENT
BEGIN:VEVENT
DTSTART;TZID=Australia/Adelaide:20220225T183000
DTEND;TZID=Australia/Adelaide:20220225T203000
DTSTAMP:20260422T220607
CREATED:20200723T032148Z
LAST-MODIFIED:20211105T062422Z
UID:10002006-1645813800-1645821000@goldfoundation.com.au
SUMMARY:Youth Group (13 to 18 years)
DESCRIPTION:Gold Foundation organises regular social groups for young people on the Autism Spectrum from 13 to 18 years of age. \nOur Youth Groups are held in a relaxed and fun environment\, where young people can be social together\, forge lasting friendships and\, informally\, develop social skills and connect with others their age. \nYouth Groups are operated by skilled facilitators while members also have input on their program for the year. \nYouth Group activities include\, but are not limited to: \n\n\n\nMovie nights;\nVideo games;\nBoard games\nArts & crafts;\n\n\n\n\nThemed nights (e.g. Halloween\, birthday parties\, World Autism Awareness Day… etc.);\nScience night;\nHealth & fitness;\nTable tennis; and\nExcursions & events (may incur separate fees).
URL:https://goldfoundation.com.au/event/youth-group-12-to-20-years-2021-02-12/2022-02-25/
LOCATION:The Gold Foundation\, 9-11 Carlisle Street\, Camden Park\, SA\, 5038\, Australia
ATTACH;FMTTYPE=image/jpeg:https://goldfoundation.com.au/wp-content/uploads/2021/09/Bowling-Laser-Skirmish-4-1.jpg
ORGANIZER;CN="The Gold Foundation":MAILTO:info@goldfoundation.com.au
END:VEVENT
BEGIN:VEVENT
DTSTART;TZID=Australia/Adelaide:20220226T180000
DTEND;TZID=Australia/Adelaide:20220226T200000
DTSTAMP:20260422T220607
CREATED:20211028T035038Z
LAST-MODIFIED:20211105T061350Z
UID:10002366-1645898400-1645905600@goldfoundation.com.au
SUMMARY:Not So Youth Group (ages 18+)
DESCRIPTION:Not So Youth Group is held in a relaxed and easy-going environment where attendees can be social\, find common ground and make friends as well as other meaningful\, long-term connections—all the while continuing to develop communication and social skills. \nNot So Youth Group is operated by skilled facilitators while attendees have input on their program and activities throughout the year. \nNot So Youth Group activities include: \n\nMovie nights;\nVideo games;\nBoard games;\nCooking lessons;\nArts & crafts;\nThemed nights (e.g. Halloween\, Birthday Parties\, World Autism Day… etc.);\nScience night;\nHealth & fitness;\nTable tennis;\nPhotography; and\nExcursions & events (may incur separate fees).
URL:https://goldfoundation.com.au/event/not-so-youth-group-ages-18/2022-02-26/
LOCATION:The Gold Foundation\, 9-11 Carlisle Street\, Camden Park\, SA\, 5038\, Australia
ATTACH;FMTTYPE=image/jpeg:https://goldfoundation.com.au/wp-content/uploads/2021/10/Space-Discovery-Centre-1.jpg
ORGANIZER;CN="The Gold Foundation":MAILTO:info@goldfoundation.com.au
END:VEVENT
END:VCALENDAR