
BEGIN:VCALENDAR
VERSION:2.0
PRODID:-//Gold Foundation - ECPv6.15.13.1//NONSGML v1.0//EN
CALSCALE:GREGORIAN
METHOD:PUBLISH
X-WR-CALNAME:Gold Foundation
X-ORIGINAL-URL:https://goldfoundation.com.au
X-WR-CALDESC:Events for Gold Foundation
REFRESH-INTERVAL;VALUE=DURATION:PT1H
X-Robots-Tag:noindex
X-PUBLISHED-TTL:PT1H
BEGIN:VTIMEZONE
TZID:Australia/Adelaide
BEGIN:STANDARD
TZOFFSETFROM:+1030
TZOFFSETTO:+0930
TZNAME:ACST
DTSTART:20210403T163000
END:STANDARD
BEGIN:DAYLIGHT
TZOFFSETFROM:+0930
TZOFFSETTO:+1030
TZNAME:ACDT
DTSTART:20211002T163000
END:DAYLIGHT
BEGIN:STANDARD
TZOFFSETFROM:+1030
TZOFFSETTO:+0930
TZNAME:ACST
DTSTART:20220402T163000
END:STANDARD
BEGIN:DAYLIGHT
TZOFFSETFROM:+0930
TZOFFSETTO:+1030
TZNAME:ACDT
DTSTART:20221001T163000
END:DAYLIGHT
BEGIN:STANDARD
TZOFFSETFROM:+1030
TZOFFSETTO:+0930
TZNAME:ACST
DTSTART:20230401T163000
END:STANDARD
BEGIN:DAYLIGHT
TZOFFSETFROM:+0930
TZOFFSETTO:+1030
TZNAME:ACDT
DTSTART:20230930T163000
END:DAYLIGHT
END:VTIMEZONE
BEGIN:VEVENT
DTSTART;TZID=Australia/Adelaide:20220401T183000
DTEND;TZID=Australia/Adelaide:20220401T203000
DTSTAMP:20260422T191504
CREATED:20200723T032148Z
LAST-MODIFIED:20211105T062422Z
UID:10002011-1648837800-1648845000@goldfoundation.com.au
SUMMARY:Youth Group (13 to 18 years)
DESCRIPTION:Gold Foundation organises regular social groups for young people on the Autism Spectrum from 13 to 18 years of age. \nOur Youth Groups are held in a relaxed and fun environment\, where young people can be social together\, forge lasting friendships and\, informally\, develop social skills and connect with others their age. \nYouth Groups are operated by skilled facilitators while members also have input on their program for the year. \nYouth Group activities include\, but are not limited to: \n\n\n\nMovie nights;\nVideo games;\nBoard games\nArts & crafts;\n\n\n\n\nThemed nights (e.g. Halloween\, birthday parties\, World Autism Awareness Day… etc.);\nScience night;\nHealth & fitness;\nTable tennis; and\nExcursions & events (may incur separate fees).
URL:https://goldfoundation.com.au/event/youth-group-12-to-20-years-2021-02-12/2022-04-01/
LOCATION:The Gold Foundation\, 9-11 Carlisle Street\, Camden Park\, SA\, 5038\, Australia
ATTACH;FMTTYPE=image/jpeg:https://goldfoundation.com.au/wp-content/uploads/2021/09/Bowling-Laser-Skirmish-4-1.jpg
ORGANIZER;CN="The Gold Foundation":MAILTO:info@goldfoundation.com.au
END:VEVENT
BEGIN:VEVENT
DTSTART;TZID=Australia/Adelaide:20220402T180000
DTEND;TZID=Australia/Adelaide:20220402T200000
DTSTAMP:20260422T191504
CREATED:20211028T035038Z
LAST-MODIFIED:20211105T061350Z
UID:10002371-1648922400-1648929600@goldfoundation.com.au
SUMMARY:Not So Youth Group (ages 18+)
DESCRIPTION:Not So Youth Group is held in a relaxed and easy-going environment where attendees can be social\, find common ground and make friends as well as other meaningful\, long-term connections—all the while continuing to develop communication and social skills. \nNot So Youth Group is operated by skilled facilitators while attendees have input on their program and activities throughout the year. \nNot So Youth Group activities include: \n\nMovie nights;\nVideo games;\nBoard games;\nCooking lessons;\nArts & crafts;\nThemed nights (e.g. Halloween\, Birthday Parties\, World Autism Day… etc.);\nScience night;\nHealth & fitness;\nTable tennis;\nPhotography; and\nExcursions & events (may incur separate fees).
URL:https://goldfoundation.com.au/event/not-so-youth-group-ages-18/2022-04-02/
LOCATION:The Gold Foundation\, 9-11 Carlisle Street\, Camden Park\, SA\, 5038\, Australia
ATTACH;FMTTYPE=image/jpeg:https://goldfoundation.com.au/wp-content/uploads/2021/10/Space-Discovery-Centre-1.jpg
ORGANIZER;CN="The Gold Foundation":MAILTO:info@goldfoundation.com.au
END:VEVENT
BEGIN:VEVENT
DTSTART;TZID=Australia/Adelaide:20220405T180000
DTEND;TZID=Australia/Adelaide:20220405T190000
DTSTAMP:20260422T191504
CREATED:20211215T021840Z
LAST-MODIFIED:20220531T084718Z
UID:10002446-1649181600-1649185200@goldfoundation.com.au
SUMMARY:What’s the Buzz (ages 9-11)
DESCRIPTION:‘What’s the Buzz? (ages 9-11)’\, also known as ‘What’s the Buzz for Primary Students’\, is a highly structured social and emotional literacy program designed to help young people learn social skills\, navigate the social environment and understand their own emotions.
URL:https://goldfoundation.com.au/event/whats-the-buzz-ages-9-11/2022-04-05/
LOCATION:The Gold Foundation\, 9-11 Carlisle Street\, Camden Park\, SA\, 5038\, Australia
ATTACH;FMTTYPE=image/jpeg:https://goldfoundation.com.au/wp-content/uploads/2021/10/WTB-Graduation-2-scaled.jpg
ORGANIZER;CN="The Gold Foundation":MAILTO:info@goldfoundation.com.au
END:VEVENT
BEGIN:VEVENT
DTSTART;TZID=Australia/Adelaide:20220406T170000
DTEND;TZID=Australia/Adelaide:20220406T180000
DTSTAMP:20260422T191504
CREATED:20211215T020626Z
LAST-MODIFIED:20220601T020530Z
UID:10002414-1649264400-1649268000@goldfoundation.com.au
SUMMARY:What’s the Buzz (ages 5-8)
DESCRIPTION:‘What’s the Buzz? (ages 5-8)’\, also known as ‘What’s the Buzz for Early Learners’\, is a highly structured social and emotional literacy program designed to help young people learn social skills\, navigate the social environment and understand their own emotions.
URL:https://goldfoundation.com.au/event/whats-the-buzz-ages-5-8/2022-04-06/
LOCATION:The Gold Foundation\, 9-11 Carlisle Street\, Camden Park\, SA\, 5038\, Australia
ATTACH;FMTTYPE=image/jpeg:https://goldfoundation.com.au/wp-content/uploads/2021/01/Whats-The-Buzz-Graduation-4.jpg
ORGANIZER;CN="The Gold Foundation":MAILTO:info@goldfoundation.com.au
END:VEVENT
BEGIN:VEVENT
DTSTART;TZID=Australia/Adelaide:20220406T170000
DTEND;TZID=Australia/Adelaide:20220406T183000
DTSTAMP:20260422T191504
CREATED:20211215T021251Z
LAST-MODIFIED:20220531T084448Z
UID:10002434-1649264400-1649269800@goldfoundation.com.au
SUMMARY:Cadets (Social Group ages 8-12)
DESCRIPTION:Cadets is an activity-based social group designed to help young people on the autism spectrum aged 8-12 develop friendships and improve their social well-being. Through conversations and activities\, participants have the opportunity to improve their confidence and build their social skills in a safe and fun environment.
URL:https://goldfoundation.com.au/event/cadets-social-group-ages-8-12/2022-04-06/
LOCATION:The Gold Foundation\, 9-11 Carlisle Street\, Camden Park\, SA\, 5038\, Australia
ATTACH;FMTTYPE=image/jpeg:https://goldfoundation.com.au/wp-content/uploads/2021/10/IMG_1581-scaled.jpg
ORGANIZER;CN="The Gold Foundation":MAILTO:info@goldfoundation.com.au
END:VEVENT
BEGIN:VEVENT
DTSTART;TZID=Australia/Adelaide:20220407T180000
DTEND;TZID=Australia/Adelaide:20220407T193000
DTSTAMP:20260422T191504
CREATED:20220531T083739Z
LAST-MODIFIED:20220707T063214Z
UID:10002460-1649354400-1649359800@goldfoundation.com.au
SUMMARY:Work Ready Program (ages 16+)
DESCRIPTION:Gold Foundation in collaboration with CBS Inc introduce the Work Ready Program. This revolutionary program gives autistic young people the opportunity to achieve the valuable skills needed to gain meaningful employment.
URL:https://goldfoundation.com.au/event/work-ready-program-ages-16/2022-04-07/
ATTACH;FMTTYPE=image/jpeg:https://goldfoundation.com.au/wp-content/uploads/2022/05/Work-Ready-1.jpg
END:VEVENT
BEGIN:VEVENT
DTSTART;TZID=Australia/Adelaide:20220408T183000
DTEND;TZID=Australia/Adelaide:20220408T203000
DTSTAMP:20260422T191504
CREATED:20200723T032148Z
LAST-MODIFIED:20211105T062422Z
UID:10002012-1649442600-1649449800@goldfoundation.com.au
SUMMARY:Youth Group (13 to 18 years)
DESCRIPTION:Gold Foundation organises regular social groups for young people on the Autism Spectrum from 13 to 18 years of age. \nOur Youth Groups are held in a relaxed and fun environment\, where young people can be social together\, forge lasting friendships and\, informally\, develop social skills and connect with others their age. \nYouth Groups are operated by skilled facilitators while members also have input on their program for the year. \nYouth Group activities include\, but are not limited to: \n\n\n\nMovie nights;\nVideo games;\nBoard games\nArts & crafts;\n\n\n\n\nThemed nights (e.g. Halloween\, birthday parties\, World Autism Awareness Day… etc.);\nScience night;\nHealth & fitness;\nTable tennis; and\nExcursions & events (may incur separate fees).
URL:https://goldfoundation.com.au/event/youth-group-12-to-20-years-2021-02-12/2022-04-08/
LOCATION:The Gold Foundation\, 9-11 Carlisle Street\, Camden Park\, SA\, 5038\, Australia
ATTACH;FMTTYPE=image/jpeg:https://goldfoundation.com.au/wp-content/uploads/2021/09/Bowling-Laser-Skirmish-4-1.jpg
ORGANIZER;CN="The Gold Foundation":MAILTO:info@goldfoundation.com.au
END:VEVENT
BEGIN:VEVENT
DTSTART;TZID=Australia/Adelaide:20220409T180000
DTEND;TZID=Australia/Adelaide:20220409T200000
DTSTAMP:20260422T191504
CREATED:20211028T035038Z
LAST-MODIFIED:20211105T061350Z
UID:10002372-1649527200-1649534400@goldfoundation.com.au
SUMMARY:Not So Youth Group (ages 18+)
DESCRIPTION:Not So Youth Group is held in a relaxed and easy-going environment where attendees can be social\, find common ground and make friends as well as other meaningful\, long-term connections—all the while continuing to develop communication and social skills. \nNot So Youth Group is operated by skilled facilitators while attendees have input on their program and activities throughout the year. \nNot So Youth Group activities include: \n\nMovie nights;\nVideo games;\nBoard games;\nCooking lessons;\nArts & crafts;\nThemed nights (e.g. Halloween\, Birthday Parties\, World Autism Day… etc.);\nScience night;\nHealth & fitness;\nTable tennis;\nPhotography; and\nExcursions & events (may incur separate fees).
URL:https://goldfoundation.com.au/event/not-so-youth-group-ages-18/2022-04-09/
LOCATION:The Gold Foundation\, 9-11 Carlisle Street\, Camden Park\, SA\, 5038\, Australia
ATTACH;FMTTYPE=image/jpeg:https://goldfoundation.com.au/wp-content/uploads/2021/10/Space-Discovery-Centre-1.jpg
ORGANIZER;CN="The Gold Foundation":MAILTO:info@goldfoundation.com.au
END:VEVENT
BEGIN:VEVENT
DTSTART;TZID=Australia/Adelaide:20220412T180000
DTEND;TZID=Australia/Adelaide:20220412T190000
DTSTAMP:20260422T191504
CREATED:20211215T021840Z
LAST-MODIFIED:20220531T084718Z
UID:10002447-1649786400-1649790000@goldfoundation.com.au
SUMMARY:What’s the Buzz (ages 9-11)
DESCRIPTION:‘What’s the Buzz? (ages 9-11)’\, also known as ‘What’s the Buzz for Primary Students’\, is a highly structured social and emotional literacy program designed to help young people learn social skills\, navigate the social environment and understand their own emotions.
URL:https://goldfoundation.com.au/event/whats-the-buzz-ages-9-11/2022-04-12/
LOCATION:The Gold Foundation\, 9-11 Carlisle Street\, Camden Park\, SA\, 5038\, Australia
ATTACH;FMTTYPE=image/jpeg:https://goldfoundation.com.au/wp-content/uploads/2021/10/WTB-Graduation-2-scaled.jpg
ORGANIZER;CN="The Gold Foundation":MAILTO:info@goldfoundation.com.au
END:VEVENT
BEGIN:VEVENT
DTSTART;TZID=Australia/Adelaide:20220413T170000
DTEND;TZID=Australia/Adelaide:20220413T180000
DTSTAMP:20260422T191504
CREATED:20211215T020626Z
LAST-MODIFIED:20220601T020530Z
UID:10002415-1649869200-1649872800@goldfoundation.com.au
SUMMARY:What’s the Buzz (ages 5-8)
DESCRIPTION:‘What’s the Buzz? (ages 5-8)’\, also known as ‘What’s the Buzz for Early Learners’\, is a highly structured social and emotional literacy program designed to help young people learn social skills\, navigate the social environment and understand their own emotions.
URL:https://goldfoundation.com.au/event/whats-the-buzz-ages-5-8/2022-04-13/
LOCATION:The Gold Foundation\, 9-11 Carlisle Street\, Camden Park\, SA\, 5038\, Australia
ATTACH;FMTTYPE=image/jpeg:https://goldfoundation.com.au/wp-content/uploads/2021/01/Whats-The-Buzz-Graduation-4.jpg
ORGANIZER;CN="The Gold Foundation":MAILTO:info@goldfoundation.com.au
END:VEVENT
BEGIN:VEVENT
DTSTART;TZID=Australia/Adelaide:20220413T170000
DTEND;TZID=Australia/Adelaide:20220413T183000
DTSTAMP:20260422T191504
CREATED:20211215T021251Z
LAST-MODIFIED:20220531T084448Z
UID:10002435-1649869200-1649874600@goldfoundation.com.au
SUMMARY:Cadets (Social Group ages 8-12)
DESCRIPTION:Cadets is an activity-based social group designed to help young people on the autism spectrum aged 8-12 develop friendships and improve their social well-being. Through conversations and activities\, participants have the opportunity to improve their confidence and build their social skills in a safe and fun environment.
URL:https://goldfoundation.com.au/event/cadets-social-group-ages-8-12/2022-04-13/
LOCATION:The Gold Foundation\, 9-11 Carlisle Street\, Camden Park\, SA\, 5038\, Australia
ATTACH;FMTTYPE=image/jpeg:https://goldfoundation.com.au/wp-content/uploads/2021/10/IMG_1581-scaled.jpg
ORGANIZER;CN="The Gold Foundation":MAILTO:info@goldfoundation.com.au
END:VEVENT
BEGIN:VEVENT
DTSTART;TZID=Australia/Adelaide:20220414T180000
DTEND;TZID=Australia/Adelaide:20220414T193000
DTSTAMP:20260422T191504
CREATED:20220531T083739Z
LAST-MODIFIED:20220707T063214Z
UID:10002461-1649959200-1649964600@goldfoundation.com.au
SUMMARY:Work Ready Program (ages 16+)
DESCRIPTION:Gold Foundation in collaboration with CBS Inc introduce the Work Ready Program. This revolutionary program gives autistic young people the opportunity to achieve the valuable skills needed to gain meaningful employment.
URL:https://goldfoundation.com.au/event/work-ready-program-ages-16/2022-04-14/
ATTACH;FMTTYPE=image/jpeg:https://goldfoundation.com.au/wp-content/uploads/2022/05/Work-Ready-1.jpg
END:VEVENT
BEGIN:VEVENT
DTSTART;TZID=Australia/Adelaide:20220415T183000
DTEND;TZID=Australia/Adelaide:20220415T203000
DTSTAMP:20260422T191504
CREATED:20200723T032148Z
LAST-MODIFIED:20211105T062422Z
UID:10002013-1650047400-1650054600@goldfoundation.com.au
SUMMARY:Youth Group (13 to 18 years)
DESCRIPTION:Gold Foundation organises regular social groups for young people on the Autism Spectrum from 13 to 18 years of age. \nOur Youth Groups are held in a relaxed and fun environment\, where young people can be social together\, forge lasting friendships and\, informally\, develop social skills and connect with others their age. \nYouth Groups are operated by skilled facilitators while members also have input on their program for the year. \nYouth Group activities include\, but are not limited to: \n\n\n\nMovie nights;\nVideo games;\nBoard games\nArts & crafts;\n\n\n\n\nThemed nights (e.g. Halloween\, birthday parties\, World Autism Awareness Day… etc.);\nScience night;\nHealth & fitness;\nTable tennis; and\nExcursions & events (may incur separate fees).
URL:https://goldfoundation.com.au/event/youth-group-12-to-20-years-2021-02-12/2022-04-15/
LOCATION:The Gold Foundation\, 9-11 Carlisle Street\, Camden Park\, SA\, 5038\, Australia
ATTACH;FMTTYPE=image/jpeg:https://goldfoundation.com.au/wp-content/uploads/2021/09/Bowling-Laser-Skirmish-4-1.jpg
ORGANIZER;CN="The Gold Foundation":MAILTO:info@goldfoundation.com.au
END:VEVENT
BEGIN:VEVENT
DTSTART;TZID=Australia/Adelaide:20220416T180000
DTEND;TZID=Australia/Adelaide:20220416T200000
DTSTAMP:20260422T191504
CREATED:20211028T035038Z
LAST-MODIFIED:20211105T061350Z
UID:10002373-1650132000-1650139200@goldfoundation.com.au
SUMMARY:Not So Youth Group (ages 18+)
DESCRIPTION:Not So Youth Group is held in a relaxed and easy-going environment where attendees can be social\, find common ground and make friends as well as other meaningful\, long-term connections—all the while continuing to develop communication and social skills. \nNot So Youth Group is operated by skilled facilitators while attendees have input on their program and activities throughout the year. \nNot So Youth Group activities include: \n\nMovie nights;\nVideo games;\nBoard games;\nCooking lessons;\nArts & crafts;\nThemed nights (e.g. Halloween\, Birthday Parties\, World Autism Day… etc.);\nScience night;\nHealth & fitness;\nTable tennis;\nPhotography; and\nExcursions & events (may incur separate fees).
URL:https://goldfoundation.com.au/event/not-so-youth-group-ages-18/2022-04-16/
LOCATION:The Gold Foundation\, 9-11 Carlisle Street\, Camden Park\, SA\, 5038\, Australia
ATTACH;FMTTYPE=image/jpeg:https://goldfoundation.com.au/wp-content/uploads/2021/10/Space-Discovery-Centre-1.jpg
ORGANIZER;CN="The Gold Foundation":MAILTO:info@goldfoundation.com.au
END:VEVENT
BEGIN:VEVENT
DTSTART;TZID=Australia/Adelaide:20220419T180000
DTEND;TZID=Australia/Adelaide:20220419T190000
DTSTAMP:20260422T191504
CREATED:20211215T021840Z
LAST-MODIFIED:20220531T084718Z
UID:10002448-1650391200-1650394800@goldfoundation.com.au
SUMMARY:What’s the Buzz (ages 9-11)
DESCRIPTION:‘What’s the Buzz? (ages 9-11)’\, also known as ‘What’s the Buzz for Primary Students’\, is a highly structured social and emotional literacy program designed to help young people learn social skills\, navigate the social environment and understand their own emotions.
URL:https://goldfoundation.com.au/event/whats-the-buzz-ages-9-11/2022-04-19/
LOCATION:The Gold Foundation\, 9-11 Carlisle Street\, Camden Park\, SA\, 5038\, Australia
ATTACH;FMTTYPE=image/jpeg:https://goldfoundation.com.au/wp-content/uploads/2021/10/WTB-Graduation-2-scaled.jpg
ORGANIZER;CN="The Gold Foundation":MAILTO:info@goldfoundation.com.au
END:VEVENT
BEGIN:VEVENT
DTSTART;TZID=Australia/Adelaide:20220420T170000
DTEND;TZID=Australia/Adelaide:20220420T180000
DTSTAMP:20260422T191504
CREATED:20211215T020626Z
LAST-MODIFIED:20220601T020530Z
UID:10002416-1650474000-1650477600@goldfoundation.com.au
SUMMARY:What’s the Buzz (ages 5-8)
DESCRIPTION:‘What’s the Buzz? (ages 5-8)’\, also known as ‘What’s the Buzz for Early Learners’\, is a highly structured social and emotional literacy program designed to help young people learn social skills\, navigate the social environment and understand their own emotions.
URL:https://goldfoundation.com.au/event/whats-the-buzz-ages-5-8/2022-04-20/
LOCATION:The Gold Foundation\, 9-11 Carlisle Street\, Camden Park\, SA\, 5038\, Australia
ATTACH;FMTTYPE=image/jpeg:https://goldfoundation.com.au/wp-content/uploads/2021/01/Whats-The-Buzz-Graduation-4.jpg
ORGANIZER;CN="The Gold Foundation":MAILTO:info@goldfoundation.com.au
END:VEVENT
BEGIN:VEVENT
DTSTART;TZID=Australia/Adelaide:20220421T180000
DTEND;TZID=Australia/Adelaide:20220421T193000
DTSTAMP:20260422T191505
CREATED:20220531T083739Z
LAST-MODIFIED:20220707T063214Z
UID:10002462-1650564000-1650569400@goldfoundation.com.au
SUMMARY:Work Ready Program (ages 16+)
DESCRIPTION:Gold Foundation in collaboration with CBS Inc introduce the Work Ready Program. This revolutionary program gives autistic young people the opportunity to achieve the valuable skills needed to gain meaningful employment.
URL:https://goldfoundation.com.au/event/work-ready-program-ages-16/2022-04-21/
ATTACH;FMTTYPE=image/jpeg:https://goldfoundation.com.au/wp-content/uploads/2022/05/Work-Ready-1.jpg
END:VEVENT
BEGIN:VEVENT
DTSTART;TZID=Australia/Adelaide:20220422T183000
DTEND;TZID=Australia/Adelaide:20220422T203000
DTSTAMP:20260422T191505
CREATED:20200723T032148Z
LAST-MODIFIED:20211105T062422Z
UID:10002014-1650652200-1650659400@goldfoundation.com.au
SUMMARY:Youth Group (13 to 18 years)
DESCRIPTION:Gold Foundation organises regular social groups for young people on the Autism Spectrum from 13 to 18 years of age. \nOur Youth Groups are held in a relaxed and fun environment\, where young people can be social together\, forge lasting friendships and\, informally\, develop social skills and connect with others their age. \nYouth Groups are operated by skilled facilitators while members also have input on their program for the year. \nYouth Group activities include\, but are not limited to: \n\n\n\nMovie nights;\nVideo games;\nBoard games\nArts & crafts;\n\n\n\n\nThemed nights (e.g. Halloween\, birthday parties\, World Autism Awareness Day… etc.);\nScience night;\nHealth & fitness;\nTable tennis; and\nExcursions & events (may incur separate fees).
URL:https://goldfoundation.com.au/event/youth-group-12-to-20-years-2021-02-12/2022-04-22/
LOCATION:The Gold Foundation\, 9-11 Carlisle Street\, Camden Park\, SA\, 5038\, Australia
ATTACH;FMTTYPE=image/jpeg:https://goldfoundation.com.au/wp-content/uploads/2021/09/Bowling-Laser-Skirmish-4-1.jpg
ORGANIZER;CN="The Gold Foundation":MAILTO:info@goldfoundation.com.au
END:VEVENT
BEGIN:VEVENT
DTSTART;TZID=Australia/Adelaide:20220423T180000
DTEND;TZID=Australia/Adelaide:20220423T200000
DTSTAMP:20260422T191505
CREATED:20211028T035038Z
LAST-MODIFIED:20211105T061350Z
UID:10002374-1650736800-1650744000@goldfoundation.com.au
SUMMARY:Not So Youth Group (ages 18+)
DESCRIPTION:Not So Youth Group is held in a relaxed and easy-going environment where attendees can be social\, find common ground and make friends as well as other meaningful\, long-term connections—all the while continuing to develop communication and social skills. \nNot So Youth Group is operated by skilled facilitators while attendees have input on their program and activities throughout the year. \nNot So Youth Group activities include: \n\nMovie nights;\nVideo games;\nBoard games;\nCooking lessons;\nArts & crafts;\nThemed nights (e.g. Halloween\, Birthday Parties\, World Autism Day… etc.);\nScience night;\nHealth & fitness;\nTable tennis;\nPhotography; and\nExcursions & events (may incur separate fees).
URL:https://goldfoundation.com.au/event/not-so-youth-group-ages-18/2022-04-23/
LOCATION:The Gold Foundation\, 9-11 Carlisle Street\, Camden Park\, SA\, 5038\, Australia
ATTACH;FMTTYPE=image/jpeg:https://goldfoundation.com.au/wp-content/uploads/2021/10/Space-Discovery-Centre-1.jpg
ORGANIZER;CN="The Gold Foundation":MAILTO:info@goldfoundation.com.au
END:VEVENT
BEGIN:VEVENT
DTSTART;TZID=Australia/Adelaide:20220426T180000
DTEND;TZID=Australia/Adelaide:20220426T190000
DTSTAMP:20260422T191505
CREATED:20211215T021840Z
LAST-MODIFIED:20220531T084718Z
UID:10002449-1650996000-1650999600@goldfoundation.com.au
SUMMARY:What’s the Buzz (ages 9-11)
DESCRIPTION:‘What’s the Buzz? (ages 9-11)’\, also known as ‘What’s the Buzz for Primary Students’\, is a highly structured social and emotional literacy program designed to help young people learn social skills\, navigate the social environment and understand their own emotions.
URL:https://goldfoundation.com.au/event/whats-the-buzz-ages-9-11/2022-04-26/
LOCATION:The Gold Foundation\, 9-11 Carlisle Street\, Camden Park\, SA\, 5038\, Australia
ATTACH;FMTTYPE=image/jpeg:https://goldfoundation.com.au/wp-content/uploads/2021/10/WTB-Graduation-2-scaled.jpg
ORGANIZER;CN="The Gold Foundation":MAILTO:info@goldfoundation.com.au
END:VEVENT
BEGIN:VEVENT
DTSTART;TZID=Australia/Adelaide:20220427T170000
DTEND;TZID=Australia/Adelaide:20220427T180000
DTSTAMP:20260422T191505
CREATED:20211215T020626Z
LAST-MODIFIED:20220601T020530Z
UID:10002417-1651078800-1651082400@goldfoundation.com.au
SUMMARY:What’s the Buzz (ages 5-8)
DESCRIPTION:‘What’s the Buzz? (ages 5-8)’\, also known as ‘What’s the Buzz for Early Learners’\, is a highly structured social and emotional literacy program designed to help young people learn social skills\, navigate the social environment and understand their own emotions.
URL:https://goldfoundation.com.au/event/whats-the-buzz-ages-5-8/2022-04-27/
LOCATION:The Gold Foundation\, 9-11 Carlisle Street\, Camden Park\, SA\, 5038\, Australia
ATTACH;FMTTYPE=image/jpeg:https://goldfoundation.com.au/wp-content/uploads/2021/01/Whats-The-Buzz-Graduation-4.jpg
ORGANIZER;CN="The Gold Foundation":MAILTO:info@goldfoundation.com.au
END:VEVENT
BEGIN:VEVENT
DTSTART;TZID=Australia/Adelaide:20220428T180000
DTEND;TZID=Australia/Adelaide:20220428T193000
DTSTAMP:20260422T191505
CREATED:20220531T083739Z
LAST-MODIFIED:20220707T063214Z
UID:10002463-1651168800-1651174200@goldfoundation.com.au
SUMMARY:Work Ready Program (ages 16+)
DESCRIPTION:Gold Foundation in collaboration with CBS Inc introduce the Work Ready Program. This revolutionary program gives autistic young people the opportunity to achieve the valuable skills needed to gain meaningful employment.
URL:https://goldfoundation.com.au/event/work-ready-program-ages-16/2022-04-28/
ATTACH;FMTTYPE=image/jpeg:https://goldfoundation.com.au/wp-content/uploads/2022/05/Work-Ready-1.jpg
END:VEVENT
BEGIN:VEVENT
DTSTART;TZID=Australia/Adelaide:20220429T183000
DTEND;TZID=Australia/Adelaide:20220429T203000
DTSTAMP:20260422T191505
CREATED:20200723T032148Z
LAST-MODIFIED:20211105T062422Z
UID:10002015-1651257000-1651264200@goldfoundation.com.au
SUMMARY:Youth Group (13 to 18 years)
DESCRIPTION:Gold Foundation organises regular social groups for young people on the Autism Spectrum from 13 to 18 years of age. \nOur Youth Groups are held in a relaxed and fun environment\, where young people can be social together\, forge lasting friendships and\, informally\, develop social skills and connect with others their age. \nYouth Groups are operated by skilled facilitators while members also have input on their program for the year. \nYouth Group activities include\, but are not limited to: \n\n\n\nMovie nights;\nVideo games;\nBoard games\nArts & crafts;\n\n\n\n\nThemed nights (e.g. Halloween\, birthday parties\, World Autism Awareness Day… etc.);\nScience night;\nHealth & fitness;\nTable tennis; and\nExcursions & events (may incur separate fees).
URL:https://goldfoundation.com.au/event/youth-group-12-to-20-years-2021-02-12/2022-04-29/
LOCATION:The Gold Foundation\, 9-11 Carlisle Street\, Camden Park\, SA\, 5038\, Australia
ATTACH;FMTTYPE=image/jpeg:https://goldfoundation.com.au/wp-content/uploads/2021/09/Bowling-Laser-Skirmish-4-1.jpg
ORGANIZER;CN="The Gold Foundation":MAILTO:info@goldfoundation.com.au
END:VEVENT
BEGIN:VEVENT
DTSTART;TZID=Australia/Adelaide:20220430T180000
DTEND;TZID=Australia/Adelaide:20220430T200000
DTSTAMP:20260422T191505
CREATED:20211028T035038Z
LAST-MODIFIED:20211105T061350Z
UID:10002375-1651341600-1651348800@goldfoundation.com.au
SUMMARY:Not So Youth Group (ages 18+)
DESCRIPTION:Not So Youth Group is held in a relaxed and easy-going environment where attendees can be social\, find common ground and make friends as well as other meaningful\, long-term connections—all the while continuing to develop communication and social skills. \nNot So Youth Group is operated by skilled facilitators while attendees have input on their program and activities throughout the year. \nNot So Youth Group activities include: \n\nMovie nights;\nVideo games;\nBoard games;\nCooking lessons;\nArts & crafts;\nThemed nights (e.g. Halloween\, Birthday Parties\, World Autism Day… etc.);\nScience night;\nHealth & fitness;\nTable tennis;\nPhotography; and\nExcursions & events (may incur separate fees).
URL:https://goldfoundation.com.au/event/not-so-youth-group-ages-18/2022-04-30/
LOCATION:The Gold Foundation\, 9-11 Carlisle Street\, Camden Park\, SA\, 5038\, Australia
ATTACH;FMTTYPE=image/jpeg:https://goldfoundation.com.au/wp-content/uploads/2021/10/Space-Discovery-Centre-1.jpg
ORGANIZER;CN="The Gold Foundation":MAILTO:info@goldfoundation.com.au
END:VEVENT
END:VCALENDAR