
BEGIN:VCALENDAR
VERSION:2.0
PRODID:-//Gold Foundation - ECPv6.15.13.1//NONSGML v1.0//EN
CALSCALE:GREGORIAN
METHOD:PUBLISH
X-WR-CALNAME:Gold Foundation
X-ORIGINAL-URL:https://goldfoundation.com.au
X-WR-CALDESC:Events for Gold Foundation
REFRESH-INTERVAL;VALUE=DURATION:PT1H
X-Robots-Tag:noindex
X-PUBLISHED-TTL:PT1H
BEGIN:VTIMEZONE
TZID:Australia/Adelaide
BEGIN:STANDARD
TZOFFSETFROM:+1030
TZOFFSETTO:+0930
TZNAME:ACST
DTSTART:20210403T163000
END:STANDARD
BEGIN:DAYLIGHT
TZOFFSETFROM:+0930
TZOFFSETTO:+1030
TZNAME:ACDT
DTSTART:20211002T163000
END:DAYLIGHT
BEGIN:STANDARD
TZOFFSETFROM:+1030
TZOFFSETTO:+0930
TZNAME:ACST
DTSTART:20220402T163000
END:STANDARD
BEGIN:DAYLIGHT
TZOFFSETFROM:+0930
TZOFFSETTO:+1030
TZNAME:ACDT
DTSTART:20221001T163000
END:DAYLIGHT
BEGIN:STANDARD
TZOFFSETFROM:+1030
TZOFFSETTO:+0930
TZNAME:ACST
DTSTART:20230401T163000
END:STANDARD
BEGIN:DAYLIGHT
TZOFFSETFROM:+0930
TZOFFSETTO:+1030
TZNAME:ACDT
DTSTART:20230930T163000
END:DAYLIGHT
END:VTIMEZONE
BEGIN:VEVENT
DTSTART;TZID=Australia/Adelaide:20220601T170000
DTEND;TZID=Australia/Adelaide:20220601T180000
DTSTAMP:20260422T163057
CREATED:20211215T020626Z
LAST-MODIFIED:20220601T020530Z
UID:10002422-1654102800-1654106400@goldfoundation.com.au
SUMMARY:What’s the Buzz (ages 5-8)
DESCRIPTION:‘What’s the Buzz? (ages 5-8)’\, also known as ‘What’s the Buzz for Early Learners’\, is a highly structured social and emotional literacy program designed to help young people learn social skills\, navigate the social environment and understand their own emotions.
URL:https://goldfoundation.com.au/event/whats-the-buzz-ages-5-8/2022-06-01/
LOCATION:The Gold Foundation\, 9-11 Carlisle Street\, Camden Park\, SA\, 5038\, Australia
ATTACH;FMTTYPE=image/jpeg:https://goldfoundation.com.au/wp-content/uploads/2021/01/Whats-The-Buzz-Graduation-4.jpg
ORGANIZER;CN="The Gold Foundation":MAILTO:info@goldfoundation.com.au
END:VEVENT
BEGIN:VEVENT
DTSTART;TZID=Australia/Adelaide:20220601T170000
DTEND;TZID=Australia/Adelaide:20220601T183000
DTSTAMP:20260422T163058
CREATED:20211215T021251Z
LAST-MODIFIED:20220531T084448Z
UID:10002440-1654102800-1654108200@goldfoundation.com.au
SUMMARY:Cadets (Social Group ages 8-12)
DESCRIPTION:Cadets is an activity-based social group designed to help young people on the autism spectrum aged 8-12 develop friendships and improve their social well-being. Through conversations and activities\, participants have the opportunity to improve their confidence and build their social skills in a safe and fun environment.
URL:https://goldfoundation.com.au/event/cadets-social-group-ages-8-12/2022-06-01/
LOCATION:The Gold Foundation\, 9-11 Carlisle Street\, Camden Park\, SA\, 5038\, Australia
ATTACH;FMTTYPE=image/jpeg:https://goldfoundation.com.au/wp-content/uploads/2021/10/IMG_1581-scaled.jpg
ORGANIZER;CN="The Gold Foundation":MAILTO:info@goldfoundation.com.au
END:VEVENT
BEGIN:VEVENT
DTSTART;TZID=Australia/Adelaide:20220602T180000
DTEND;TZID=Australia/Adelaide:20220602T193000
DTSTAMP:20260422T163058
CREATED:20220531T083739Z
LAST-MODIFIED:20220707T063214Z
UID:10002468-1654192800-1654198200@goldfoundation.com.au
SUMMARY:Work Ready Program (ages 16+)
DESCRIPTION:Gold Foundation in collaboration with CBS Inc introduce the Work Ready Program. This revolutionary program gives autistic young people the opportunity to achieve the valuable skills needed to gain meaningful employment.
URL:https://goldfoundation.com.au/event/work-ready-program-ages-16/2022-06-02/
ATTACH;FMTTYPE=image/jpeg:https://goldfoundation.com.au/wp-content/uploads/2022/05/Work-Ready-1.jpg
END:VEVENT
BEGIN:VEVENT
DTSTART;TZID=Australia/Adelaide:20220603T183000
DTEND;TZID=Australia/Adelaide:20220603T203000
DTSTAMP:20260422T163058
CREATED:20200723T032148Z
LAST-MODIFIED:20211105T062422Z
UID:10002020-1654281000-1654288200@goldfoundation.com.au
SUMMARY:Youth Group (13 to 18 years)
DESCRIPTION:Gold Foundation organises regular social groups for young people on the Autism Spectrum from 13 to 18 years of age. \nOur Youth Groups are held in a relaxed and fun environment\, where young people can be social together\, forge lasting friendships and\, informally\, develop social skills and connect with others their age. \nYouth Groups are operated by skilled facilitators while members also have input on their program for the year. \nYouth Group activities include\, but are not limited to: \n\n\n\nMovie nights;\nVideo games;\nBoard games\nArts & crafts;\n\n\n\n\nThemed nights (e.g. Halloween\, birthday parties\, World Autism Awareness Day… etc.);\nScience night;\nHealth & fitness;\nTable tennis; and\nExcursions & events (may incur separate fees).
URL:https://goldfoundation.com.au/event/youth-group-12-to-20-years-2021-02-12/2022-06-03/
LOCATION:The Gold Foundation\, 9-11 Carlisle Street\, Camden Park\, SA\, 5038\, Australia
ATTACH;FMTTYPE=image/jpeg:https://goldfoundation.com.au/wp-content/uploads/2021/09/Bowling-Laser-Skirmish-4-1.jpg
ORGANIZER;CN="The Gold Foundation":MAILTO:info@goldfoundation.com.au
END:VEVENT
BEGIN:VEVENT
DTSTART;TZID=Australia/Adelaide:20220604T180000
DTEND;TZID=Australia/Adelaide:20220604T200000
DTSTAMP:20260422T163058
CREATED:20211028T035038Z
LAST-MODIFIED:20211105T061350Z
UID:10002380-1654365600-1654372800@goldfoundation.com.au
SUMMARY:Not So Youth Group (ages 18+)
DESCRIPTION:Not So Youth Group is held in a relaxed and easy-going environment where attendees can be social\, find common ground and make friends as well as other meaningful\, long-term connections—all the while continuing to develop communication and social skills. \nNot So Youth Group is operated by skilled facilitators while attendees have input on their program and activities throughout the year. \nNot So Youth Group activities include: \n\nMovie nights;\nVideo games;\nBoard games;\nCooking lessons;\nArts & crafts;\nThemed nights (e.g. Halloween\, Birthday Parties\, World Autism Day… etc.);\nScience night;\nHealth & fitness;\nTable tennis;\nPhotography; and\nExcursions & events (may incur separate fees).
URL:https://goldfoundation.com.au/event/not-so-youth-group-ages-18/2022-06-04/
LOCATION:The Gold Foundation\, 9-11 Carlisle Street\, Camden Park\, SA\, 5038\, Australia
ATTACH;FMTTYPE=image/jpeg:https://goldfoundation.com.au/wp-content/uploads/2021/10/Space-Discovery-Centre-1.jpg
ORGANIZER;CN="The Gold Foundation":MAILTO:info@goldfoundation.com.au
END:VEVENT
BEGIN:VEVENT
DTSTART;TZID=Australia/Adelaide:20220607T180000
DTEND;TZID=Australia/Adelaide:20220607T190000
DTSTAMP:20260422T163058
CREATED:20211215T021840Z
LAST-MODIFIED:20220531T084718Z
UID:10002455-1654624800-1654628400@goldfoundation.com.au
SUMMARY:What’s the Buzz (ages 9-11)
DESCRIPTION:‘What’s the Buzz? (ages 9-11)’\, also known as ‘What’s the Buzz for Primary Students’\, is a highly structured social and emotional literacy program designed to help young people learn social skills\, navigate the social environment and understand their own emotions.
URL:https://goldfoundation.com.au/event/whats-the-buzz-ages-9-11/2022-06-07/
LOCATION:The Gold Foundation\, 9-11 Carlisle Street\, Camden Park\, SA\, 5038\, Australia
ATTACH;FMTTYPE=image/jpeg:https://goldfoundation.com.au/wp-content/uploads/2021/10/WTB-Graduation-2-scaled.jpg
ORGANIZER;CN="The Gold Foundation":MAILTO:info@goldfoundation.com.au
END:VEVENT
BEGIN:VEVENT
DTSTART;TZID=Australia/Adelaide:20220608T170000
DTEND;TZID=Australia/Adelaide:20220608T180000
DTSTAMP:20260422T163058
CREATED:20211215T020626Z
LAST-MODIFIED:20220601T020530Z
UID:10002423-1654707600-1654711200@goldfoundation.com.au
SUMMARY:What’s the Buzz (ages 5-8)
DESCRIPTION:‘What’s the Buzz? (ages 5-8)’\, also known as ‘What’s the Buzz for Early Learners’\, is a highly structured social and emotional literacy program designed to help young people learn social skills\, navigate the social environment and understand their own emotions.
URL:https://goldfoundation.com.au/event/whats-the-buzz-ages-5-8/2022-06-08/
LOCATION:The Gold Foundation\, 9-11 Carlisle Street\, Camden Park\, SA\, 5038\, Australia
ATTACH;FMTTYPE=image/jpeg:https://goldfoundation.com.au/wp-content/uploads/2021/01/Whats-The-Buzz-Graduation-4.jpg
ORGANIZER;CN="The Gold Foundation":MAILTO:info@goldfoundation.com.au
END:VEVENT
BEGIN:VEVENT
DTSTART;TZID=Australia/Adelaide:20220608T170000
DTEND;TZID=Australia/Adelaide:20220608T183000
DTSTAMP:20260422T163058
CREATED:20211215T021251Z
LAST-MODIFIED:20220531T084448Z
UID:10002441-1654707600-1654713000@goldfoundation.com.au
SUMMARY:Cadets (Social Group ages 8-12)
DESCRIPTION:Cadets is an activity-based social group designed to help young people on the autism spectrum aged 8-12 develop friendships and improve their social well-being. Through conversations and activities\, participants have the opportunity to improve their confidence and build their social skills in a safe and fun environment.
URL:https://goldfoundation.com.au/event/cadets-social-group-ages-8-12/2022-06-08/
LOCATION:The Gold Foundation\, 9-11 Carlisle Street\, Camden Park\, SA\, 5038\, Australia
ATTACH;FMTTYPE=image/jpeg:https://goldfoundation.com.au/wp-content/uploads/2021/10/IMG_1581-scaled.jpg
ORGANIZER;CN="The Gold Foundation":MAILTO:info@goldfoundation.com.au
END:VEVENT
BEGIN:VEVENT
DTSTART;TZID=Australia/Adelaide:20220609T180000
DTEND;TZID=Australia/Adelaide:20220609T193000
DTSTAMP:20260422T163058
CREATED:20220531T083739Z
LAST-MODIFIED:20220707T063214Z
UID:10002469-1654797600-1654803000@goldfoundation.com.au
SUMMARY:Work Ready Program (ages 16+)
DESCRIPTION:Gold Foundation in collaboration with CBS Inc introduce the Work Ready Program. This revolutionary program gives autistic young people the opportunity to achieve the valuable skills needed to gain meaningful employment.
URL:https://goldfoundation.com.au/event/work-ready-program-ages-16/2022-06-09/
ATTACH;FMTTYPE=image/jpeg:https://goldfoundation.com.au/wp-content/uploads/2022/05/Work-Ready-1.jpg
END:VEVENT
BEGIN:VEVENT
DTSTART;TZID=Australia/Adelaide:20220610T183000
DTEND;TZID=Australia/Adelaide:20220610T203000
DTSTAMP:20260422T163058
CREATED:20200723T032148Z
LAST-MODIFIED:20211105T062422Z
UID:10002021-1654885800-1654893000@goldfoundation.com.au
SUMMARY:Youth Group (13 to 18 years)
DESCRIPTION:Gold Foundation organises regular social groups for young people on the Autism Spectrum from 13 to 18 years of age. \nOur Youth Groups are held in a relaxed and fun environment\, where young people can be social together\, forge lasting friendships and\, informally\, develop social skills and connect with others their age. \nYouth Groups are operated by skilled facilitators while members also have input on their program for the year. \nYouth Group activities include\, but are not limited to: \n\n\n\nMovie nights;\nVideo games;\nBoard games\nArts & crafts;\n\n\n\n\nThemed nights (e.g. Halloween\, birthday parties\, World Autism Awareness Day… etc.);\nScience night;\nHealth & fitness;\nTable tennis; and\nExcursions & events (may incur separate fees).
URL:https://goldfoundation.com.au/event/youth-group-12-to-20-years-2021-02-12/2022-06-10/
LOCATION:The Gold Foundation\, 9-11 Carlisle Street\, Camden Park\, SA\, 5038\, Australia
ATTACH;FMTTYPE=image/jpeg:https://goldfoundation.com.au/wp-content/uploads/2021/09/Bowling-Laser-Skirmish-4-1.jpg
ORGANIZER;CN="The Gold Foundation":MAILTO:info@goldfoundation.com.au
END:VEVENT
BEGIN:VEVENT
DTSTART;TZID=Australia/Adelaide:20220611T180000
DTEND;TZID=Australia/Adelaide:20220611T200000
DTSTAMP:20260422T163058
CREATED:20211028T035038Z
LAST-MODIFIED:20211105T061350Z
UID:10002381-1654970400-1654977600@goldfoundation.com.au
SUMMARY:Not So Youth Group (ages 18+)
DESCRIPTION:Not So Youth Group is held in a relaxed and easy-going environment where attendees can be social\, find common ground and make friends as well as other meaningful\, long-term connections—all the while continuing to develop communication and social skills. \nNot So Youth Group is operated by skilled facilitators while attendees have input on their program and activities throughout the year. \nNot So Youth Group activities include: \n\nMovie nights;\nVideo games;\nBoard games;\nCooking lessons;\nArts & crafts;\nThemed nights (e.g. Halloween\, Birthday Parties\, World Autism Day… etc.);\nScience night;\nHealth & fitness;\nTable tennis;\nPhotography; and\nExcursions & events (may incur separate fees).
URL:https://goldfoundation.com.au/event/not-so-youth-group-ages-18/2022-06-11/
LOCATION:The Gold Foundation\, 9-11 Carlisle Street\, Camden Park\, SA\, 5038\, Australia
ATTACH;FMTTYPE=image/jpeg:https://goldfoundation.com.au/wp-content/uploads/2021/10/Space-Discovery-Centre-1.jpg
ORGANIZER;CN="The Gold Foundation":MAILTO:info@goldfoundation.com.au
END:VEVENT
BEGIN:VEVENT
DTSTART;TZID=Australia/Adelaide:20220614T180000
DTEND;TZID=Australia/Adelaide:20220614T190000
DTSTAMP:20260422T163058
CREATED:20211215T021840Z
LAST-MODIFIED:20220531T084718Z
UID:10002456-1655229600-1655233200@goldfoundation.com.au
SUMMARY:What’s the Buzz (ages 9-11)
DESCRIPTION:‘What’s the Buzz? (ages 9-11)’\, also known as ‘What’s the Buzz for Primary Students’\, is a highly structured social and emotional literacy program designed to help young people learn social skills\, navigate the social environment and understand their own emotions.
URL:https://goldfoundation.com.au/event/whats-the-buzz-ages-9-11/2022-06-14/
LOCATION:The Gold Foundation\, 9-11 Carlisle Street\, Camden Park\, SA\, 5038\, Australia
ATTACH;FMTTYPE=image/jpeg:https://goldfoundation.com.au/wp-content/uploads/2021/10/WTB-Graduation-2-scaled.jpg
ORGANIZER;CN="The Gold Foundation":MAILTO:info@goldfoundation.com.au
END:VEVENT
BEGIN:VEVENT
DTSTART;TZID=Australia/Adelaide:20220615T170000
DTEND;TZID=Australia/Adelaide:20220615T180000
DTSTAMP:20260422T163058
CREATED:20211215T020626Z
LAST-MODIFIED:20220601T020530Z
UID:10002424-1655312400-1655316000@goldfoundation.com.au
SUMMARY:What’s the Buzz (ages 5-8)
DESCRIPTION:‘What’s the Buzz? (ages 5-8)’\, also known as ‘What’s the Buzz for Early Learners’\, is a highly structured social and emotional literacy program designed to help young people learn social skills\, navigate the social environment and understand their own emotions.
URL:https://goldfoundation.com.au/event/whats-the-buzz-ages-5-8/2022-06-15/
LOCATION:The Gold Foundation\, 9-11 Carlisle Street\, Camden Park\, SA\, 5038\, Australia
ATTACH;FMTTYPE=image/jpeg:https://goldfoundation.com.au/wp-content/uploads/2021/01/Whats-The-Buzz-Graduation-4.jpg
ORGANIZER;CN="The Gold Foundation":MAILTO:info@goldfoundation.com.au
END:VEVENT
BEGIN:VEVENT
DTSTART;TZID=Australia/Adelaide:20220615T170000
DTEND;TZID=Australia/Adelaide:20220615T183000
DTSTAMP:20260422T163058
CREATED:20211215T021251Z
LAST-MODIFIED:20220531T084448Z
UID:10002442-1655312400-1655317800@goldfoundation.com.au
SUMMARY:Cadets (Social Group ages 8-12)
DESCRIPTION:Cadets is an activity-based social group designed to help young people on the autism spectrum aged 8-12 develop friendships and improve their social well-being. Through conversations and activities\, participants have the opportunity to improve their confidence and build their social skills in a safe and fun environment.
URL:https://goldfoundation.com.au/event/cadets-social-group-ages-8-12/2022-06-15/
LOCATION:The Gold Foundation\, 9-11 Carlisle Street\, Camden Park\, SA\, 5038\, Australia
ATTACH;FMTTYPE=image/jpeg:https://goldfoundation.com.au/wp-content/uploads/2021/10/IMG_1581-scaled.jpg
ORGANIZER;CN="The Gold Foundation":MAILTO:info@goldfoundation.com.au
END:VEVENT
BEGIN:VEVENT
DTSTART;TZID=Australia/Adelaide:20220616T180000
DTEND;TZID=Australia/Adelaide:20220616T193000
DTSTAMP:20260422T163058
CREATED:20220531T083739Z
LAST-MODIFIED:20220707T063214Z
UID:10002470-1655402400-1655407800@goldfoundation.com.au
SUMMARY:Work Ready Program (ages 16+)
DESCRIPTION:Gold Foundation in collaboration with CBS Inc introduce the Work Ready Program. This revolutionary program gives autistic young people the opportunity to achieve the valuable skills needed to gain meaningful employment.
URL:https://goldfoundation.com.au/event/work-ready-program-ages-16/2022-06-16/
ATTACH;FMTTYPE=image/jpeg:https://goldfoundation.com.au/wp-content/uploads/2022/05/Work-Ready-1.jpg
END:VEVENT
BEGIN:VEVENT
DTSTART;TZID=Australia/Adelaide:20220617T183000
DTEND;TZID=Australia/Adelaide:20220617T203000
DTSTAMP:20260422T163058
CREATED:20200723T032148Z
LAST-MODIFIED:20211105T062422Z
UID:10002022-1655490600-1655497800@goldfoundation.com.au
SUMMARY:Youth Group (13 to 18 years)
DESCRIPTION:Gold Foundation organises regular social groups for young people on the Autism Spectrum from 13 to 18 years of age. \nOur Youth Groups are held in a relaxed and fun environment\, where young people can be social together\, forge lasting friendships and\, informally\, develop social skills and connect with others their age. \nYouth Groups are operated by skilled facilitators while members also have input on their program for the year. \nYouth Group activities include\, but are not limited to: \n\n\n\nMovie nights;\nVideo games;\nBoard games\nArts & crafts;\n\n\n\n\nThemed nights (e.g. Halloween\, birthday parties\, World Autism Awareness Day… etc.);\nScience night;\nHealth & fitness;\nTable tennis; and\nExcursions & events (may incur separate fees).
URL:https://goldfoundation.com.au/event/youth-group-12-to-20-years-2021-02-12/2022-06-17/
LOCATION:The Gold Foundation\, 9-11 Carlisle Street\, Camden Park\, SA\, 5038\, Australia
ATTACH;FMTTYPE=image/jpeg:https://goldfoundation.com.au/wp-content/uploads/2021/09/Bowling-Laser-Skirmish-4-1.jpg
ORGANIZER;CN="The Gold Foundation":MAILTO:info@goldfoundation.com.au
END:VEVENT
BEGIN:VEVENT
DTSTART;TZID=Australia/Adelaide:20220618T180000
DTEND;TZID=Australia/Adelaide:20220618T200000
DTSTAMP:20260422T163058
CREATED:20211028T035038Z
LAST-MODIFIED:20211105T061350Z
UID:10002382-1655575200-1655582400@goldfoundation.com.au
SUMMARY:Not So Youth Group (ages 18+)
DESCRIPTION:Not So Youth Group is held in a relaxed and easy-going environment where attendees can be social\, find common ground and make friends as well as other meaningful\, long-term connections—all the while continuing to develop communication and social skills. \nNot So Youth Group is operated by skilled facilitators while attendees have input on their program and activities throughout the year. \nNot So Youth Group activities include: \n\nMovie nights;\nVideo games;\nBoard games;\nCooking lessons;\nArts & crafts;\nThemed nights (e.g. Halloween\, Birthday Parties\, World Autism Day… etc.);\nScience night;\nHealth & fitness;\nTable tennis;\nPhotography; and\nExcursions & events (may incur separate fees).
URL:https://goldfoundation.com.au/event/not-so-youth-group-ages-18/2022-06-18/
LOCATION:The Gold Foundation\, 9-11 Carlisle Street\, Camden Park\, SA\, 5038\, Australia
ATTACH;FMTTYPE=image/jpeg:https://goldfoundation.com.au/wp-content/uploads/2021/10/Space-Discovery-Centre-1.jpg
ORGANIZER;CN="The Gold Foundation":MAILTO:info@goldfoundation.com.au
END:VEVENT
BEGIN:VEVENT
DTSTART;TZID=Australia/Adelaide:20220621T180000
DTEND;TZID=Australia/Adelaide:20220621T190000
DTSTAMP:20260422T163058
CREATED:20211215T021840Z
LAST-MODIFIED:20220531T084718Z
UID:10002457-1655834400-1655838000@goldfoundation.com.au
SUMMARY:What’s the Buzz (ages 9-11)
DESCRIPTION:‘What’s the Buzz? (ages 9-11)’\, also known as ‘What’s the Buzz for Primary Students’\, is a highly structured social and emotional literacy program designed to help young people learn social skills\, navigate the social environment and understand their own emotions.
URL:https://goldfoundation.com.au/event/whats-the-buzz-ages-9-11/2022-06-21/
LOCATION:The Gold Foundation\, 9-11 Carlisle Street\, Camden Park\, SA\, 5038\, Australia
ATTACH;FMTTYPE=image/jpeg:https://goldfoundation.com.au/wp-content/uploads/2021/10/WTB-Graduation-2-scaled.jpg
ORGANIZER;CN="The Gold Foundation":MAILTO:info@goldfoundation.com.au
END:VEVENT
BEGIN:VEVENT
DTSTART;TZID=Australia/Adelaide:20220622T170000
DTEND;TZID=Australia/Adelaide:20220622T180000
DTSTAMP:20260422T163058
CREATED:20211215T020626Z
LAST-MODIFIED:20220601T020530Z
UID:10002425-1655917200-1655920800@goldfoundation.com.au
SUMMARY:What’s the Buzz (ages 5-8)
DESCRIPTION:‘What’s the Buzz? (ages 5-8)’\, also known as ‘What’s the Buzz for Early Learners’\, is a highly structured social and emotional literacy program designed to help young people learn social skills\, navigate the social environment and understand their own emotions.
URL:https://goldfoundation.com.au/event/whats-the-buzz-ages-5-8/2022-06-22/
LOCATION:The Gold Foundation\, 9-11 Carlisle Street\, Camden Park\, SA\, 5038\, Australia
ATTACH;FMTTYPE=image/jpeg:https://goldfoundation.com.au/wp-content/uploads/2021/01/Whats-The-Buzz-Graduation-4.jpg
ORGANIZER;CN="The Gold Foundation":MAILTO:info@goldfoundation.com.au
END:VEVENT
BEGIN:VEVENT
DTSTART;TZID=Australia/Adelaide:20220622T170000
DTEND;TZID=Australia/Adelaide:20220622T183000
DTSTAMP:20260422T163058
CREATED:20211215T021251Z
LAST-MODIFIED:20220531T084448Z
UID:10002443-1655917200-1655922600@goldfoundation.com.au
SUMMARY:Cadets (Social Group ages 8-12)
DESCRIPTION:Cadets is an activity-based social group designed to help young people on the autism spectrum aged 8-12 develop friendships and improve their social well-being. Through conversations and activities\, participants have the opportunity to improve their confidence and build their social skills in a safe and fun environment.
URL:https://goldfoundation.com.au/event/cadets-social-group-ages-8-12/2022-06-22/
LOCATION:The Gold Foundation\, 9-11 Carlisle Street\, Camden Park\, SA\, 5038\, Australia
ATTACH;FMTTYPE=image/jpeg:https://goldfoundation.com.au/wp-content/uploads/2021/10/IMG_1581-scaled.jpg
ORGANIZER;CN="The Gold Foundation":MAILTO:info@goldfoundation.com.au
END:VEVENT
BEGIN:VEVENT
DTSTART;TZID=Australia/Adelaide:20220623T180000
DTEND;TZID=Australia/Adelaide:20220623T193000
DTSTAMP:20260422T163058
CREATED:20220531T083739Z
LAST-MODIFIED:20220707T063214Z
UID:10002471-1656007200-1656012600@goldfoundation.com.au
SUMMARY:Work Ready Program (ages 16+)
DESCRIPTION:Gold Foundation in collaboration with CBS Inc introduce the Work Ready Program. This revolutionary program gives autistic young people the opportunity to achieve the valuable skills needed to gain meaningful employment.
URL:https://goldfoundation.com.au/event/work-ready-program-ages-16/2022-06-23/
ATTACH;FMTTYPE=image/jpeg:https://goldfoundation.com.au/wp-content/uploads/2022/05/Work-Ready-1.jpg
END:VEVENT
BEGIN:VEVENT
DTSTART;TZID=Australia/Adelaide:20220624T183000
DTEND;TZID=Australia/Adelaide:20220624T203000
DTSTAMP:20260422T163058
CREATED:20200723T032148Z
LAST-MODIFIED:20211105T062422Z
UID:10002023-1656095400-1656102600@goldfoundation.com.au
SUMMARY:Youth Group (13 to 18 years)
DESCRIPTION:Gold Foundation organises regular social groups for young people on the Autism Spectrum from 13 to 18 years of age. \nOur Youth Groups are held in a relaxed and fun environment\, where young people can be social together\, forge lasting friendships and\, informally\, develop social skills and connect with others their age. \nYouth Groups are operated by skilled facilitators while members also have input on their program for the year. \nYouth Group activities include\, but are not limited to: \n\n\n\nMovie nights;\nVideo games;\nBoard games\nArts & crafts;\n\n\n\n\nThemed nights (e.g. Halloween\, birthday parties\, World Autism Awareness Day… etc.);\nScience night;\nHealth & fitness;\nTable tennis; and\nExcursions & events (may incur separate fees).
URL:https://goldfoundation.com.au/event/youth-group-12-to-20-years-2021-02-12/2022-06-24/
LOCATION:The Gold Foundation\, 9-11 Carlisle Street\, Camden Park\, SA\, 5038\, Australia
ATTACH;FMTTYPE=image/jpeg:https://goldfoundation.com.au/wp-content/uploads/2021/09/Bowling-Laser-Skirmish-4-1.jpg
ORGANIZER;CN="The Gold Foundation":MAILTO:info@goldfoundation.com.au
END:VEVENT
BEGIN:VEVENT
DTSTART;TZID=Australia/Adelaide:20220625T180000
DTEND;TZID=Australia/Adelaide:20220625T200000
DTSTAMP:20260422T163058
CREATED:20211028T035038Z
LAST-MODIFIED:20211105T061350Z
UID:10002383-1656180000-1656187200@goldfoundation.com.au
SUMMARY:Not So Youth Group (ages 18+)
DESCRIPTION:Not So Youth Group is held in a relaxed and easy-going environment where attendees can be social\, find common ground and make friends as well as other meaningful\, long-term connections—all the while continuing to develop communication and social skills. \nNot So Youth Group is operated by skilled facilitators while attendees have input on their program and activities throughout the year. \nNot So Youth Group activities include: \n\nMovie nights;\nVideo games;\nBoard games;\nCooking lessons;\nArts & crafts;\nThemed nights (e.g. Halloween\, Birthday Parties\, World Autism Day… etc.);\nScience night;\nHealth & fitness;\nTable tennis;\nPhotography; and\nExcursions & events (may incur separate fees).
URL:https://goldfoundation.com.au/event/not-so-youth-group-ages-18/2022-06-25/
LOCATION:The Gold Foundation\, 9-11 Carlisle Street\, Camden Park\, SA\, 5038\, Australia
ATTACH;FMTTYPE=image/jpeg:https://goldfoundation.com.au/wp-content/uploads/2021/10/Space-Discovery-Centre-1.jpg
ORGANIZER;CN="The Gold Foundation":MAILTO:info@goldfoundation.com.au
END:VEVENT
BEGIN:VEVENT
DTSTART;TZID=Australia/Adelaide:20220628T180000
DTEND;TZID=Australia/Adelaide:20220628T190000
DTSTAMP:20260422T163058
CREATED:20211215T021840Z
LAST-MODIFIED:20220531T084718Z
UID:10002458-1656439200-1656442800@goldfoundation.com.au
SUMMARY:What’s the Buzz (ages 9-11)
DESCRIPTION:‘What’s the Buzz? (ages 9-11)’\, also known as ‘What’s the Buzz for Primary Students’\, is a highly structured social and emotional literacy program designed to help young people learn social skills\, navigate the social environment and understand their own emotions.
URL:https://goldfoundation.com.au/event/whats-the-buzz-ages-9-11/2022-06-28/
LOCATION:The Gold Foundation\, 9-11 Carlisle Street\, Camden Park\, SA\, 5038\, Australia
ATTACH;FMTTYPE=image/jpeg:https://goldfoundation.com.au/wp-content/uploads/2021/10/WTB-Graduation-2-scaled.jpg
ORGANIZER;CN="The Gold Foundation":MAILTO:info@goldfoundation.com.au
END:VEVENT
BEGIN:VEVENT
DTSTART;TZID=Australia/Adelaide:20220629T170000
DTEND;TZID=Australia/Adelaide:20220629T180000
DTSTAMP:20260422T163058
CREATED:20211215T020626Z
LAST-MODIFIED:20220601T020530Z
UID:10002426-1656522000-1656525600@goldfoundation.com.au
SUMMARY:What’s the Buzz (ages 5-8)
DESCRIPTION:‘What’s the Buzz? (ages 5-8)’\, also known as ‘What’s the Buzz for Early Learners’\, is a highly structured social and emotional literacy program designed to help young people learn social skills\, navigate the social environment and understand their own emotions.
URL:https://goldfoundation.com.au/event/whats-the-buzz-ages-5-8/2022-06-29/
LOCATION:The Gold Foundation\, 9-11 Carlisle Street\, Camden Park\, SA\, 5038\, Australia
ATTACH;FMTTYPE=image/jpeg:https://goldfoundation.com.au/wp-content/uploads/2021/01/Whats-The-Buzz-Graduation-4.jpg
ORGANIZER;CN="The Gold Foundation":MAILTO:info@goldfoundation.com.au
END:VEVENT
END:VCALENDAR