
BEGIN:VCALENDAR
VERSION:2.0
PRODID:-//Gold Foundation - ECPv6.15.13.1//NONSGML v1.0//EN
CALSCALE:GREGORIAN
METHOD:PUBLISH
X-WR-CALNAME:Gold Foundation
X-ORIGINAL-URL:https://goldfoundation.com.au
X-WR-CALDESC:Events for Gold Foundation
REFRESH-INTERVAL;VALUE=DURATION:PT1H
X-Robots-Tag:noindex
X-PUBLISHED-TTL:PT1H
BEGIN:VTIMEZONE
TZID:Australia/Adelaide
BEGIN:STANDARD
TZOFFSETFROM:+1030
TZOFFSETTO:+0930
TZNAME:ACST
DTSTART:20210403T163000
END:STANDARD
BEGIN:DAYLIGHT
TZOFFSETFROM:+0930
TZOFFSETTO:+1030
TZNAME:ACDT
DTSTART:20211002T163000
END:DAYLIGHT
BEGIN:STANDARD
TZOFFSETFROM:+1030
TZOFFSETTO:+0930
TZNAME:ACST
DTSTART:20220402T163000
END:STANDARD
BEGIN:DAYLIGHT
TZOFFSETFROM:+0930
TZOFFSETTO:+1030
TZNAME:ACDT
DTSTART:20221001T163000
END:DAYLIGHT
BEGIN:STANDARD
TZOFFSETFROM:+1030
TZOFFSETTO:+0930
TZNAME:ACST
DTSTART:20230401T163000
END:STANDARD
BEGIN:DAYLIGHT
TZOFFSETFROM:+0930
TZOFFSETTO:+1030
TZNAME:ACDT
DTSTART:20230930T163000
END:DAYLIGHT
END:VTIMEZONE
BEGIN:VEVENT
DTSTART;TZID=Australia/Adelaide:20220701T183000
DTEND;TZID=Australia/Adelaide:20220701T203000
DTSTAMP:20260422T151732
CREATED:20200723T032148Z
LAST-MODIFIED:20211105T062422Z
UID:10002024-1656700200-1656707400@goldfoundation.com.au
SUMMARY:Youth Group (13 to 18 years)
DESCRIPTION:Gold Foundation organises regular social groups for young people on the Autism Spectrum from 13 to 18 years of age. \nOur Youth Groups are held in a relaxed and fun environment\, where young people can be social together\, forge lasting friendships and\, informally\, develop social skills and connect with others their age. \nYouth Groups are operated by skilled facilitators while members also have input on their program for the year. \nYouth Group activities include\, but are not limited to: \n\n\n\nMovie nights;\nVideo games;\nBoard games\nArts & crafts;\n\n\n\n\nThemed nights (e.g. Halloween\, birthday parties\, World Autism Awareness Day… etc.);\nScience night;\nHealth & fitness;\nTable tennis; and\nExcursions & events (may incur separate fees).
URL:https://goldfoundation.com.au/event/youth-group-12-to-20-years-2021-02-12/2022-07-01/
LOCATION:The Gold Foundation\, 9-11 Carlisle Street\, Camden Park\, SA\, 5038\, Australia
ATTACH;FMTTYPE=image/jpeg:https://goldfoundation.com.au/wp-content/uploads/2021/09/Bowling-Laser-Skirmish-4-1.jpg
ORGANIZER;CN="The Gold Foundation":MAILTO:info@goldfoundation.com.au
END:VEVENT
BEGIN:VEVENT
DTSTART;TZID=Australia/Adelaide:20220702T180000
DTEND;TZID=Australia/Adelaide:20220702T200000
DTSTAMP:20260422T151732
CREATED:20211028T035038Z
LAST-MODIFIED:20211105T061350Z
UID:10002384-1656784800-1656792000@goldfoundation.com.au
SUMMARY:Not So Youth Group (ages 18+)
DESCRIPTION:Not So Youth Group is held in a relaxed and easy-going environment where attendees can be social\, find common ground and make friends as well as other meaningful\, long-term connections—all the while continuing to develop communication and social skills. \nNot So Youth Group is operated by skilled facilitators while attendees have input on their program and activities throughout the year. \nNot So Youth Group activities include: \n\nMovie nights;\nVideo games;\nBoard games;\nCooking lessons;\nArts & crafts;\nThemed nights (e.g. Halloween\, Birthday Parties\, World Autism Day… etc.);\nScience night;\nHealth & fitness;\nTable tennis;\nPhotography; and\nExcursions & events (may incur separate fees).
URL:https://goldfoundation.com.au/event/not-so-youth-group-ages-18/2022-07-02/
LOCATION:The Gold Foundation\, 9-11 Carlisle Street\, Camden Park\, SA\, 5038\, Australia
ATTACH;FMTTYPE=image/jpeg:https://goldfoundation.com.au/wp-content/uploads/2021/10/Space-Discovery-Centre-1.jpg
ORGANIZER;CN="The Gold Foundation":MAILTO:info@goldfoundation.com.au
END:VEVENT
BEGIN:VEVENT
DTSTART;TZID=Australia/Adelaide:20220705T180000
DTEND;TZID=Australia/Adelaide:20220705T190000
DTSTAMP:20260422T151732
CREATED:20211215T021840Z
LAST-MODIFIED:20220531T084718Z
UID:10002459-1657044000-1657047600@goldfoundation.com.au
SUMMARY:What’s the Buzz (ages 9-11)
DESCRIPTION:‘What’s the Buzz? (ages 9-11)’\, also known as ‘What’s the Buzz for Primary Students’\, is a highly structured social and emotional literacy program designed to help young people learn social skills\, navigate the social environment and understand their own emotions.
URL:https://goldfoundation.com.au/event/whats-the-buzz-ages-9-11/2022-07-05/
LOCATION:The Gold Foundation\, 9-11 Carlisle Street\, Camden Park\, SA\, 5038\, Australia
ATTACH;FMTTYPE=image/jpeg:https://goldfoundation.com.au/wp-content/uploads/2021/10/WTB-Graduation-2-scaled.jpg
ORGANIZER;CN="The Gold Foundation":MAILTO:info@goldfoundation.com.au
END:VEVENT
BEGIN:VEVENT
DTSTART;TZID=Australia/Adelaide:20220706T170000
DTEND;TZID=Australia/Adelaide:20220706T180000
DTSTAMP:20260422T151732
CREATED:20211215T020626Z
LAST-MODIFIED:20220601T020530Z
UID:10002427-1657126800-1657130400@goldfoundation.com.au
SUMMARY:What’s the Buzz (ages 5-8)
DESCRIPTION:‘What’s the Buzz? (ages 5-8)’\, also known as ‘What’s the Buzz for Early Learners’\, is a highly structured social and emotional literacy program designed to help young people learn social skills\, navigate the social environment and understand their own emotions.
URL:https://goldfoundation.com.au/event/whats-the-buzz-ages-5-8/2022-07-06/
LOCATION:The Gold Foundation\, 9-11 Carlisle Street\, Camden Park\, SA\, 5038\, Australia
ATTACH;FMTTYPE=image/jpeg:https://goldfoundation.com.au/wp-content/uploads/2021/01/Whats-The-Buzz-Graduation-4.jpg
ORGANIZER;CN="The Gold Foundation":MAILTO:info@goldfoundation.com.au
END:VEVENT
BEGIN:VEVENT
DTSTART;TZID=Australia/Adelaide:20220708T183000
DTEND;TZID=Australia/Adelaide:20220708T203000
DTSTAMP:20260422T151732
CREATED:20200723T032148Z
LAST-MODIFIED:20211105T062422Z
UID:10002025-1657305000-1657312200@goldfoundation.com.au
SUMMARY:Youth Group (13 to 18 years)
DESCRIPTION:Gold Foundation organises regular social groups for young people on the Autism Spectrum from 13 to 18 years of age. \nOur Youth Groups are held in a relaxed and fun environment\, where young people can be social together\, forge lasting friendships and\, informally\, develop social skills and connect with others their age. \nYouth Groups are operated by skilled facilitators while members also have input on their program for the year. \nYouth Group activities include\, but are not limited to: \n\n\n\nMovie nights;\nVideo games;\nBoard games\nArts & crafts;\n\n\n\n\nThemed nights (e.g. Halloween\, birthday parties\, World Autism Awareness Day… etc.);\nScience night;\nHealth & fitness;\nTable tennis; and\nExcursions & events (may incur separate fees).
URL:https://goldfoundation.com.au/event/youth-group-12-to-20-years-2021-02-12/2022-07-08/
LOCATION:The Gold Foundation\, 9-11 Carlisle Street\, Camden Park\, SA\, 5038\, Australia
ATTACH;FMTTYPE=image/jpeg:https://goldfoundation.com.au/wp-content/uploads/2021/09/Bowling-Laser-Skirmish-4-1.jpg
ORGANIZER;CN="The Gold Foundation":MAILTO:info@goldfoundation.com.au
END:VEVENT
BEGIN:VEVENT
DTSTART;TZID=Australia/Adelaide:20220709T180000
DTEND;TZID=Australia/Adelaide:20220709T200000
DTSTAMP:20260422T151732
CREATED:20211028T035038Z
LAST-MODIFIED:20211105T061350Z
UID:10002385-1657389600-1657396800@goldfoundation.com.au
SUMMARY:Not So Youth Group (ages 18+)
DESCRIPTION:Not So Youth Group is held in a relaxed and easy-going environment where attendees can be social\, find common ground and make friends as well as other meaningful\, long-term connections—all the while continuing to develop communication and social skills. \nNot So Youth Group is operated by skilled facilitators while attendees have input on their program and activities throughout the year. \nNot So Youth Group activities include: \n\nMovie nights;\nVideo games;\nBoard games;\nCooking lessons;\nArts & crafts;\nThemed nights (e.g. Halloween\, Birthday Parties\, World Autism Day… etc.);\nScience night;\nHealth & fitness;\nTable tennis;\nPhotography; and\nExcursions & events (may incur separate fees).
URL:https://goldfoundation.com.au/event/not-so-youth-group-ages-18/2022-07-09/
LOCATION:The Gold Foundation\, 9-11 Carlisle Street\, Camden Park\, SA\, 5038\, Australia
ATTACH;FMTTYPE=image/jpeg:https://goldfoundation.com.au/wp-content/uploads/2021/10/Space-Discovery-Centre-1.jpg
ORGANIZER;CN="The Gold Foundation":MAILTO:info@goldfoundation.com.au
END:VEVENT
BEGIN:VEVENT
DTSTART;TZID=Australia/Adelaide:20220715T183000
DTEND;TZID=Australia/Adelaide:20220715T203000
DTSTAMP:20260422T151732
CREATED:20200723T032148Z
LAST-MODIFIED:20211105T062422Z
UID:10002026-1657909800-1657917000@goldfoundation.com.au
SUMMARY:Youth Group (13 to 18 years)
DESCRIPTION:Gold Foundation organises regular social groups for young people on the Autism Spectrum from 13 to 18 years of age. \nOur Youth Groups are held in a relaxed and fun environment\, where young people can be social together\, forge lasting friendships and\, informally\, develop social skills and connect with others their age. \nYouth Groups are operated by skilled facilitators while members also have input on their program for the year. \nYouth Group activities include\, but are not limited to: \n\n\n\nMovie nights;\nVideo games;\nBoard games\nArts & crafts;\n\n\n\n\nThemed nights (e.g. Halloween\, birthday parties\, World Autism Awareness Day… etc.);\nScience night;\nHealth & fitness;\nTable tennis; and\nExcursions & events (may incur separate fees).
URL:https://goldfoundation.com.au/event/youth-group-12-to-20-years-2021-02-12/2022-07-15/
LOCATION:The Gold Foundation\, 9-11 Carlisle Street\, Camden Park\, SA\, 5038\, Australia
ATTACH;FMTTYPE=image/jpeg:https://goldfoundation.com.au/wp-content/uploads/2021/09/Bowling-Laser-Skirmish-4-1.jpg
ORGANIZER;CN="The Gold Foundation":MAILTO:info@goldfoundation.com.au
END:VEVENT
BEGIN:VEVENT
DTSTART;TZID=Australia/Adelaide:20220716T180000
DTEND;TZID=Australia/Adelaide:20220716T200000
DTSTAMP:20260422T151732
CREATED:20211028T035038Z
LAST-MODIFIED:20211105T061350Z
UID:10002386-1657994400-1658001600@goldfoundation.com.au
SUMMARY:Not So Youth Group (ages 18+)
DESCRIPTION:Not So Youth Group is held in a relaxed and easy-going environment where attendees can be social\, find common ground and make friends as well as other meaningful\, long-term connections—all the while continuing to develop communication and social skills. \nNot So Youth Group is operated by skilled facilitators while attendees have input on their program and activities throughout the year. \nNot So Youth Group activities include: \n\nMovie nights;\nVideo games;\nBoard games;\nCooking lessons;\nArts & crafts;\nThemed nights (e.g. Halloween\, Birthday Parties\, World Autism Day… etc.);\nScience night;\nHealth & fitness;\nTable tennis;\nPhotography; and\nExcursions & events (may incur separate fees).
URL:https://goldfoundation.com.au/event/not-so-youth-group-ages-18/2022-07-16/
LOCATION:The Gold Foundation\, 9-11 Carlisle Street\, Camden Park\, SA\, 5038\, Australia
ATTACH;FMTTYPE=image/jpeg:https://goldfoundation.com.au/wp-content/uploads/2021/10/Space-Discovery-Centre-1.jpg
ORGANIZER;CN="The Gold Foundation":MAILTO:info@goldfoundation.com.au
END:VEVENT
BEGIN:VEVENT
DTSTART;TZID=Australia/Adelaide:20220722T183000
DTEND;TZID=Australia/Adelaide:20220722T203000
DTSTAMP:20260422T151732
CREATED:20200723T032148Z
LAST-MODIFIED:20211105T062422Z
UID:10002027-1658514600-1658521800@goldfoundation.com.au
SUMMARY:Youth Group (13 to 18 years)
DESCRIPTION:Gold Foundation organises regular social groups for young people on the Autism Spectrum from 13 to 18 years of age. \nOur Youth Groups are held in a relaxed and fun environment\, where young people can be social together\, forge lasting friendships and\, informally\, develop social skills and connect with others their age. \nYouth Groups are operated by skilled facilitators while members also have input on their program for the year. \nYouth Group activities include\, but are not limited to: \n\n\n\nMovie nights;\nVideo games;\nBoard games\nArts & crafts;\n\n\n\n\nThemed nights (e.g. Halloween\, birthday parties\, World Autism Awareness Day… etc.);\nScience night;\nHealth & fitness;\nTable tennis; and\nExcursions & events (may incur separate fees).
URL:https://goldfoundation.com.au/event/youth-group-12-to-20-years-2021-02-12/2022-07-22/
LOCATION:The Gold Foundation\, 9-11 Carlisle Street\, Camden Park\, SA\, 5038\, Australia
ATTACH;FMTTYPE=image/jpeg:https://goldfoundation.com.au/wp-content/uploads/2021/09/Bowling-Laser-Skirmish-4-1.jpg
ORGANIZER;CN="The Gold Foundation":MAILTO:info@goldfoundation.com.au
END:VEVENT
BEGIN:VEVENT
DTSTART;TZID=Australia/Adelaide:20220723T180000
DTEND;TZID=Australia/Adelaide:20220723T200000
DTSTAMP:20260422T151732
CREATED:20211028T035038Z
LAST-MODIFIED:20211105T061350Z
UID:10002387-1658599200-1658606400@goldfoundation.com.au
SUMMARY:Not So Youth Group (ages 18+)
DESCRIPTION:Not So Youth Group is held in a relaxed and easy-going environment where attendees can be social\, find common ground and make friends as well as other meaningful\, long-term connections—all the while continuing to develop communication and social skills. \nNot So Youth Group is operated by skilled facilitators while attendees have input on their program and activities throughout the year. \nNot So Youth Group activities include: \n\nMovie nights;\nVideo games;\nBoard games;\nCooking lessons;\nArts & crafts;\nThemed nights (e.g. Halloween\, Birthday Parties\, World Autism Day… etc.);\nScience night;\nHealth & fitness;\nTable tennis;\nPhotography; and\nExcursions & events (may incur separate fees).
URL:https://goldfoundation.com.au/event/not-so-youth-group-ages-18/2022-07-23/
LOCATION:The Gold Foundation\, 9-11 Carlisle Street\, Camden Park\, SA\, 5038\, Australia
ATTACH;FMTTYPE=image/jpeg:https://goldfoundation.com.au/wp-content/uploads/2021/10/Space-Discovery-Centre-1.jpg
ORGANIZER;CN="The Gold Foundation":MAILTO:info@goldfoundation.com.au
END:VEVENT
BEGIN:VEVENT
DTSTART;TZID=Australia/Adelaide:20220727T170000
DTEND;TZID=Australia/Adelaide:20220727T183000
DTSTAMP:20260422T151732
CREATED:20220718T070023Z
LAST-MODIFIED:20220718T071702Z
UID:10002487-1658941200-1658946600@goldfoundation.com.au
SUMMARY:Cadets (ages 8-12)
DESCRIPTION:Cadets is an activity-based social group designed to help young people on the autism spectrum aged 8-12 develop friendships and improve their social well-being. Through conversations and activities\, participants have the opportunity to improve their confidence and build their social skills in a safe and fun environment.
URL:https://goldfoundation.com.au/event/cadets-2/2022-07-27/
ATTACH;FMTTYPE=image/jpeg:https://goldfoundation.com.au/wp-content/uploads/2022/06/f0d14c56-ca5b-9a04-55b4-a1eade43d427.jpg
END:VEVENT
BEGIN:VEVENT
DTSTART;TZID=Australia/Adelaide:20220729T183000
DTEND;TZID=Australia/Adelaide:20220729T203000
DTSTAMP:20260422T151732
CREATED:20200723T032148Z
LAST-MODIFIED:20211105T062422Z
UID:10002028-1659119400-1659126600@goldfoundation.com.au
SUMMARY:Youth Group (13 to 18 years)
DESCRIPTION:Gold Foundation organises regular social groups for young people on the Autism Spectrum from 13 to 18 years of age. \nOur Youth Groups are held in a relaxed and fun environment\, where young people can be social together\, forge lasting friendships and\, informally\, develop social skills and connect with others their age. \nYouth Groups are operated by skilled facilitators while members also have input on their program for the year. \nYouth Group activities include\, but are not limited to: \n\n\n\nMovie nights;\nVideo games;\nBoard games\nArts & crafts;\n\n\n\n\nThemed nights (e.g. Halloween\, birthday parties\, World Autism Awareness Day… etc.);\nScience night;\nHealth & fitness;\nTable tennis; and\nExcursions & events (may incur separate fees).
URL:https://goldfoundation.com.au/event/youth-group-12-to-20-years-2021-02-12/2022-07-29/
LOCATION:The Gold Foundation\, 9-11 Carlisle Street\, Camden Park\, SA\, 5038\, Australia
ATTACH;FMTTYPE=image/jpeg:https://goldfoundation.com.au/wp-content/uploads/2021/09/Bowling-Laser-Skirmish-4-1.jpg
ORGANIZER;CN="The Gold Foundation":MAILTO:info@goldfoundation.com.au
END:VEVENT
BEGIN:VEVENT
DTSTART;TZID=Australia/Adelaide:20220730T180000
DTEND;TZID=Australia/Adelaide:20220730T200000
DTSTAMP:20260422T151732
CREATED:20211028T035038Z
LAST-MODIFIED:20211105T061350Z
UID:10002388-1659204000-1659211200@goldfoundation.com.au
SUMMARY:Not So Youth Group (ages 18+)
DESCRIPTION:Not So Youth Group is held in a relaxed and easy-going environment where attendees can be social\, find common ground and make friends as well as other meaningful\, long-term connections—all the while continuing to develop communication and social skills. \nNot So Youth Group is operated by skilled facilitators while attendees have input on their program and activities throughout the year. \nNot So Youth Group activities include: \n\nMovie nights;\nVideo games;\nBoard games;\nCooking lessons;\nArts & crafts;\nThemed nights (e.g. Halloween\, Birthday Parties\, World Autism Day… etc.);\nScience night;\nHealth & fitness;\nTable tennis;\nPhotography; and\nExcursions & events (may incur separate fees).
URL:https://goldfoundation.com.au/event/not-so-youth-group-ages-18/2022-07-30/
LOCATION:The Gold Foundation\, 9-11 Carlisle Street\, Camden Park\, SA\, 5038\, Australia
ATTACH;FMTTYPE=image/jpeg:https://goldfoundation.com.au/wp-content/uploads/2021/10/Space-Discovery-Centre-1.jpg
ORGANIZER;CN="The Gold Foundation":MAILTO:info@goldfoundation.com.au
END:VEVENT
END:VCALENDAR