
BEGIN:VCALENDAR
VERSION:2.0
PRODID:-//Gold Foundation - ECPv6.15.13.1//NONSGML v1.0//EN
CALSCALE:GREGORIAN
METHOD:PUBLISH
X-ORIGINAL-URL:https://goldfoundation.com.au
X-WR-CALDESC:Events for Gold Foundation
REFRESH-INTERVAL;VALUE=DURATION:PT1H
X-Robots-Tag:noindex
X-PUBLISHED-TTL:PT1H
BEGIN:VTIMEZONE
TZID:Australia/Adelaide
BEGIN:STANDARD
TZOFFSETFROM:+1030
TZOFFSETTO:+0930
TZNAME:ACST
DTSTART:20220402T163000
END:STANDARD
BEGIN:DAYLIGHT
TZOFFSETFROM:+0930
TZOFFSETTO:+1030
TZNAME:ACDT
DTSTART:20221001T163000
END:DAYLIGHT
BEGIN:STANDARD
TZOFFSETFROM:+1030
TZOFFSETTO:+0930
TZNAME:ACST
DTSTART:20230401T163000
END:STANDARD
BEGIN:DAYLIGHT
TZOFFSETFROM:+0930
TZOFFSETTO:+1030
TZNAME:ACDT
DTSTART:20230930T163000
END:DAYLIGHT
BEGIN:STANDARD
TZOFFSETFROM:+1030
TZOFFSETTO:+0930
TZNAME:ACST
DTSTART:20240406T163000
END:STANDARD
BEGIN:DAYLIGHT
TZOFFSETFROM:+0930
TZOFFSETTO:+1030
TZNAME:ACDT
DTSTART:20241005T163000
END:DAYLIGHT
END:VTIMEZONE
BEGIN:VEVENT
DTSTART;TZID=Australia/Adelaide:20230203T090000
DTEND;TZID=Australia/Adelaide:20230203T130000
DTSTAMP:20260422T063107
CREATED:20230125T063121Z
LAST-MODIFIED:20230125T063121Z
UID:10002600-1675414800-1675429200@goldfoundation.com.au
SUMMARY:Shine Like Gold Community Day
DESCRIPTION:The Gold Foundation is proud to bring the Shine Like Gold Mobile Cafe to Anglicare SA Head Offices on Friday 3rd February from 9am to 1pm! \nIn collaboration with Cafetal Coffee Co\, the Mobile Cafe is an Australian-first initiative where young autistic superheroes can learn to build real-life practical skills through workplace paid employment!. \nDownload the flyer here
URL:https://goldfoundation.com.au/event/shine-like-gold-community-day/
LOCATION:Anglicare SA head office\, 159 Port Rd\, Hindmarsh\, SA\, 5007\, Australia
ORGANIZER;CN="The Gold Foundation":MAILTO:info@goldfoundation.com.au
END:VEVENT
BEGIN:VEVENT
DTSTART;TZID=Australia/Adelaide:20230204T120000
DTEND;TZID=Australia/Adelaide:20230204T140000
DTSTAMP:20260422T063107
CREATED:20230105T071552Z
LAST-MODIFIED:20230106T003340Z
UID:10002558-1675512000-1675519200@goldfoundation.com.au
SUMMARY:Youth Group (13 to 18 years)
DESCRIPTION:Gold Foundation organises regular social groups for young people on the Autism Spectrum from 13 to 18 years of age.\nOur Youth Groups are held in a relaxed and fun environment\, where young people can be social together\, forge lasting friendships and\, informally\, develop social skills and connect with others their age.
URL:https://goldfoundation.com.au/event/youth-group-13-to-18-years-2023-02-03/
LOCATION:The Beachouse\, 4 Colley Tce\, Glenelg\, SA\, 5045
ATTACH;FMTTYPE=image/jpeg:https://goldfoundation.com.au/wp-content/uploads/2023/01/Youth-Group-IMG_2255-scaled.jpg
ORGANIZER;CN="The Gold Foundation":MAILTO:info@goldfoundation.com.au
END:VEVENT
BEGIN:VEVENT
DTSTART;TZID=Australia/Adelaide:20230204T180000
DTEND;TZID=Australia/Adelaide:20230204T210000
DTSTAMP:20260422T063107
CREATED:20230106T000839Z
LAST-MODIFIED:20230106T000839Z
UID:10002567-1675533600-1675544400@goldfoundation.com.au
SUMMARY:Not So Youth Group (ages 18+)
DESCRIPTION:Not So Youth Group is a social group for young adults on the Autism Spectrum where attendees can be social\, find common ground and make friends\, all the while continuing to develop communication and social skills.
URL:https://goldfoundation.com.au/event/not-so-youth-group-ages-18-6/
LOCATION:The Gold Foundation\, 9-11 Carlisle Street\, Camden Park\, SA\, 5038\, Australia
ATTACH;FMTTYPE=image/jpeg:https://goldfoundation.com.au/wp-content/uploads/2022/05/4E06F244-D2EB-41A7-8C1A-B2819B9FFDC8.jpg
ORGANIZER;CN="The Gold Foundation":MAILTO:info@goldfoundation.com.au
END:VEVENT
BEGIN:VEVENT
DTSTART;TZID=Australia/Adelaide:20230210T183000
DTEND;TZID=Australia/Adelaide:20230210T203000
DTSTAMP:20260422T063107
CREATED:20230105T071552Z
LAST-MODIFIED:20230601T073159Z
UID:10002518-1676053800-1676061000@goldfoundation.com.au
SUMMARY:Youth Group (13 to 18 years)
DESCRIPTION:Gold Foundation organises regular social groups for young people on the Autism Spectrum from 13 to 18 years of age.\nOur Youth Groups are held in a relaxed and fun environment\, where young people can be social together\, forge lasting friendships and\, informally\, develop social skills and connect with others their age.
URL:https://goldfoundation.com.au/event/youth-group-13-to-18-years/2023-02-10/
LOCATION:The Gold Foundation\, 9-11 Carlisle Street\, Camden Park\, SA\, 5038\, Australia
ATTACH;FMTTYPE=image/jpeg:https://goldfoundation.com.au/wp-content/uploads/2023/01/Youth-Group-IMG_2255-scaled.jpg
ORGANIZER;CN="The Gold Foundation":MAILTO:info@goldfoundation.com.au
END:VEVENT
BEGIN:VEVENT
DTSTART;TZID=Australia/Adelaide:20230211T180000
DTEND;TZID=Australia/Adelaide:20230211T200000
DTSTAMP:20260422T063107
CREATED:20230106T001117Z
LAST-MODIFIED:20230106T001117Z
UID:10001585-1676138400-1676145600@goldfoundation.com.au
SUMMARY:Not So Youth Group (ages 18+)
DESCRIPTION:Not So Youth Group is a social group for young adults on the Autism Spectrum where attendees can be social\, find common ground and make friends\, all the while continuing to develop communication and social skills.
URL:https://goldfoundation.com.au/event/not-so-youth-group-ages-18-7/
LOCATION:The Gold Foundation\, 9-11 Carlisle Street\, Camden Park\, SA\, 5038\, Australia
ATTACH;FMTTYPE=image/jpeg:https://goldfoundation.com.au/wp-content/uploads/2022/05/4E06F244-D2EB-41A7-8C1A-B2819B9FFDC8.jpg
ORGANIZER;CN="The Gold Foundation":MAILTO:info@goldfoundation.com.au
END:VEVENT
BEGIN:VEVENT
DTSTART;TZID=Australia/Adelaide:20230217T183000
DTEND;TZID=Australia/Adelaide:20230217T203000
DTSTAMP:20260422T063107
CREATED:20230105T071552Z
LAST-MODIFIED:20230601T073159Z
UID:10002519-1676658600-1676665800@goldfoundation.com.au
SUMMARY:Youth Group (13 to 18 years)
DESCRIPTION:Gold Foundation organises regular social groups for young people on the Autism Spectrum from 13 to 18 years of age.\nOur Youth Groups are held in a relaxed and fun environment\, where young people can be social together\, forge lasting friendships and\, informally\, develop social skills and connect with others their age.
URL:https://goldfoundation.com.au/event/youth-group-13-to-18-years/2023-02-17/
LOCATION:The Gold Foundation\, 9-11 Carlisle Street\, Camden Park\, SA\, 5038\, Australia
ATTACH;FMTTYPE=image/jpeg:https://goldfoundation.com.au/wp-content/uploads/2023/01/Youth-Group-IMG_2255-scaled.jpg
ORGANIZER;CN="The Gold Foundation":MAILTO:info@goldfoundation.com.au
END:VEVENT
BEGIN:VEVENT
DTSTART;TZID=Australia/Adelaide:20230218T180000
DTEND;TZID=Australia/Adelaide:20230218T200000
DTSTAMP:20260422T063107
CREATED:20230106T001304Z
LAST-MODIFIED:20230106T001304Z
UID:10001586-1676743200-1676750400@goldfoundation.com.au
SUMMARY:Not So Youth Group (ages 18+)
DESCRIPTION:Not So Youth Group is a social group for young adults on the Autism Spectrum where attendees can be social\, find common ground and make friends\, all the while continuing to develop communication and social skills.
URL:https://goldfoundation.com.au/event/not-so-youth-group-ages-18-8/
LOCATION:Adelaide Fringe
ATTACH;FMTTYPE=image/jpeg:https://goldfoundation.com.au/wp-content/uploads/2022/05/4E06F244-D2EB-41A7-8C1A-B2819B9FFDC8.jpg
ORGANIZER;CN="The Gold Foundation":MAILTO:info@goldfoundation.com.au
END:VEVENT
BEGIN:VEVENT
DTSTART;TZID=Australia/Adelaide:20230222T170000
DTEND;TZID=Australia/Adelaide:20230222T183000
DTSTAMP:20260422T063107
CREATED:20230110T021821Z
LAST-MODIFIED:20230601T005714Z
UID:10001640-1677085200-1677090600@goldfoundation.com.au
SUMMARY:Cadets (ages 8-12)
DESCRIPTION:Cadets is an activity-based social group designed to help young people on the Autism Spectrum aged 8-12 develop friendships and improve their social well-being! Through conversations and activities\, participants have the opportunity to improve their confidence and build their social skills in a safe and fun environment.
URL:https://goldfoundation.com.au/event/cadets-ages-8-12/2023-02-22/
LOCATION:The Gold Foundation\, 9-11 Carlisle Street\, Camden Park\, SA\, 5038\, Australia
ATTACH;FMTTYPE=image/jpeg:https://goldfoundation.com.au/wp-content/uploads/2022/06/f0d14c56-ca5b-9a04-55b4-a1eade43d427.jpg
ORGANIZER;CN="The Gold Foundation":MAILTO:info@goldfoundation.com.au
END:VEVENT
BEGIN:VEVENT
DTSTART;TZID=Australia/Adelaide:20230224T183000
DTEND;TZID=Australia/Adelaide:20230224T203000
DTSTAMP:20260422T063107
CREATED:20230105T071552Z
LAST-MODIFIED:20230601T073159Z
UID:10002520-1677263400-1677270600@goldfoundation.com.au
SUMMARY:Youth Group (13 to 18 years)
DESCRIPTION:Gold Foundation organises regular social groups for young people on the Autism Spectrum from 13 to 18 years of age.\nOur Youth Groups are held in a relaxed and fun environment\, where young people can be social together\, forge lasting friendships and\, informally\, develop social skills and connect with others their age.
URL:https://goldfoundation.com.au/event/youth-group-13-to-18-years/2023-02-24/
LOCATION:The Gold Foundation\, 9-11 Carlisle Street\, Camden Park\, SA\, 5038\, Australia
ATTACH;FMTTYPE=image/jpeg:https://goldfoundation.com.au/wp-content/uploads/2023/01/Youth-Group-IMG_2255-scaled.jpg
ORGANIZER;CN="The Gold Foundation":MAILTO:info@goldfoundation.com.au
END:VEVENT
BEGIN:VEVENT
DTSTART;TZID=Australia/Adelaide:20230225T180000
DTEND;TZID=Australia/Adelaide:20230225T200000
DTSTAMP:20260422T063107
CREATED:20230106T001530Z
LAST-MODIFIED:20230106T001530Z
UID:10001587-1677348000-1677355200@goldfoundation.com.au
SUMMARY:Not So Youth Group (ages 18+)
DESCRIPTION:Not So Youth Group is a social group for young adults on the Autism Spectrum where attendees can be social\, find common ground and make friends\, all the while continuing to develop communication and social skills.
URL:https://goldfoundation.com.au/event/not-so-youth-group-ages-18-9/
LOCATION:The Gold Foundation\, 9-11 Carlisle Street\, Camden Park\, SA\, 5038\, Australia
ATTACH;FMTTYPE=image/jpeg:https://goldfoundation.com.au/wp-content/uploads/2022/05/4E06F244-D2EB-41A7-8C1A-B2819B9FFDC8.jpg
ORGANIZER;CN="The Gold Foundation":MAILTO:info@goldfoundation.com.au
END:VEVENT
END:VCALENDAR