
BEGIN:VCALENDAR
VERSION:2.0
PRODID:-//Gold Foundation - ECPv6.15.13.1//NONSGML v1.0//EN
CALSCALE:GREGORIAN
METHOD:PUBLISH
X-WR-CALNAME:Gold Foundation
X-ORIGINAL-URL:https://goldfoundation.com.au
X-WR-CALDESC:Events for Gold Foundation
REFRESH-INTERVAL;VALUE=DURATION:PT1H
X-Robots-Tag:noindex
X-PUBLISHED-TTL:PT1H
BEGIN:VTIMEZONE
TZID:Australia/Adelaide
BEGIN:STANDARD
TZOFFSETFROM:+1030
TZOFFSETTO:+0930
TZNAME:ACST
DTSTART:20220402T163000
END:STANDARD
BEGIN:DAYLIGHT
TZOFFSETFROM:+0930
TZOFFSETTO:+1030
TZNAME:ACDT
DTSTART:20221001T163000
END:DAYLIGHT
BEGIN:STANDARD
TZOFFSETFROM:+1030
TZOFFSETTO:+0930
TZNAME:ACST
DTSTART:20230401T163000
END:STANDARD
BEGIN:DAYLIGHT
TZOFFSETFROM:+0930
TZOFFSETTO:+1030
TZNAME:ACDT
DTSTART:20230930T163000
END:DAYLIGHT
BEGIN:STANDARD
TZOFFSETFROM:+1030
TZOFFSETTO:+0930
TZNAME:ACST
DTSTART:20240406T163000
END:STANDARD
BEGIN:DAYLIGHT
TZOFFSETFROM:+0930
TZOFFSETTO:+1030
TZNAME:ACDT
DTSTART:20241005T163000
END:DAYLIGHT
END:VTIMEZONE
BEGIN:VEVENT
DTSTART;TZID=Australia/Adelaide:20230404T180000
DTEND;TZID=Australia/Adelaide:20230404T190000
DTSTAMP:20260422T040731
CREATED:20230113T023033Z
LAST-MODIFIED:20230113T023033Z
UID:10002586-1680631200-1680634800@goldfoundation.com.au
SUMMARY:What's the Buzz? (ages 9-11)
DESCRIPTION:What’s the Buzz? (ages 9-11) is a 16-week social skills enrichment program for 9-11 year olds on the Autism Spectrum that encourages children to think about how to get along with others and explore the benefits of developing new social skills.
URL:https://goldfoundation.com.au/event/whats-the-buzz-ages-9-11-2/2023-04-04/
LOCATION:The Gold Foundation\, 9-11 Carlisle Street\, Camden Park\, SA\, 5038\, Australia
ATTACH;FMTTYPE=image/jpeg:https://goldfoundation.com.au/wp-content/uploads/2021/10/WTB-Graduation-10-scaled.jpg
ORGANIZER;CN="The Gold Foundation":MAILTO:info@goldfoundation.com.au
END:VEVENT
BEGIN:VEVENT
DTSTART;TZID=Australia/Adelaide:20230405T170000
DTEND;TZID=Australia/Adelaide:20230405T180000
DTSTAMP:20260422T040731
CREATED:20230113T021222Z
LAST-MODIFIED:20230113T021222Z
UID:10002570-1680714000-1680717600@goldfoundation.com.au
SUMMARY:What's the Buzz? (Early Learners) (5-8 years)
DESCRIPTION:What’s the Buzz? (ages 5-8) is a 16-week social skills enrichment program for for 5-8 year olds on the Autism Spectrum that encourages children to think about how to get along with others and explore the benefits of developing new social skills.
URL:https://goldfoundation.com.au/event/whats-the-buzz-early-learners-5-8-years/2023-04-05/
LOCATION:The Gold Foundation\, 9-11 Carlisle Street\, Camden Park\, SA\, 5038\, Australia
ORGANIZER;CN="The Gold Foundation":MAILTO:info@goldfoundation.com.au
END:VEVENT
BEGIN:VEVENT
DTSTART;TZID=Australia/Adelaide:20230405T170000
DTEND;TZID=Australia/Adelaide:20230405T183000
DTSTAMP:20260422T040731
CREATED:20230110T021821Z
LAST-MODIFIED:20230601T005714Z
UID:10001646-1680714000-1680719400@goldfoundation.com.au
SUMMARY:Cadets (ages 8-12)
DESCRIPTION:Cadets is an activity-based social group designed to help young people on the Autism Spectrum aged 8-12 develop friendships and improve their social well-being! Through conversations and activities\, participants have the opportunity to improve their confidence and build their social skills in a safe and fun environment.
URL:https://goldfoundation.com.au/event/cadets-ages-8-12/2023-04-05/
LOCATION:The Gold Foundation\, 9-11 Carlisle Street\, Camden Park\, SA\, 5038\, Australia
ATTACH;FMTTYPE=image/jpeg:https://goldfoundation.com.au/wp-content/uploads/2022/06/f0d14c56-ca5b-9a04-55b4-a1eade43d427.jpg
ORGANIZER;CN="The Gold Foundation":MAILTO:info@goldfoundation.com.au
END:VEVENT
BEGIN:VEVENT
DTSTART;TZID=Australia/Adelaide:20230406T180000
DTEND;TZID=Australia/Adelaide:20230406T193000
DTSTAMP:20260422T040731
CREATED:20230328T061510Z
LAST-MODIFIED:20230328T061536Z
UID:10002601-1680804000-1680809400@goldfoundation.com.au
SUMMARY:Work Ready Program — Beginners (Ages 16+)
DESCRIPTION:
URL:https://goldfoundation.com.au/event/work-ready-program-beginners-ages-16/2023-04-06/
LOCATION:The Gold Foundation\, 9-11 Carlisle Street\, Camden Park\, SA\, 5038\, Australia
ATTACH;FMTTYPE=image/jpeg:https://goldfoundation.com.au/wp-content/uploads/2022/05/Work-Ready-1.jpg
ORGANIZER;CN="The Gold Foundation":MAILTO:info@goldfoundation.com.au
END:VEVENT
BEGIN:VEVENT
DTSTART;TZID=Australia/Adelaide:20230411T180000
DTEND;TZID=Australia/Adelaide:20230411T190000
DTSTAMP:20260422T040731
CREATED:20230113T023033Z
LAST-MODIFIED:20230113T023033Z
UID:10002587-1681236000-1681239600@goldfoundation.com.au
SUMMARY:What's the Buzz? (ages 9-11)
DESCRIPTION:What’s the Buzz? (ages 9-11) is a 16-week social skills enrichment program for 9-11 year olds on the Autism Spectrum that encourages children to think about how to get along with others and explore the benefits of developing new social skills.
URL:https://goldfoundation.com.au/event/whats-the-buzz-ages-9-11-2/2023-04-11/
LOCATION:The Gold Foundation\, 9-11 Carlisle Street\, Camden Park\, SA\, 5038\, Australia
ATTACH;FMTTYPE=image/jpeg:https://goldfoundation.com.au/wp-content/uploads/2021/10/WTB-Graduation-10-scaled.jpg
ORGANIZER;CN="The Gold Foundation":MAILTO:info@goldfoundation.com.au
END:VEVENT
BEGIN:VEVENT
DTSTART;TZID=Australia/Adelaide:20230412T170000
DTEND;TZID=Australia/Adelaide:20230412T180000
DTSTAMP:20260422T040731
CREATED:20230113T021222Z
LAST-MODIFIED:20230113T021222Z
UID:10002571-1681318800-1681322400@goldfoundation.com.au
SUMMARY:What's the Buzz? (Early Learners) (5-8 years)
DESCRIPTION:What’s the Buzz? (ages 5-8) is a 16-week social skills enrichment program for for 5-8 year olds on the Autism Spectrum that encourages children to think about how to get along with others and explore the benefits of developing new social skills.
URL:https://goldfoundation.com.au/event/whats-the-buzz-early-learners-5-8-years/2023-04-12/
LOCATION:The Gold Foundation\, 9-11 Carlisle Street\, Camden Park\, SA\, 5038\, Australia
ORGANIZER;CN="The Gold Foundation":MAILTO:info@goldfoundation.com.au
END:VEVENT
BEGIN:VEVENT
DTSTART;TZID=Australia/Adelaide:20230412T170000
DTEND;TZID=Australia/Adelaide:20230412T183000
DTSTAMP:20260422T040731
CREATED:20230110T021821Z
LAST-MODIFIED:20230601T005714Z
UID:10001647-1681318800-1681324200@goldfoundation.com.au
SUMMARY:Cadets (ages 8-12)
DESCRIPTION:Cadets is an activity-based social group designed to help young people on the Autism Spectrum aged 8-12 develop friendships and improve their social well-being! Through conversations and activities\, participants have the opportunity to improve their confidence and build their social skills in a safe and fun environment.
URL:https://goldfoundation.com.au/event/cadets-ages-8-12/2023-04-12/
LOCATION:The Gold Foundation\, 9-11 Carlisle Street\, Camden Park\, SA\, 5038\, Australia
ATTACH;FMTTYPE=image/jpeg:https://goldfoundation.com.au/wp-content/uploads/2022/06/f0d14c56-ca5b-9a04-55b4-a1eade43d427.jpg
ORGANIZER;CN="The Gold Foundation":MAILTO:info@goldfoundation.com.au
END:VEVENT
BEGIN:VEVENT
DTSTART;TZID=Australia/Adelaide:20230413T180000
DTEND;TZID=Australia/Adelaide:20230413T193000
DTSTAMP:20260422T040731
CREATED:20230328T061510Z
LAST-MODIFIED:20230328T061536Z
UID:10002602-1681408800-1681414200@goldfoundation.com.au
SUMMARY:Work Ready Program — Beginners (Ages 16+)
DESCRIPTION:
URL:https://goldfoundation.com.au/event/work-ready-program-beginners-ages-16/2023-04-13/
LOCATION:The Gold Foundation\, 9-11 Carlisle Street\, Camden Park\, SA\, 5038\, Australia
ATTACH;FMTTYPE=image/jpeg:https://goldfoundation.com.au/wp-content/uploads/2022/05/Work-Ready-1.jpg
ORGANIZER;CN="The Gold Foundation":MAILTO:info@goldfoundation.com.au
END:VEVENT
BEGIN:VEVENT
DTSTART;TZID=Australia/Adelaide:20230414T170000
DTEND;TZID=Australia/Adelaide:20230414T180000
DTSTAMP:20260422T040731
CREATED:20230110T012933Z
LAST-MODIFIED:20230110T012933Z
UID:10001633-1681491600-1681495200@goldfoundation.com.au
SUMMARY:Dance Diverse (ages 13+)
DESCRIPTION:A brand-new ‘life skills’ program in which participants will develop social skills\, increase self-confidence and experience the many benefits of dance in a safe\, fun environment.
URL:https://goldfoundation.com.au/event/dance-diverse-ages-13/2023-04-14/
LOCATION:The Gold Foundation\, 9-11 Carlisle Street\, Camden Park\, SA\, 5038\, Australia
ATTACH;FMTTYPE=image/jpeg:https://goldfoundation.com.au/wp-content/uploads/2023/01/Dance-Diverse-website-image.jpg
ORGANIZER;CN="The Gold Foundation":MAILTO:info@goldfoundation.com.au
END:VEVENT
BEGIN:VEVENT
DTSTART;TZID=Australia/Adelaide:20230414T183000
DTEND;TZID=Australia/Adelaide:20230414T203000
DTSTAMP:20260422T040731
CREATED:20230105T071552Z
LAST-MODIFIED:20230601T073159Z
UID:10002524-1681497000-1681504200@goldfoundation.com.au
SUMMARY:Youth Group (13 to 18 years)
DESCRIPTION:Gold Foundation organises regular social groups for young people on the Autism Spectrum from 13 to 18 years of age.\nOur Youth Groups are held in a relaxed and fun environment\, where young people can be social together\, forge lasting friendships and\, informally\, develop social skills and connect with others their age.
URL:https://goldfoundation.com.au/event/youth-group-13-to-18-years/2023-04-14/
LOCATION:The Gold Foundation\, 9-11 Carlisle Street\, Camden Park\, SA\, 5038\, Australia
ATTACH;FMTTYPE=image/jpeg:https://goldfoundation.com.au/wp-content/uploads/2023/01/Youth-Group-IMG_2255-scaled.jpg
ORGANIZER;CN="The Gold Foundation":MAILTO:info@goldfoundation.com.au
END:VEVENT
BEGIN:VEVENT
DTSTART;TZID=Australia/Adelaide:20230415T180000
DTEND;TZID=Australia/Adelaide:20230415T200000
DTSTAMP:20260422T040731
CREATED:20230106T002604Z
LAST-MODIFIED:20230106T002604Z
UID:10001592-1681581600-1681588800@goldfoundation.com.au
SUMMARY:Not So Youth Group (ages 18+)
DESCRIPTION:Not So Youth Group is a social group for young adults on the Autism Spectrum where attendees can be social\, find common ground and make friends\, all the while continuing to develop communication and social skills.
URL:https://goldfoundation.com.au/event/not-so-youth-group-ages-18-14/2023-04-15/
LOCATION:The Gold Foundation\, 9-11 Carlisle Street\, Camden Park\, SA\, 5038\, Australia
ATTACH;FMTTYPE=image/jpeg:https://goldfoundation.com.au/wp-content/uploads/2022/05/4E06F244-D2EB-41A7-8C1A-B2819B9FFDC8.jpg
ORGANIZER;CN="The Gold Foundation":MAILTO:info@goldfoundation.com.au
END:VEVENT
BEGIN:VEVENT
DTSTART;TZID=Australia/Adelaide:20230418T180000
DTEND;TZID=Australia/Adelaide:20230418T190000
DTSTAMP:20260422T040731
CREATED:20230113T023033Z
LAST-MODIFIED:20230113T023033Z
UID:10002588-1681840800-1681844400@goldfoundation.com.au
SUMMARY:What's the Buzz? (ages 9-11)
DESCRIPTION:What’s the Buzz? (ages 9-11) is a 16-week social skills enrichment program for 9-11 year olds on the Autism Spectrum that encourages children to think about how to get along with others and explore the benefits of developing new social skills.
URL:https://goldfoundation.com.au/event/whats-the-buzz-ages-9-11-2/2023-04-18/
LOCATION:The Gold Foundation\, 9-11 Carlisle Street\, Camden Park\, SA\, 5038\, Australia
ATTACH;FMTTYPE=image/jpeg:https://goldfoundation.com.au/wp-content/uploads/2021/10/WTB-Graduation-10-scaled.jpg
ORGANIZER;CN="The Gold Foundation":MAILTO:info@goldfoundation.com.au
END:VEVENT
BEGIN:VEVENT
DTSTART;TZID=Australia/Adelaide:20230419T170000
DTEND;TZID=Australia/Adelaide:20230419T180000
DTSTAMP:20260422T040731
CREATED:20230113T021222Z
LAST-MODIFIED:20230113T021222Z
UID:10002572-1681923600-1681927200@goldfoundation.com.au
SUMMARY:What's the Buzz? (Early Learners) (5-8 years)
DESCRIPTION:What’s the Buzz? (ages 5-8) is a 16-week social skills enrichment program for for 5-8 year olds on the Autism Spectrum that encourages children to think about how to get along with others and explore the benefits of developing new social skills.
URL:https://goldfoundation.com.au/event/whats-the-buzz-early-learners-5-8-years/2023-04-19/
LOCATION:The Gold Foundation\, 9-11 Carlisle Street\, Camden Park\, SA\, 5038\, Australia
ORGANIZER;CN="The Gold Foundation":MAILTO:info@goldfoundation.com.au
END:VEVENT
BEGIN:VEVENT
DTSTART;TZID=Australia/Adelaide:20230419T170000
DTEND;TZID=Australia/Adelaide:20230419T183000
DTSTAMP:20260422T040731
CREATED:20230110T021821Z
LAST-MODIFIED:20230601T005714Z
UID:10001648-1681923600-1681929000@goldfoundation.com.au
SUMMARY:Cadets (ages 8-12)
DESCRIPTION:Cadets is an activity-based social group designed to help young people on the Autism Spectrum aged 8-12 develop friendships and improve their social well-being! Through conversations and activities\, participants have the opportunity to improve their confidence and build their social skills in a safe and fun environment.
URL:https://goldfoundation.com.au/event/cadets-ages-8-12/2023-04-19/
LOCATION:The Gold Foundation\, 9-11 Carlisle Street\, Camden Park\, SA\, 5038\, Australia
ATTACH;FMTTYPE=image/jpeg:https://goldfoundation.com.au/wp-content/uploads/2022/06/f0d14c56-ca5b-9a04-55b4-a1eade43d427.jpg
ORGANIZER;CN="The Gold Foundation":MAILTO:info@goldfoundation.com.au
END:VEVENT
BEGIN:VEVENT
DTSTART;TZID=Australia/Adelaide:20230420T180000
DTEND;TZID=Australia/Adelaide:20230420T193000
DTSTAMP:20260422T040731
CREATED:20230328T061510Z
LAST-MODIFIED:20230328T061536Z
UID:10002603-1682013600-1682019000@goldfoundation.com.au
SUMMARY:Work Ready Program — Beginners (Ages 16+)
DESCRIPTION:
URL:https://goldfoundation.com.au/event/work-ready-program-beginners-ages-16/2023-04-20/
LOCATION:The Gold Foundation\, 9-11 Carlisle Street\, Camden Park\, SA\, 5038\, Australia
ATTACH;FMTTYPE=image/jpeg:https://goldfoundation.com.au/wp-content/uploads/2022/05/Work-Ready-1.jpg
ORGANIZER;CN="The Gold Foundation":MAILTO:info@goldfoundation.com.au
END:VEVENT
BEGIN:VEVENT
DTSTART;TZID=Australia/Adelaide:20230421T170000
DTEND;TZID=Australia/Adelaide:20230421T180000
DTSTAMP:20260422T040731
CREATED:20230110T012933Z
LAST-MODIFIED:20230110T012933Z
UID:10001634-1682096400-1682100000@goldfoundation.com.au
SUMMARY:Dance Diverse (ages 13+)
DESCRIPTION:A brand-new ‘life skills’ program in which participants will develop social skills\, increase self-confidence and experience the many benefits of dance in a safe\, fun environment.
URL:https://goldfoundation.com.au/event/dance-diverse-ages-13/2023-04-21/
LOCATION:The Gold Foundation\, 9-11 Carlisle Street\, Camden Park\, SA\, 5038\, Australia
ATTACH;FMTTYPE=image/jpeg:https://goldfoundation.com.au/wp-content/uploads/2023/01/Dance-Diverse-website-image.jpg
ORGANIZER;CN="The Gold Foundation":MAILTO:info@goldfoundation.com.au
END:VEVENT
BEGIN:VEVENT
DTSTART;TZID=Australia/Adelaide:20230421T183000
DTEND;TZID=Australia/Adelaide:20230421T203000
DTSTAMP:20260422T040731
CREATED:20230105T071552Z
LAST-MODIFIED:20230601T073159Z
UID:10002525-1682101800-1682109000@goldfoundation.com.au
SUMMARY:Youth Group (13 to 18 years)
DESCRIPTION:Gold Foundation organises regular social groups for young people on the Autism Spectrum from 13 to 18 years of age.\nOur Youth Groups are held in a relaxed and fun environment\, where young people can be social together\, forge lasting friendships and\, informally\, develop social skills and connect with others their age.
URL:https://goldfoundation.com.au/event/youth-group-13-to-18-years/2023-04-21/
LOCATION:The Gold Foundation\, 9-11 Carlisle Street\, Camden Park\, SA\, 5038\, Australia
ATTACH;FMTTYPE=image/jpeg:https://goldfoundation.com.au/wp-content/uploads/2023/01/Youth-Group-IMG_2255-scaled.jpg
ORGANIZER;CN="The Gold Foundation":MAILTO:info@goldfoundation.com.au
END:VEVENT
BEGIN:VEVENT
DTSTART;TZID=Australia/Adelaide:20230422T180000
DTEND;TZID=Australia/Adelaide:20230422T200000
DTSTAMP:20260422T040731
CREATED:20230106T002604Z
LAST-MODIFIED:20230106T002604Z
UID:10001593-1682186400-1682193600@goldfoundation.com.au
SUMMARY:Not So Youth Group (ages 18+)
DESCRIPTION:Not So Youth Group is a social group for young adults on the Autism Spectrum where attendees can be social\, find common ground and make friends\, all the while continuing to develop communication and social skills.
URL:https://goldfoundation.com.au/event/not-so-youth-group-ages-18-14/2023-04-22/
LOCATION:The Gold Foundation\, 9-11 Carlisle Street\, Camden Park\, SA\, 5038\, Australia
ATTACH;FMTTYPE=image/jpeg:https://goldfoundation.com.au/wp-content/uploads/2022/05/4E06F244-D2EB-41A7-8C1A-B2819B9FFDC8.jpg
ORGANIZER;CN="The Gold Foundation":MAILTO:info@goldfoundation.com.au
END:VEVENT
BEGIN:VEVENT
DTSTART;TZID=Australia/Adelaide:20230426T170000
DTEND;TZID=Australia/Adelaide:20230426T180000
DTSTAMP:20260422T040731
CREATED:20230113T021222Z
LAST-MODIFIED:20230113T021222Z
UID:10002573-1682528400-1682532000@goldfoundation.com.au
SUMMARY:What's the Buzz? (Early Learners) (5-8 years)
DESCRIPTION:What’s the Buzz? (ages 5-8) is a 16-week social skills enrichment program for for 5-8 year olds on the Autism Spectrum that encourages children to think about how to get along with others and explore the benefits of developing new social skills.
URL:https://goldfoundation.com.au/event/whats-the-buzz-early-learners-5-8-years/2023-04-26/
LOCATION:The Gold Foundation\, 9-11 Carlisle Street\, Camden Park\, SA\, 5038\, Australia
ORGANIZER;CN="The Gold Foundation":MAILTO:info@goldfoundation.com.au
END:VEVENT
BEGIN:VEVENT
DTSTART;TZID=Australia/Adelaide:20230426T170000
DTEND;TZID=Australia/Adelaide:20230426T183000
DTSTAMP:20260422T040731
CREATED:20230110T021821Z
LAST-MODIFIED:20230601T005714Z
UID:10001649-1682528400-1682533800@goldfoundation.com.au
SUMMARY:Cadets (ages 8-12)
DESCRIPTION:Cadets is an activity-based social group designed to help young people on the Autism Spectrum aged 8-12 develop friendships and improve their social well-being! Through conversations and activities\, participants have the opportunity to improve their confidence and build their social skills in a safe and fun environment.
URL:https://goldfoundation.com.au/event/cadets-ages-8-12/2023-04-26/
LOCATION:The Gold Foundation\, 9-11 Carlisle Street\, Camden Park\, SA\, 5038\, Australia
ATTACH;FMTTYPE=image/jpeg:https://goldfoundation.com.au/wp-content/uploads/2022/06/f0d14c56-ca5b-9a04-55b4-a1eade43d427.jpg
ORGANIZER;CN="The Gold Foundation":MAILTO:info@goldfoundation.com.au
END:VEVENT
BEGIN:VEVENT
DTSTART;TZID=Australia/Adelaide:20230427T180000
DTEND;TZID=Australia/Adelaide:20230427T193000
DTSTAMP:20260422T040731
CREATED:20230328T061510Z
LAST-MODIFIED:20230328T061536Z
UID:10002604-1682618400-1682623800@goldfoundation.com.au
SUMMARY:Work Ready Program — Beginners (Ages 16+)
DESCRIPTION:
URL:https://goldfoundation.com.au/event/work-ready-program-beginners-ages-16/2023-04-27/
LOCATION:The Gold Foundation\, 9-11 Carlisle Street\, Camden Park\, SA\, 5038\, Australia
ATTACH;FMTTYPE=image/jpeg:https://goldfoundation.com.au/wp-content/uploads/2022/05/Work-Ready-1.jpg
ORGANIZER;CN="The Gold Foundation":MAILTO:info@goldfoundation.com.au
END:VEVENT
BEGIN:VEVENT
DTSTART;TZID=Australia/Adelaide:20230428T170000
DTEND;TZID=Australia/Adelaide:20230428T180000
DTSTAMP:20260422T040731
CREATED:20230110T012933Z
LAST-MODIFIED:20230110T012933Z
UID:10001635-1682701200-1682704800@goldfoundation.com.au
SUMMARY:Dance Diverse (ages 13+)
DESCRIPTION:A brand-new ‘life skills’ program in which participants will develop social skills\, increase self-confidence and experience the many benefits of dance in a safe\, fun environment.
URL:https://goldfoundation.com.au/event/dance-diverse-ages-13/2023-04-28/
LOCATION:The Gold Foundation\, 9-11 Carlisle Street\, Camden Park\, SA\, 5038\, Australia
ATTACH;FMTTYPE=image/jpeg:https://goldfoundation.com.au/wp-content/uploads/2023/01/Dance-Diverse-website-image.jpg
ORGANIZER;CN="The Gold Foundation":MAILTO:info@goldfoundation.com.au
END:VEVENT
BEGIN:VEVENT
DTSTART;TZID=Australia/Adelaide:20230428T183000
DTEND;TZID=Australia/Adelaide:20230428T203000
DTSTAMP:20260422T040731
CREATED:20230105T071552Z
LAST-MODIFIED:20230601T073159Z
UID:10002526-1682706600-1682713800@goldfoundation.com.au
SUMMARY:Youth Group (13 to 18 years)
DESCRIPTION:Gold Foundation organises regular social groups for young people on the Autism Spectrum from 13 to 18 years of age.\nOur Youth Groups are held in a relaxed and fun environment\, where young people can be social together\, forge lasting friendships and\, informally\, develop social skills and connect with others their age.
URL:https://goldfoundation.com.au/event/youth-group-13-to-18-years/2023-04-28/
LOCATION:The Gold Foundation\, 9-11 Carlisle Street\, Camden Park\, SA\, 5038\, Australia
ATTACH;FMTTYPE=image/jpeg:https://goldfoundation.com.au/wp-content/uploads/2023/01/Youth-Group-IMG_2255-scaled.jpg
ORGANIZER;CN="The Gold Foundation":MAILTO:info@goldfoundation.com.au
END:VEVENT
BEGIN:VEVENT
DTSTART;TZID=Australia/Adelaide:20230429T180000
DTEND;TZID=Australia/Adelaide:20230429T200000
DTSTAMP:20260422T040731
CREATED:20230106T002604Z
LAST-MODIFIED:20230106T002604Z
UID:10001594-1682791200-1682798400@goldfoundation.com.au
SUMMARY:Not So Youth Group (ages 18+)
DESCRIPTION:Not So Youth Group is a social group for young adults on the Autism Spectrum where attendees can be social\, find common ground and make friends\, all the while continuing to develop communication and social skills.
URL:https://goldfoundation.com.au/event/not-so-youth-group-ages-18-14/2023-04-29/
LOCATION:The Gold Foundation\, 9-11 Carlisle Street\, Camden Park\, SA\, 5038\, Australia
ATTACH;FMTTYPE=image/jpeg:https://goldfoundation.com.au/wp-content/uploads/2022/05/4E06F244-D2EB-41A7-8C1A-B2819B9FFDC8.jpg
ORGANIZER;CN="The Gold Foundation":MAILTO:info@goldfoundation.com.au
END:VEVENT
END:VCALENDAR