
BEGIN:VCALENDAR
VERSION:2.0
PRODID:-//Gold Foundation - ECPv6.15.13.1//NONSGML v1.0//EN
CALSCALE:GREGORIAN
METHOD:PUBLISH
X-WR-CALNAME:Gold Foundation
X-ORIGINAL-URL:https://goldfoundation.com.au
X-WR-CALDESC:Events for Gold Foundation
REFRESH-INTERVAL;VALUE=DURATION:PT1H
X-Robots-Tag:noindex
X-PUBLISHED-TTL:PT1H
BEGIN:VTIMEZONE
TZID:Australia/Adelaide
BEGIN:STANDARD
TZOFFSETFROM:+1030
TZOFFSETTO:+0930
TZNAME:ACST
DTSTART:20220402T163000
END:STANDARD
BEGIN:DAYLIGHT
TZOFFSETFROM:+0930
TZOFFSETTO:+1030
TZNAME:ACDT
DTSTART:20221001T163000
END:DAYLIGHT
BEGIN:STANDARD
TZOFFSETFROM:+1030
TZOFFSETTO:+0930
TZNAME:ACST
DTSTART:20230401T163000
END:STANDARD
BEGIN:DAYLIGHT
TZOFFSETFROM:+0930
TZOFFSETTO:+1030
TZNAME:ACDT
DTSTART:20230930T163000
END:DAYLIGHT
BEGIN:STANDARD
TZOFFSETFROM:+1030
TZOFFSETTO:+0930
TZNAME:ACST
DTSTART:20240406T163000
END:STANDARD
BEGIN:DAYLIGHT
TZOFFSETFROM:+0930
TZOFFSETTO:+1030
TZNAME:ACDT
DTSTART:20241005T163000
END:DAYLIGHT
END:VTIMEZONE
BEGIN:VEVENT
DTSTART;TZID=Australia/Adelaide:20230502T180000
DTEND;TZID=Australia/Adelaide:20230502T190000
DTSTAMP:20260422T024004
CREATED:20230113T023033Z
LAST-MODIFIED:20230113T023033Z
UID:10002589-1683050400-1683054000@goldfoundation.com.au
SUMMARY:What's the Buzz? (ages 9-11)
DESCRIPTION:What’s the Buzz? (ages 9-11) is a 16-week social skills enrichment program for 9-11 year olds on the Autism Spectrum that encourages children to think about how to get along with others and explore the benefits of developing new social skills.
URL:https://goldfoundation.com.au/event/whats-the-buzz-ages-9-11-2/2023-05-02/
LOCATION:The Gold Foundation\, 9-11 Carlisle Street\, Camden Park\, SA\, 5038\, Australia
ATTACH;FMTTYPE=image/jpeg:https://goldfoundation.com.au/wp-content/uploads/2021/10/WTB-Graduation-10-scaled.jpg
ORGANIZER;CN="The Gold Foundation":MAILTO:info@goldfoundation.com.au
END:VEVENT
BEGIN:VEVENT
DTSTART;TZID=Australia/Adelaide:20230503T170000
DTEND;TZID=Australia/Adelaide:20230503T180000
DTSTAMP:20260422T024004
CREATED:20230113T021222Z
LAST-MODIFIED:20230113T021222Z
UID:10002574-1683133200-1683136800@goldfoundation.com.au
SUMMARY:What's the Buzz? (Early Learners) (5-8 years)
DESCRIPTION:What’s the Buzz? (ages 5-8) is a 16-week social skills enrichment program for for 5-8 year olds on the Autism Spectrum that encourages children to think about how to get along with others and explore the benefits of developing new social skills.
URL:https://goldfoundation.com.au/event/whats-the-buzz-early-learners-5-8-years/2023-05-03/
LOCATION:The Gold Foundation\, 9-11 Carlisle Street\, Camden Park\, SA\, 5038\, Australia
ORGANIZER;CN="The Gold Foundation":MAILTO:info@goldfoundation.com.au
END:VEVENT
BEGIN:VEVENT
DTSTART;TZID=Australia/Adelaide:20230503T170000
DTEND;TZID=Australia/Adelaide:20230503T183000
DTSTAMP:20260422T024004
CREATED:20230110T021821Z
LAST-MODIFIED:20230601T005714Z
UID:10001650-1683133200-1683138600@goldfoundation.com.au
SUMMARY:Cadets (ages 8-12)
DESCRIPTION:Cadets is an activity-based social group designed to help young people on the Autism Spectrum aged 8-12 develop friendships and improve their social well-being! Through conversations and activities\, participants have the opportunity to improve their confidence and build their social skills in a safe and fun environment.
URL:https://goldfoundation.com.au/event/cadets-ages-8-12/2023-05-03/
LOCATION:The Gold Foundation\, 9-11 Carlisle Street\, Camden Park\, SA\, 5038\, Australia
ATTACH;FMTTYPE=image/jpeg:https://goldfoundation.com.au/wp-content/uploads/2022/06/f0d14c56-ca5b-9a04-55b4-a1eade43d427.jpg
ORGANIZER;CN="The Gold Foundation":MAILTO:info@goldfoundation.com.au
END:VEVENT
BEGIN:VEVENT
DTSTART;TZID=Australia/Adelaide:20230504T180000
DTEND;TZID=Australia/Adelaide:20230504T193000
DTSTAMP:20260422T024004
CREATED:20230328T061510Z
LAST-MODIFIED:20230328T061536Z
UID:10002605-1683223200-1683228600@goldfoundation.com.au
SUMMARY:Work Ready Program — Beginners (Ages 16+)
DESCRIPTION:
URL:https://goldfoundation.com.au/event/work-ready-program-beginners-ages-16/2023-05-04/
LOCATION:The Gold Foundation\, 9-11 Carlisle Street\, Camden Park\, SA\, 5038\, Australia
ATTACH;FMTTYPE=image/jpeg:https://goldfoundation.com.au/wp-content/uploads/2022/05/Work-Ready-1.jpg
ORGANIZER;CN="The Gold Foundation":MAILTO:info@goldfoundation.com.au
END:VEVENT
BEGIN:VEVENT
DTSTART;TZID=Australia/Adelaide:20230505T170000
DTEND;TZID=Australia/Adelaide:20230505T180000
DTSTAMP:20260422T024004
CREATED:20230110T012933Z
LAST-MODIFIED:20230110T012933Z
UID:10001636-1683306000-1683309600@goldfoundation.com.au
SUMMARY:Dance Diverse (ages 13+)
DESCRIPTION:A brand-new ‘life skills’ program in which participants will develop social skills\, increase self-confidence and experience the many benefits of dance in a safe\, fun environment.
URL:https://goldfoundation.com.au/event/dance-diverse-ages-13/2023-05-05/
LOCATION:The Gold Foundation\, 9-11 Carlisle Street\, Camden Park\, SA\, 5038\, Australia
ATTACH;FMTTYPE=image/jpeg:https://goldfoundation.com.au/wp-content/uploads/2023/01/Dance-Diverse-website-image.jpg
ORGANIZER;CN="The Gold Foundation":MAILTO:info@goldfoundation.com.au
END:VEVENT
BEGIN:VEVENT
DTSTART;TZID=Australia/Adelaide:20230505T183000
DTEND;TZID=Australia/Adelaide:20230505T203000
DTSTAMP:20260422T024004
CREATED:20230105T071552Z
LAST-MODIFIED:20230601T073159Z
UID:10002527-1683311400-1683318600@goldfoundation.com.au
SUMMARY:Youth Group (13 to 18 years)
DESCRIPTION:Gold Foundation organises regular social groups for young people on the Autism Spectrum from 13 to 18 years of age.\nOur Youth Groups are held in a relaxed and fun environment\, where young people can be social together\, forge lasting friendships and\, informally\, develop social skills and connect with others their age.
URL:https://goldfoundation.com.au/event/youth-group-13-to-18-years/2023-05-05/
LOCATION:The Gold Foundation\, 9-11 Carlisle Street\, Camden Park\, SA\, 5038\, Australia
ATTACH;FMTTYPE=image/jpeg:https://goldfoundation.com.au/wp-content/uploads/2023/01/Youth-Group-IMG_2255-scaled.jpg
ORGANIZER;CN="The Gold Foundation":MAILTO:info@goldfoundation.com.au
END:VEVENT
BEGIN:VEVENT
DTSTART;TZID=Australia/Adelaide:20230506T180000
DTEND;TZID=Australia/Adelaide:20230506T200000
DTSTAMP:20260422T024004
CREATED:20230106T002604Z
LAST-MODIFIED:20230106T002604Z
UID:10001595-1683396000-1683403200@goldfoundation.com.au
SUMMARY:Not So Youth Group (ages 18+)
DESCRIPTION:Not So Youth Group is a social group for young adults on the Autism Spectrum where attendees can be social\, find common ground and make friends\, all the while continuing to develop communication and social skills.
URL:https://goldfoundation.com.au/event/not-so-youth-group-ages-18-14/2023-05-06/
LOCATION:The Gold Foundation\, 9-11 Carlisle Street\, Camden Park\, SA\, 5038\, Australia
ATTACH;FMTTYPE=image/jpeg:https://goldfoundation.com.au/wp-content/uploads/2022/05/4E06F244-D2EB-41A7-8C1A-B2819B9FFDC8.jpg
ORGANIZER;CN="The Gold Foundation":MAILTO:info@goldfoundation.com.au
END:VEVENT
BEGIN:VEVENT
DTSTART;TZID=Australia/Adelaide:20230509T180000
DTEND;TZID=Australia/Adelaide:20230509T190000
DTSTAMP:20260422T024004
CREATED:20230113T023033Z
LAST-MODIFIED:20230113T023033Z
UID:10002590-1683655200-1683658800@goldfoundation.com.au
SUMMARY:What's the Buzz? (ages 9-11)
DESCRIPTION:What’s the Buzz? (ages 9-11) is a 16-week social skills enrichment program for 9-11 year olds on the Autism Spectrum that encourages children to think about how to get along with others and explore the benefits of developing new social skills.
URL:https://goldfoundation.com.au/event/whats-the-buzz-ages-9-11-2/2023-05-09/
LOCATION:The Gold Foundation\, 9-11 Carlisle Street\, Camden Park\, SA\, 5038\, Australia
ATTACH;FMTTYPE=image/jpeg:https://goldfoundation.com.au/wp-content/uploads/2021/10/WTB-Graduation-10-scaled.jpg
ORGANIZER;CN="The Gold Foundation":MAILTO:info@goldfoundation.com.au
END:VEVENT
BEGIN:VEVENT
DTSTART;TZID=Australia/Adelaide:20230510T170000
DTEND;TZID=Australia/Adelaide:20230510T180000
DTSTAMP:20260422T024004
CREATED:20230113T021222Z
LAST-MODIFIED:20230113T021222Z
UID:10002575-1683738000-1683741600@goldfoundation.com.au
SUMMARY:What's the Buzz? (Early Learners) (5-8 years)
DESCRIPTION:What’s the Buzz? (ages 5-8) is a 16-week social skills enrichment program for for 5-8 year olds on the Autism Spectrum that encourages children to think about how to get along with others and explore the benefits of developing new social skills.
URL:https://goldfoundation.com.au/event/whats-the-buzz-early-learners-5-8-years/2023-05-10/
LOCATION:The Gold Foundation\, 9-11 Carlisle Street\, Camden Park\, SA\, 5038\, Australia
ORGANIZER;CN="The Gold Foundation":MAILTO:info@goldfoundation.com.au
END:VEVENT
BEGIN:VEVENT
DTSTART;TZID=Australia/Adelaide:20230510T170000
DTEND;TZID=Australia/Adelaide:20230510T183000
DTSTAMP:20260422T024004
CREATED:20230110T021821Z
LAST-MODIFIED:20230601T005714Z
UID:10001651-1683738000-1683743400@goldfoundation.com.au
SUMMARY:Cadets (ages 8-12)
DESCRIPTION:Cadets is an activity-based social group designed to help young people on the Autism Spectrum aged 8-12 develop friendships and improve their social well-being! Through conversations and activities\, participants have the opportunity to improve their confidence and build their social skills in a safe and fun environment.
URL:https://goldfoundation.com.au/event/cadets-ages-8-12/2023-05-10/
LOCATION:The Gold Foundation\, 9-11 Carlisle Street\, Camden Park\, SA\, 5038\, Australia
ATTACH;FMTTYPE=image/jpeg:https://goldfoundation.com.au/wp-content/uploads/2022/06/f0d14c56-ca5b-9a04-55b4-a1eade43d427.jpg
ORGANIZER;CN="The Gold Foundation":MAILTO:info@goldfoundation.com.au
END:VEVENT
BEGIN:VEVENT
DTSTART;TZID=Australia/Adelaide:20230511T180000
DTEND;TZID=Australia/Adelaide:20230511T193000
DTSTAMP:20260422T024004
CREATED:20230328T061510Z
LAST-MODIFIED:20230328T061536Z
UID:10002606-1683828000-1683833400@goldfoundation.com.au
SUMMARY:Work Ready Program — Beginners (Ages 16+)
DESCRIPTION:
URL:https://goldfoundation.com.au/event/work-ready-program-beginners-ages-16/2023-05-11/
LOCATION:The Gold Foundation\, 9-11 Carlisle Street\, Camden Park\, SA\, 5038\, Australia
ATTACH;FMTTYPE=image/jpeg:https://goldfoundation.com.au/wp-content/uploads/2022/05/Work-Ready-1.jpg
ORGANIZER;CN="The Gold Foundation":MAILTO:info@goldfoundation.com.au
END:VEVENT
BEGIN:VEVENT
DTSTART;TZID=Australia/Adelaide:20230512T170000
DTEND;TZID=Australia/Adelaide:20230512T180000
DTSTAMP:20260422T024004
CREATED:20230110T012933Z
LAST-MODIFIED:20230110T012933Z
UID:10001637-1683910800-1683914400@goldfoundation.com.au
SUMMARY:Dance Diverse (ages 13+)
DESCRIPTION:A brand-new ‘life skills’ program in which participants will develop social skills\, increase self-confidence and experience the many benefits of dance in a safe\, fun environment.
URL:https://goldfoundation.com.au/event/dance-diverse-ages-13/2023-05-12/
LOCATION:The Gold Foundation\, 9-11 Carlisle Street\, Camden Park\, SA\, 5038\, Australia
ATTACH;FMTTYPE=image/jpeg:https://goldfoundation.com.au/wp-content/uploads/2023/01/Dance-Diverse-website-image.jpg
ORGANIZER;CN="The Gold Foundation":MAILTO:info@goldfoundation.com.au
END:VEVENT
BEGIN:VEVENT
DTSTART;TZID=Australia/Adelaide:20230512T183000
DTEND;TZID=Australia/Adelaide:20230512T203000
DTSTAMP:20260422T024004
CREATED:20230105T071552Z
LAST-MODIFIED:20230601T073159Z
UID:10002528-1683916200-1683923400@goldfoundation.com.au
SUMMARY:Youth Group (13 to 18 years)
DESCRIPTION:Gold Foundation organises regular social groups for young people on the Autism Spectrum from 13 to 18 years of age.\nOur Youth Groups are held in a relaxed and fun environment\, where young people can be social together\, forge lasting friendships and\, informally\, develop social skills and connect with others their age.
URL:https://goldfoundation.com.au/event/youth-group-13-to-18-years/2023-05-12/
LOCATION:The Gold Foundation\, 9-11 Carlisle Street\, Camden Park\, SA\, 5038\, Australia
ATTACH;FMTTYPE=image/jpeg:https://goldfoundation.com.au/wp-content/uploads/2023/01/Youth-Group-IMG_2255-scaled.jpg
ORGANIZER;CN="The Gold Foundation":MAILTO:info@goldfoundation.com.au
END:VEVENT
BEGIN:VEVENT
DTSTART;TZID=Australia/Adelaide:20230513T180000
DTEND;TZID=Australia/Adelaide:20230513T200000
DTSTAMP:20260422T024004
CREATED:20230106T002604Z
LAST-MODIFIED:20230106T002604Z
UID:10001596-1684000800-1684008000@goldfoundation.com.au
SUMMARY:Not So Youth Group (ages 18+)
DESCRIPTION:Not So Youth Group is a social group for young adults on the Autism Spectrum where attendees can be social\, find common ground and make friends\, all the while continuing to develop communication and social skills.
URL:https://goldfoundation.com.au/event/not-so-youth-group-ages-18-14/2023-05-13/
LOCATION:The Gold Foundation\, 9-11 Carlisle Street\, Camden Park\, SA\, 5038\, Australia
ATTACH;FMTTYPE=image/jpeg:https://goldfoundation.com.au/wp-content/uploads/2022/05/4E06F244-D2EB-41A7-8C1A-B2819B9FFDC8.jpg
ORGANIZER;CN="The Gold Foundation":MAILTO:info@goldfoundation.com.au
END:VEVENT
BEGIN:VEVENT
DTSTART;TZID=Australia/Adelaide:20230516T180000
DTEND;TZID=Australia/Adelaide:20230516T190000
DTSTAMP:20260422T024004
CREATED:20230113T023033Z
LAST-MODIFIED:20230113T023033Z
UID:10002591-1684260000-1684263600@goldfoundation.com.au
SUMMARY:What's the Buzz? (ages 9-11)
DESCRIPTION:What’s the Buzz? (ages 9-11) is a 16-week social skills enrichment program for 9-11 year olds on the Autism Spectrum that encourages children to think about how to get along with others and explore the benefits of developing new social skills.
URL:https://goldfoundation.com.au/event/whats-the-buzz-ages-9-11-2/2023-05-16/
LOCATION:The Gold Foundation\, 9-11 Carlisle Street\, Camden Park\, SA\, 5038\, Australia
ATTACH;FMTTYPE=image/jpeg:https://goldfoundation.com.au/wp-content/uploads/2021/10/WTB-Graduation-10-scaled.jpg
ORGANIZER;CN="The Gold Foundation":MAILTO:info@goldfoundation.com.au
END:VEVENT
BEGIN:VEVENT
DTSTART;TZID=Australia/Adelaide:20230517T170000
DTEND;TZID=Australia/Adelaide:20230517T180000
DTSTAMP:20260422T024004
CREATED:20230113T021222Z
LAST-MODIFIED:20230113T021222Z
UID:10002576-1684342800-1684346400@goldfoundation.com.au
SUMMARY:What's the Buzz? (Early Learners) (5-8 years)
DESCRIPTION:What’s the Buzz? (ages 5-8) is a 16-week social skills enrichment program for for 5-8 year olds on the Autism Spectrum that encourages children to think about how to get along with others and explore the benefits of developing new social skills.
URL:https://goldfoundation.com.au/event/whats-the-buzz-early-learners-5-8-years/2023-05-17/
LOCATION:The Gold Foundation\, 9-11 Carlisle Street\, Camden Park\, SA\, 5038\, Australia
ORGANIZER;CN="The Gold Foundation":MAILTO:info@goldfoundation.com.au
END:VEVENT
BEGIN:VEVENT
DTSTART;TZID=Australia/Adelaide:20230517T170000
DTEND;TZID=Australia/Adelaide:20230517T183000
DTSTAMP:20260422T024004
CREATED:20230110T021821Z
LAST-MODIFIED:20230601T005714Z
UID:10001652-1684342800-1684348200@goldfoundation.com.au
SUMMARY:Cadets (ages 8-12)
DESCRIPTION:Cadets is an activity-based social group designed to help young people on the Autism Spectrum aged 8-12 develop friendships and improve their social well-being! Through conversations and activities\, participants have the opportunity to improve their confidence and build their social skills in a safe and fun environment.
URL:https://goldfoundation.com.au/event/cadets-ages-8-12/2023-05-17/
LOCATION:The Gold Foundation\, 9-11 Carlisle Street\, Camden Park\, SA\, 5038\, Australia
ATTACH;FMTTYPE=image/jpeg:https://goldfoundation.com.au/wp-content/uploads/2022/06/f0d14c56-ca5b-9a04-55b4-a1eade43d427.jpg
ORGANIZER;CN="The Gold Foundation":MAILTO:info@goldfoundation.com.au
END:VEVENT
BEGIN:VEVENT
DTSTART;TZID=Australia/Adelaide:20230518T180000
DTEND;TZID=Australia/Adelaide:20230518T193000
DTSTAMP:20260422T024004
CREATED:20230328T061510Z
LAST-MODIFIED:20230328T061536Z
UID:10002607-1684432800-1684438200@goldfoundation.com.au
SUMMARY:Work Ready Program — Beginners (Ages 16+)
DESCRIPTION:
URL:https://goldfoundation.com.au/event/work-ready-program-beginners-ages-16/2023-05-18/
LOCATION:The Gold Foundation\, 9-11 Carlisle Street\, Camden Park\, SA\, 5038\, Australia
ATTACH;FMTTYPE=image/jpeg:https://goldfoundation.com.au/wp-content/uploads/2022/05/Work-Ready-1.jpg
ORGANIZER;CN="The Gold Foundation":MAILTO:info@goldfoundation.com.au
END:VEVENT
BEGIN:VEVENT
DTSTART;TZID=Australia/Adelaide:20230519T170000
DTEND;TZID=Australia/Adelaide:20230519T180000
DTSTAMP:20260422T024004
CREATED:20230110T012933Z
LAST-MODIFIED:20230110T012933Z
UID:10001638-1684515600-1684519200@goldfoundation.com.au
SUMMARY:Dance Diverse (ages 13+)
DESCRIPTION:A brand-new ‘life skills’ program in which participants will develop social skills\, increase self-confidence and experience the many benefits of dance in a safe\, fun environment.
URL:https://goldfoundation.com.au/event/dance-diverse-ages-13/2023-05-19/
LOCATION:The Gold Foundation\, 9-11 Carlisle Street\, Camden Park\, SA\, 5038\, Australia
ATTACH;FMTTYPE=image/jpeg:https://goldfoundation.com.au/wp-content/uploads/2023/01/Dance-Diverse-website-image.jpg
ORGANIZER;CN="The Gold Foundation":MAILTO:info@goldfoundation.com.au
END:VEVENT
BEGIN:VEVENT
DTSTART;TZID=Australia/Adelaide:20230519T183000
DTEND;TZID=Australia/Adelaide:20230519T203000
DTSTAMP:20260422T024004
CREATED:20230105T071552Z
LAST-MODIFIED:20230601T073159Z
UID:10002529-1684521000-1684528200@goldfoundation.com.au
SUMMARY:Youth Group (13 to 18 years)
DESCRIPTION:Gold Foundation organises regular social groups for young people on the Autism Spectrum from 13 to 18 years of age.\nOur Youth Groups are held in a relaxed and fun environment\, where young people can be social together\, forge lasting friendships and\, informally\, develop social skills and connect with others their age.
URL:https://goldfoundation.com.au/event/youth-group-13-to-18-years/2023-05-19/
LOCATION:The Gold Foundation\, 9-11 Carlisle Street\, Camden Park\, SA\, 5038\, Australia
ATTACH;FMTTYPE=image/jpeg:https://goldfoundation.com.au/wp-content/uploads/2023/01/Youth-Group-IMG_2255-scaled.jpg
ORGANIZER;CN="The Gold Foundation":MAILTO:info@goldfoundation.com.au
END:VEVENT
BEGIN:VEVENT
DTSTART;TZID=Australia/Adelaide:20230520T180000
DTEND;TZID=Australia/Adelaide:20230520T200000
DTSTAMP:20260422T024004
CREATED:20230106T002604Z
LAST-MODIFIED:20230106T002604Z
UID:10001597-1684605600-1684612800@goldfoundation.com.au
SUMMARY:Not So Youth Group (ages 18+)
DESCRIPTION:Not So Youth Group is a social group for young adults on the Autism Spectrum where attendees can be social\, find common ground and make friends\, all the while continuing to develop communication and social skills.
URL:https://goldfoundation.com.au/event/not-so-youth-group-ages-18-14/2023-05-20/
LOCATION:The Gold Foundation\, 9-11 Carlisle Street\, Camden Park\, SA\, 5038\, Australia
ATTACH;FMTTYPE=image/jpeg:https://goldfoundation.com.au/wp-content/uploads/2022/05/4E06F244-D2EB-41A7-8C1A-B2819B9FFDC8.jpg
ORGANIZER;CN="The Gold Foundation":MAILTO:info@goldfoundation.com.au
END:VEVENT
BEGIN:VEVENT
DTSTART;TZID=Australia/Adelaide:20230523T180000
DTEND;TZID=Australia/Adelaide:20230523T190000
DTSTAMP:20260422T024004
CREATED:20230113T023033Z
LAST-MODIFIED:20230113T023033Z
UID:10002592-1684864800-1684868400@goldfoundation.com.au
SUMMARY:What's the Buzz? (ages 9-11)
DESCRIPTION:What’s the Buzz? (ages 9-11) is a 16-week social skills enrichment program for 9-11 year olds on the Autism Spectrum that encourages children to think about how to get along with others and explore the benefits of developing new social skills.
URL:https://goldfoundation.com.au/event/whats-the-buzz-ages-9-11-2/2023-05-23/
LOCATION:The Gold Foundation\, 9-11 Carlisle Street\, Camden Park\, SA\, 5038\, Australia
ATTACH;FMTTYPE=image/jpeg:https://goldfoundation.com.au/wp-content/uploads/2021/10/WTB-Graduation-10-scaled.jpg
ORGANIZER;CN="The Gold Foundation":MAILTO:info@goldfoundation.com.au
END:VEVENT
BEGIN:VEVENT
DTSTART;TZID=Australia/Adelaide:20230524T170000
DTEND;TZID=Australia/Adelaide:20230524T180000
DTSTAMP:20260422T024004
CREATED:20230113T021222Z
LAST-MODIFIED:20230113T021222Z
UID:10002577-1684947600-1684951200@goldfoundation.com.au
SUMMARY:What's the Buzz? (Early Learners) (5-8 years)
DESCRIPTION:What’s the Buzz? (ages 5-8) is a 16-week social skills enrichment program for for 5-8 year olds on the Autism Spectrum that encourages children to think about how to get along with others and explore the benefits of developing new social skills.
URL:https://goldfoundation.com.au/event/whats-the-buzz-early-learners-5-8-years/2023-05-24/
LOCATION:The Gold Foundation\, 9-11 Carlisle Street\, Camden Park\, SA\, 5038\, Australia
ORGANIZER;CN="The Gold Foundation":MAILTO:info@goldfoundation.com.au
END:VEVENT
BEGIN:VEVENT
DTSTART;TZID=Australia/Adelaide:20230524T170000
DTEND;TZID=Australia/Adelaide:20230524T183000
DTSTAMP:20260422T024004
CREATED:20230110T021821Z
LAST-MODIFIED:20230601T005714Z
UID:10001653-1684947600-1684953000@goldfoundation.com.au
SUMMARY:Cadets (ages 8-12)
DESCRIPTION:Cadets is an activity-based social group designed to help young people on the Autism Spectrum aged 8-12 develop friendships and improve their social well-being! Through conversations and activities\, participants have the opportunity to improve their confidence and build their social skills in a safe and fun environment.
URL:https://goldfoundation.com.au/event/cadets-ages-8-12/2023-05-24/
LOCATION:The Gold Foundation\, 9-11 Carlisle Street\, Camden Park\, SA\, 5038\, Australia
ATTACH;FMTTYPE=image/jpeg:https://goldfoundation.com.au/wp-content/uploads/2022/06/f0d14c56-ca5b-9a04-55b4-a1eade43d427.jpg
ORGANIZER;CN="The Gold Foundation":MAILTO:info@goldfoundation.com.au
END:VEVENT
BEGIN:VEVENT
DTSTART;TZID=Australia/Adelaide:20230525T180000
DTEND;TZID=Australia/Adelaide:20230525T193000
DTSTAMP:20260422T024004
CREATED:20230328T061510Z
LAST-MODIFIED:20230328T061536Z
UID:10002608-1685037600-1685043000@goldfoundation.com.au
SUMMARY:Work Ready Program — Beginners (Ages 16+)
DESCRIPTION:
URL:https://goldfoundation.com.au/event/work-ready-program-beginners-ages-16/2023-05-25/
LOCATION:The Gold Foundation\, 9-11 Carlisle Street\, Camden Park\, SA\, 5038\, Australia
ATTACH;FMTTYPE=image/jpeg:https://goldfoundation.com.au/wp-content/uploads/2022/05/Work-Ready-1.jpg
ORGANIZER;CN="The Gold Foundation":MAILTO:info@goldfoundation.com.au
END:VEVENT
BEGIN:VEVENT
DTSTART;TZID=Australia/Adelaide:20230526T170000
DTEND;TZID=Australia/Adelaide:20230526T180000
DTSTAMP:20260422T024004
CREATED:20230110T012933Z
LAST-MODIFIED:20230110T012933Z
UID:10001639-1685120400-1685124000@goldfoundation.com.au
SUMMARY:Dance Diverse (ages 13+)
DESCRIPTION:A brand-new ‘life skills’ program in which participants will develop social skills\, increase self-confidence and experience the many benefits of dance in a safe\, fun environment.
URL:https://goldfoundation.com.au/event/dance-diverse-ages-13/2023-05-26/
LOCATION:The Gold Foundation\, 9-11 Carlisle Street\, Camden Park\, SA\, 5038\, Australia
ATTACH;FMTTYPE=image/jpeg:https://goldfoundation.com.au/wp-content/uploads/2023/01/Dance-Diverse-website-image.jpg
ORGANIZER;CN="The Gold Foundation":MAILTO:info@goldfoundation.com.au
END:VEVENT
BEGIN:VEVENT
DTSTART;TZID=Australia/Adelaide:20230526T183000
DTEND;TZID=Australia/Adelaide:20230526T203000
DTSTAMP:20260422T024004
CREATED:20230105T071552Z
LAST-MODIFIED:20230601T073159Z
UID:10002530-1685125800-1685133000@goldfoundation.com.au
SUMMARY:Youth Group (13 to 18 years)
DESCRIPTION:Gold Foundation organises regular social groups for young people on the Autism Spectrum from 13 to 18 years of age.\nOur Youth Groups are held in a relaxed and fun environment\, where young people can be social together\, forge lasting friendships and\, informally\, develop social skills and connect with others their age.
URL:https://goldfoundation.com.au/event/youth-group-13-to-18-years/2023-05-26/
LOCATION:The Gold Foundation\, 9-11 Carlisle Street\, Camden Park\, SA\, 5038\, Australia
ATTACH;FMTTYPE=image/jpeg:https://goldfoundation.com.au/wp-content/uploads/2023/01/Youth-Group-IMG_2255-scaled.jpg
ORGANIZER;CN="The Gold Foundation":MAILTO:info@goldfoundation.com.au
END:VEVENT
BEGIN:VEVENT
DTSTART;TZID=Australia/Adelaide:20230527T180000
DTEND;TZID=Australia/Adelaide:20230527T200000
DTSTAMP:20260422T024004
CREATED:20230106T002604Z
LAST-MODIFIED:20230106T002604Z
UID:10001598-1685210400-1685217600@goldfoundation.com.au
SUMMARY:Not So Youth Group (ages 18+)
DESCRIPTION:Not So Youth Group is a social group for young adults on the Autism Spectrum where attendees can be social\, find common ground and make friends\, all the while continuing to develop communication and social skills.
URL:https://goldfoundation.com.au/event/not-so-youth-group-ages-18-14/2023-05-27/
LOCATION:The Gold Foundation\, 9-11 Carlisle Street\, Camden Park\, SA\, 5038\, Australia
ATTACH;FMTTYPE=image/jpeg:https://goldfoundation.com.au/wp-content/uploads/2022/05/4E06F244-D2EB-41A7-8C1A-B2819B9FFDC8.jpg
ORGANIZER;CN="The Gold Foundation":MAILTO:info@goldfoundation.com.au
END:VEVENT
BEGIN:VEVENT
DTSTART;TZID=Australia/Adelaide:20230530T180000
DTEND;TZID=Australia/Adelaide:20230530T190000
DTSTAMP:20260422T024004
CREATED:20230113T023033Z
LAST-MODIFIED:20230113T023033Z
UID:10002593-1685469600-1685473200@goldfoundation.com.au
SUMMARY:What's the Buzz? (ages 9-11)
DESCRIPTION:What’s the Buzz? (ages 9-11) is a 16-week social skills enrichment program for 9-11 year olds on the Autism Spectrum that encourages children to think about how to get along with others and explore the benefits of developing new social skills.
URL:https://goldfoundation.com.au/event/whats-the-buzz-ages-9-11-2/2023-05-30/
LOCATION:The Gold Foundation\, 9-11 Carlisle Street\, Camden Park\, SA\, 5038\, Australia
ATTACH;FMTTYPE=image/jpeg:https://goldfoundation.com.au/wp-content/uploads/2021/10/WTB-Graduation-10-scaled.jpg
ORGANIZER;CN="The Gold Foundation":MAILTO:info@goldfoundation.com.au
END:VEVENT
BEGIN:VEVENT
DTSTART;TZID=Australia/Adelaide:20230531T170000
DTEND;TZID=Australia/Adelaide:20230531T180000
DTSTAMP:20260422T024004
CREATED:20230113T021222Z
LAST-MODIFIED:20230113T021222Z
UID:10002578-1685552400-1685556000@goldfoundation.com.au
SUMMARY:What's the Buzz? (Early Learners) (5-8 years)
DESCRIPTION:What’s the Buzz? (ages 5-8) is a 16-week social skills enrichment program for for 5-8 year olds on the Autism Spectrum that encourages children to think about how to get along with others and explore the benefits of developing new social skills.
URL:https://goldfoundation.com.au/event/whats-the-buzz-early-learners-5-8-years/2023-05-31/
LOCATION:The Gold Foundation\, 9-11 Carlisle Street\, Camden Park\, SA\, 5038\, Australia
ORGANIZER;CN="The Gold Foundation":MAILTO:info@goldfoundation.com.au
END:VEVENT
END:VCALENDAR