
BEGIN:VCALENDAR
VERSION:2.0
PRODID:-//Gold Foundation - ECPv6.15.13.1//NONSGML v1.0//EN
CALSCALE:GREGORIAN
METHOD:PUBLISH
X-WR-CALNAME:Gold Foundation
X-ORIGINAL-URL:https://goldfoundation.com.au
X-WR-CALDESC:Events for Gold Foundation
REFRESH-INTERVAL;VALUE=DURATION:PT1H
X-Robots-Tag:noindex
X-PUBLISHED-TTL:PT1H
BEGIN:VTIMEZONE
TZID:Australia/Adelaide
BEGIN:STANDARD
TZOFFSETFROM:+1030
TZOFFSETTO:+0930
TZNAME:ACST
DTSTART:20220402T163000
END:STANDARD
BEGIN:DAYLIGHT
TZOFFSETFROM:+0930
TZOFFSETTO:+1030
TZNAME:ACDT
DTSTART:20221001T163000
END:DAYLIGHT
BEGIN:STANDARD
TZOFFSETFROM:+1030
TZOFFSETTO:+0930
TZNAME:ACST
DTSTART:20230401T163000
END:STANDARD
BEGIN:DAYLIGHT
TZOFFSETFROM:+0930
TZOFFSETTO:+1030
TZNAME:ACDT
DTSTART:20230930T163000
END:DAYLIGHT
BEGIN:STANDARD
TZOFFSETFROM:+1030
TZOFFSETTO:+0930
TZNAME:ACST
DTSTART:20240406T163000
END:STANDARD
BEGIN:DAYLIGHT
TZOFFSETFROM:+0930
TZOFFSETTO:+1030
TZNAME:ACDT
DTSTART:20241005T163000
END:DAYLIGHT
END:VTIMEZONE
BEGIN:VEVENT
DTSTART;TZID=Australia/Adelaide:20230601T180000
DTEND;TZID=Australia/Adelaide:20230601T193000
DTSTAMP:20260422T011536
CREATED:20230328T061510Z
LAST-MODIFIED:20230328T061536Z
UID:10002609-1685642400-1685647800@goldfoundation.com.au
SUMMARY:Work Ready Program — Beginners (Ages 16+)
DESCRIPTION:
URL:https://goldfoundation.com.au/event/work-ready-program-beginners-ages-16/2023-06-01/
LOCATION:The Gold Foundation\, 9-11 Carlisle Street\, Camden Park\, SA\, 5038\, Australia
ATTACH;FMTTYPE=image/jpeg:https://goldfoundation.com.au/wp-content/uploads/2022/05/Work-Ready-1.jpg
ORGANIZER;CN="The Gold Foundation":MAILTO:info@goldfoundation.com.au
END:VEVENT
BEGIN:VEVENT
DTSTART;TZID=Australia/Adelaide:20230602T183000
DTEND;TZID=Australia/Adelaide:20230602T203000
DTSTAMP:20260422T011536
CREATED:20230105T071552Z
LAST-MODIFIED:20230601T073022Z
UID:10002561-1685730600-1685737800@goldfoundation.com.au
SUMMARY:Youth Group (13 to 18 years)
DESCRIPTION:Gold Foundation organises regular social groups for young people on the Autism Spectrum from 13 to 18 years of age.\nOur Youth Groups are held in a relaxed and fun environment\, where young people can be social together\, forge lasting friendships and\, informally\, develop social skills and connect with others their age.
URL:https://goldfoundation.com.au/event/youth-group-13-to-18-years-2023-06-02/
LOCATION:Unley Community Centre\, 18 Arthur St\, Unley\, SA\, 5061\, Australia
ATTACH;FMTTYPE=image/jpeg:https://goldfoundation.com.au/wp-content/uploads/2023/01/Youth-Group-IMG_2255-scaled.jpg
ORGANIZER;CN="The Gold Foundation":MAILTO:info@goldfoundation.com.au
END:VEVENT
BEGIN:VEVENT
DTSTART;TZID=Australia/Adelaide:20230603T180000
DTEND;TZID=Australia/Adelaide:20230603T200000
DTSTAMP:20260422T011536
CREATED:20230106T002604Z
LAST-MODIFIED:20230106T002604Z
UID:10001599-1685815200-1685822400@goldfoundation.com.au
SUMMARY:Not So Youth Group (ages 18+)
DESCRIPTION:Not So Youth Group is a social group for young adults on the Autism Spectrum where attendees can be social\, find common ground and make friends\, all the while continuing to develop communication and social skills.
URL:https://goldfoundation.com.au/event/not-so-youth-group-ages-18-14/2023-06-03/
LOCATION:The Gold Foundation\, 9-11 Carlisle Street\, Camden Park\, SA\, 5038\, Australia
ATTACH;FMTTYPE=image/jpeg:https://goldfoundation.com.au/wp-content/uploads/2022/05/4E06F244-D2EB-41A7-8C1A-B2819B9FFDC8.jpg
ORGANIZER;CN="The Gold Foundation":MAILTO:info@goldfoundation.com.au
END:VEVENT
BEGIN:VEVENT
DTSTART;TZID=Australia/Adelaide:20230606T180000
DTEND;TZID=Australia/Adelaide:20230606T190000
DTSTAMP:20260422T011536
CREATED:20230113T023033Z
LAST-MODIFIED:20230113T023033Z
UID:10002594-1686074400-1686078000@goldfoundation.com.au
SUMMARY:What's the Buzz? (ages 9-11)
DESCRIPTION:What’s the Buzz? (ages 9-11) is a 16-week social skills enrichment program for 9-11 year olds on the Autism Spectrum that encourages children to think about how to get along with others and explore the benefits of developing new social skills.
URL:https://goldfoundation.com.au/event/whats-the-buzz-ages-9-11-2/2023-06-06/
LOCATION:The Gold Foundation\, 9-11 Carlisle Street\, Camden Park\, SA\, 5038\, Australia
ATTACH;FMTTYPE=image/jpeg:https://goldfoundation.com.au/wp-content/uploads/2021/10/WTB-Graduation-10-scaled.jpg
ORGANIZER;CN="The Gold Foundation":MAILTO:info@goldfoundation.com.au
END:VEVENT
BEGIN:VEVENT
DTSTART;TZID=Australia/Adelaide:20230607T170000
DTEND;TZID=Australia/Adelaide:20230607T180000
DTSTAMP:20260422T011536
CREATED:20230113T021222Z
LAST-MODIFIED:20230113T021222Z
UID:10002579-1686157200-1686160800@goldfoundation.com.au
SUMMARY:What's the Buzz? (Early Learners) (5-8 years)
DESCRIPTION:What’s the Buzz? (ages 5-8) is a 16-week social skills enrichment program for for 5-8 year olds on the Autism Spectrum that encourages children to think about how to get along with others and explore the benefits of developing new social skills.
URL:https://goldfoundation.com.au/event/whats-the-buzz-early-learners-5-8-years/2023-06-07/
LOCATION:The Gold Foundation\, 9-11 Carlisle Street\, Camden Park\, SA\, 5038\, Australia
ORGANIZER;CN="The Gold Foundation":MAILTO:info@goldfoundation.com.au
END:VEVENT
BEGIN:VEVENT
DTSTART;TZID=Australia/Adelaide:20230607T170000
DTEND;TZID=Australia/Adelaide:20230607T183000
DTSTAMP:20260422T011536
CREATED:20230110T021821Z
LAST-MODIFIED:20230601T005714Z
UID:10001655-1686157200-1686162600@goldfoundation.com.au
SUMMARY:Cadets (ages 8-12)
DESCRIPTION:Cadets is an activity-based social group designed to help young people on the Autism Spectrum aged 8-12 develop friendships and improve their social well-being! Through conversations and activities\, participants have the opportunity to improve their confidence and build their social skills in a safe and fun environment.
URL:https://goldfoundation.com.au/event/cadets-ages-8-12/2023-06-07/
LOCATION:The Gold Foundation\, 9-11 Carlisle Street\, Camden Park\, SA\, 5038\, Australia
ATTACH;FMTTYPE=image/jpeg:https://goldfoundation.com.au/wp-content/uploads/2022/06/f0d14c56-ca5b-9a04-55b4-a1eade43d427.jpg
ORGANIZER;CN="The Gold Foundation":MAILTO:info@goldfoundation.com.au
END:VEVENT
BEGIN:VEVENT
DTSTART;TZID=Australia/Adelaide:20230608T180000
DTEND;TZID=Australia/Adelaide:20230608T193000
DTSTAMP:20260422T011536
CREATED:20230328T061510Z
LAST-MODIFIED:20230328T061536Z
UID:10002610-1686247200-1686252600@goldfoundation.com.au
SUMMARY:Work Ready Program — Beginners (Ages 16+)
DESCRIPTION:
URL:https://goldfoundation.com.au/event/work-ready-program-beginners-ages-16/2023-06-08/
LOCATION:The Gold Foundation\, 9-11 Carlisle Street\, Camden Park\, SA\, 5038\, Australia
ATTACH;FMTTYPE=image/jpeg:https://goldfoundation.com.au/wp-content/uploads/2022/05/Work-Ready-1.jpg
ORGANIZER;CN="The Gold Foundation":MAILTO:info@goldfoundation.com.au
END:VEVENT
BEGIN:VEVENT
DTSTART;TZID=Australia/Adelaide:20230609T180000
DTEND;TZID=Australia/Adelaide:20230609T183000
DTSTAMP:20260422T011536
CREATED:20230526T040005Z
LAST-MODIFIED:20230526T040005Z
UID:10002643-1686333600-1686335400@goldfoundation.com.au
SUMMARY:Uni Ready Program Information Session
DESCRIPTION:Gold Foundation will be holding a Uni Ready Program information night on Friday 9th of June 2023.  \nIn the Uni Ready Program\, our expert facilitators will support students to plan and prepare for university by providing valuable information\, building key foundational skills\, and fostering the confidence required to overcome challenges. The program format will resemble how learning is done at universities\, giving our students a taste of what to expect.
URL:https://goldfoundation.com.au/event/uni-ready-program-information-session/
LOCATION:The Gold Foundation\, 9-11 Carlisle Street\, Camden Park\, SA\, 5038\, Australia
ATTACH;FMTTYPE=image/png:https://goldfoundation.com.au/wp-content/uploads/2023/05/Screenshot-2023-05-05-122235.png
ORGANIZER;CN="The Gold Foundation":MAILTO:info@goldfoundation.com.au
END:VEVENT
BEGIN:VEVENT
DTSTART;TZID=Australia/Adelaide:20230609T183000
DTEND;TZID=Australia/Adelaide:20230609T203000
DTSTAMP:20260422T011536
CREATED:20230105T071552Z
LAST-MODIFIED:20230601T073159Z
UID:10002531-1686335400-1686342600@goldfoundation.com.au
SUMMARY:Youth Group (13 to 18 years)
DESCRIPTION:Gold Foundation organises regular social groups for young people on the Autism Spectrum from 13 to 18 years of age.\nOur Youth Groups are held in a relaxed and fun environment\, where young people can be social together\, forge lasting friendships and\, informally\, develop social skills and connect with others their age.
URL:https://goldfoundation.com.au/event/youth-group-13-to-18-years/2023-06-09/
LOCATION:The Gold Foundation\, 9-11 Carlisle Street\, Camden Park\, SA\, 5038\, Australia
ATTACH;FMTTYPE=image/jpeg:https://goldfoundation.com.au/wp-content/uploads/2023/01/Youth-Group-IMG_2255-scaled.jpg
ORGANIZER;CN="The Gold Foundation":MAILTO:info@goldfoundation.com.au
END:VEVENT
BEGIN:VEVENT
DTSTART;TZID=Australia/Adelaide:20230610T180000
DTEND;TZID=Australia/Adelaide:20230610T200000
DTSTAMP:20260422T011536
CREATED:20230106T002604Z
LAST-MODIFIED:20230106T002604Z
UID:10001600-1686420000-1686427200@goldfoundation.com.au
SUMMARY:Not So Youth Group (ages 18+)
DESCRIPTION:Not So Youth Group is a social group for young adults on the Autism Spectrum where attendees can be social\, find common ground and make friends\, all the while continuing to develop communication and social skills.
URL:https://goldfoundation.com.au/event/not-so-youth-group-ages-18-14/2023-06-10/
LOCATION:The Gold Foundation\, 9-11 Carlisle Street\, Camden Park\, SA\, 5038\, Australia
ATTACH;FMTTYPE=image/jpeg:https://goldfoundation.com.au/wp-content/uploads/2022/05/4E06F244-D2EB-41A7-8C1A-B2819B9FFDC8.jpg
ORGANIZER;CN="The Gold Foundation":MAILTO:info@goldfoundation.com.au
END:VEVENT
BEGIN:VEVENT
DTSTART;TZID=Australia/Adelaide:20230613T180000
DTEND;TZID=Australia/Adelaide:20230613T190000
DTSTAMP:20260422T011536
CREATED:20230113T023033Z
LAST-MODIFIED:20230113T023033Z
UID:10002595-1686679200-1686682800@goldfoundation.com.au
SUMMARY:What's the Buzz? (ages 9-11)
DESCRIPTION:What’s the Buzz? (ages 9-11) is a 16-week social skills enrichment program for 9-11 year olds on the Autism Spectrum that encourages children to think about how to get along with others and explore the benefits of developing new social skills.
URL:https://goldfoundation.com.au/event/whats-the-buzz-ages-9-11-2/2023-06-13/
LOCATION:The Gold Foundation\, 9-11 Carlisle Street\, Camden Park\, SA\, 5038\, Australia
ATTACH;FMTTYPE=image/jpeg:https://goldfoundation.com.au/wp-content/uploads/2021/10/WTB-Graduation-10-scaled.jpg
ORGANIZER;CN="The Gold Foundation":MAILTO:info@goldfoundation.com.au
END:VEVENT
BEGIN:VEVENT
DTSTART;TZID=Australia/Adelaide:20230614T170000
DTEND;TZID=Australia/Adelaide:20230614T180000
DTSTAMP:20260422T011536
CREATED:20230113T021222Z
LAST-MODIFIED:20230113T021222Z
UID:10002580-1686762000-1686765600@goldfoundation.com.au
SUMMARY:What's the Buzz? (Early Learners) (5-8 years)
DESCRIPTION:What’s the Buzz? (ages 5-8) is a 16-week social skills enrichment program for for 5-8 year olds on the Autism Spectrum that encourages children to think about how to get along with others and explore the benefits of developing new social skills.
URL:https://goldfoundation.com.au/event/whats-the-buzz-early-learners-5-8-years/2023-06-14/
LOCATION:The Gold Foundation\, 9-11 Carlisle Street\, Camden Park\, SA\, 5038\, Australia
ORGANIZER;CN="The Gold Foundation":MAILTO:info@goldfoundation.com.au
END:VEVENT
BEGIN:VEVENT
DTSTART;TZID=Australia/Adelaide:20230614T170000
DTEND;TZID=Australia/Adelaide:20230614T183000
DTSTAMP:20260422T011536
CREATED:20230110T021821Z
LAST-MODIFIED:20230601T005714Z
UID:10001656-1686762000-1686767400@goldfoundation.com.au
SUMMARY:Cadets (ages 8-12)
DESCRIPTION:Cadets is an activity-based social group designed to help young people on the Autism Spectrum aged 8-12 develop friendships and improve their social well-being! Through conversations and activities\, participants have the opportunity to improve their confidence and build their social skills in a safe and fun environment.
URL:https://goldfoundation.com.au/event/cadets-ages-8-12/2023-06-14/
LOCATION:The Gold Foundation\, 9-11 Carlisle Street\, Camden Park\, SA\, 5038\, Australia
ATTACH;FMTTYPE=image/jpeg:https://goldfoundation.com.au/wp-content/uploads/2022/06/f0d14c56-ca5b-9a04-55b4-a1eade43d427.jpg
ORGANIZER;CN="The Gold Foundation":MAILTO:info@goldfoundation.com.au
END:VEVENT
BEGIN:VEVENT
DTSTART;TZID=Australia/Adelaide:20230615T180000
DTEND;TZID=Australia/Adelaide:20230615T193000
DTSTAMP:20260422T011536
CREATED:20230328T061510Z
LAST-MODIFIED:20230328T061536Z
UID:10002611-1686852000-1686857400@goldfoundation.com.au
SUMMARY:Work Ready Program — Beginners (Ages 16+)
DESCRIPTION:
URL:https://goldfoundation.com.au/event/work-ready-program-beginners-ages-16/2023-06-15/
LOCATION:The Gold Foundation\, 9-11 Carlisle Street\, Camden Park\, SA\, 5038\, Australia
ATTACH;FMTTYPE=image/jpeg:https://goldfoundation.com.au/wp-content/uploads/2022/05/Work-Ready-1.jpg
ORGANIZER;CN="The Gold Foundation":MAILTO:info@goldfoundation.com.au
END:VEVENT
BEGIN:VEVENT
DTSTART;TZID=Australia/Adelaide:20230616T183000
DTEND;TZID=Australia/Adelaide:20230616T203000
DTSTAMP:20260422T011536
CREATED:20230105T071552Z
LAST-MODIFIED:20230601T073159Z
UID:10002532-1686940200-1686947400@goldfoundation.com.au
SUMMARY:Youth Group (13 to 18 years)
DESCRIPTION:Gold Foundation organises regular social groups for young people on the Autism Spectrum from 13 to 18 years of age.\nOur Youth Groups are held in a relaxed and fun environment\, where young people can be social together\, forge lasting friendships and\, informally\, develop social skills and connect with others their age.
URL:https://goldfoundation.com.au/event/youth-group-13-to-18-years/2023-06-16/
LOCATION:The Gold Foundation\, 9-11 Carlisle Street\, Camden Park\, SA\, 5038\, Australia
ATTACH;FMTTYPE=image/jpeg:https://goldfoundation.com.au/wp-content/uploads/2023/01/Youth-Group-IMG_2255-scaled.jpg
ORGANIZER;CN="The Gold Foundation":MAILTO:info@goldfoundation.com.au
END:VEVENT
BEGIN:VEVENT
DTSTART;TZID=Australia/Adelaide:20230617T180000
DTEND;TZID=Australia/Adelaide:20230617T200000
DTSTAMP:20260422T011536
CREATED:20230106T002604Z
LAST-MODIFIED:20230106T002604Z
UID:10001601-1687024800-1687032000@goldfoundation.com.au
SUMMARY:Not So Youth Group (ages 18+)
DESCRIPTION:Not So Youth Group is a social group for young adults on the Autism Spectrum where attendees can be social\, find common ground and make friends\, all the while continuing to develop communication and social skills.
URL:https://goldfoundation.com.au/event/not-so-youth-group-ages-18-14/2023-06-17/
LOCATION:The Gold Foundation\, 9-11 Carlisle Street\, Camden Park\, SA\, 5038\, Australia
ATTACH;FMTTYPE=image/jpeg:https://goldfoundation.com.au/wp-content/uploads/2022/05/4E06F244-D2EB-41A7-8C1A-B2819B9FFDC8.jpg
ORGANIZER;CN="The Gold Foundation":MAILTO:info@goldfoundation.com.au
END:VEVENT
BEGIN:VEVENT
DTSTART;TZID=Australia/Adelaide:20230620T180000
DTEND;TZID=Australia/Adelaide:20230620T190000
DTSTAMP:20260422T011536
CREATED:20230113T023033Z
LAST-MODIFIED:20230113T023033Z
UID:10002596-1687284000-1687287600@goldfoundation.com.au
SUMMARY:What's the Buzz? (ages 9-11)
DESCRIPTION:What’s the Buzz? (ages 9-11) is a 16-week social skills enrichment program for 9-11 year olds on the Autism Spectrum that encourages children to think about how to get along with others and explore the benefits of developing new social skills.
URL:https://goldfoundation.com.au/event/whats-the-buzz-ages-9-11-2/2023-06-20/
LOCATION:The Gold Foundation\, 9-11 Carlisle Street\, Camden Park\, SA\, 5038\, Australia
ATTACH;FMTTYPE=image/jpeg:https://goldfoundation.com.au/wp-content/uploads/2021/10/WTB-Graduation-10-scaled.jpg
ORGANIZER;CN="The Gold Foundation":MAILTO:info@goldfoundation.com.au
END:VEVENT
BEGIN:VEVENT
DTSTART;TZID=Australia/Adelaide:20230621T170000
DTEND;TZID=Australia/Adelaide:20230621T180000
DTSTAMP:20260422T011536
CREATED:20230113T021222Z
LAST-MODIFIED:20230113T021222Z
UID:10002581-1687366800-1687370400@goldfoundation.com.au
SUMMARY:What's the Buzz? (Early Learners) (5-8 years)
DESCRIPTION:What’s the Buzz? (ages 5-8) is a 16-week social skills enrichment program for for 5-8 year olds on the Autism Spectrum that encourages children to think about how to get along with others and explore the benefits of developing new social skills.
URL:https://goldfoundation.com.au/event/whats-the-buzz-early-learners-5-8-years/2023-06-21/
LOCATION:The Gold Foundation\, 9-11 Carlisle Street\, Camden Park\, SA\, 5038\, Australia
ORGANIZER;CN="The Gold Foundation":MAILTO:info@goldfoundation.com.au
END:VEVENT
BEGIN:VEVENT
DTSTART;TZID=Australia/Adelaide:20230621T170000
DTEND;TZID=Australia/Adelaide:20230621T183000
DTSTAMP:20260422T011536
CREATED:20230110T021821Z
LAST-MODIFIED:20230601T005714Z
UID:10001657-1687366800-1687372200@goldfoundation.com.au
SUMMARY:Cadets (ages 8-12)
DESCRIPTION:Cadets is an activity-based social group designed to help young people on the Autism Spectrum aged 8-12 develop friendships and improve their social well-being! Through conversations and activities\, participants have the opportunity to improve their confidence and build their social skills in a safe and fun environment.
URL:https://goldfoundation.com.au/event/cadets-ages-8-12/2023-06-21/
LOCATION:The Gold Foundation\, 9-11 Carlisle Street\, Camden Park\, SA\, 5038\, Australia
ATTACH;FMTTYPE=image/jpeg:https://goldfoundation.com.au/wp-content/uploads/2022/06/f0d14c56-ca5b-9a04-55b4-a1eade43d427.jpg
ORGANIZER;CN="The Gold Foundation":MAILTO:info@goldfoundation.com.au
END:VEVENT
BEGIN:VEVENT
DTSTART;TZID=Australia/Adelaide:20230622T180000
DTEND;TZID=Australia/Adelaide:20230622T193000
DTSTAMP:20260422T011536
CREATED:20230328T061510Z
LAST-MODIFIED:20230328T061536Z
UID:10002612-1687456800-1687462200@goldfoundation.com.au
SUMMARY:Work Ready Program — Beginners (Ages 16+)
DESCRIPTION:
URL:https://goldfoundation.com.au/event/work-ready-program-beginners-ages-16/2023-06-22/
LOCATION:The Gold Foundation\, 9-11 Carlisle Street\, Camden Park\, SA\, 5038\, Australia
ATTACH;FMTTYPE=image/jpeg:https://goldfoundation.com.au/wp-content/uploads/2022/05/Work-Ready-1.jpg
ORGANIZER;CN="The Gold Foundation":MAILTO:info@goldfoundation.com.au
END:VEVENT
BEGIN:VEVENT
DTSTART;TZID=Australia/Adelaide:20230623T183000
DTEND;TZID=Australia/Adelaide:20230623T203000
DTSTAMP:20260422T011536
CREATED:20230105T071552Z
LAST-MODIFIED:20230601T073159Z
UID:10002533-1687545000-1687552200@goldfoundation.com.au
SUMMARY:Youth Group (13 to 18 years)
DESCRIPTION:Gold Foundation organises regular social groups for young people on the Autism Spectrum from 13 to 18 years of age.\nOur Youth Groups are held in a relaxed and fun environment\, where young people can be social together\, forge lasting friendships and\, informally\, develop social skills and connect with others their age.
URL:https://goldfoundation.com.au/event/youth-group-13-to-18-years/2023-06-23/
LOCATION:The Gold Foundation\, 9-11 Carlisle Street\, Camden Park\, SA\, 5038\, Australia
ATTACH;FMTTYPE=image/jpeg:https://goldfoundation.com.au/wp-content/uploads/2023/01/Youth-Group-IMG_2255-scaled.jpg
ORGANIZER;CN="The Gold Foundation":MAILTO:info@goldfoundation.com.au
END:VEVENT
BEGIN:VEVENT
DTSTART;TZID=Australia/Adelaide:20230624T180000
DTEND;TZID=Australia/Adelaide:20230624T200000
DTSTAMP:20260422T011536
CREATED:20230106T002604Z
LAST-MODIFIED:20230106T002604Z
UID:10001602-1687629600-1687636800@goldfoundation.com.au
SUMMARY:Not So Youth Group (ages 18+)
DESCRIPTION:Not So Youth Group is a social group for young adults on the Autism Spectrum where attendees can be social\, find common ground and make friends\, all the while continuing to develop communication and social skills.
URL:https://goldfoundation.com.au/event/not-so-youth-group-ages-18-14/2023-06-24/
LOCATION:The Gold Foundation\, 9-11 Carlisle Street\, Camden Park\, SA\, 5038\, Australia
ATTACH;FMTTYPE=image/jpeg:https://goldfoundation.com.au/wp-content/uploads/2022/05/4E06F244-D2EB-41A7-8C1A-B2819B9FFDC8.jpg
ORGANIZER;CN="The Gold Foundation":MAILTO:info@goldfoundation.com.au
END:VEVENT
BEGIN:VEVENT
DTSTART;TZID=Australia/Adelaide:20230627T180000
DTEND;TZID=Australia/Adelaide:20230627T190000
DTSTAMP:20260422T011536
CREATED:20230113T023033Z
LAST-MODIFIED:20230113T023033Z
UID:10002597-1687888800-1687892400@goldfoundation.com.au
SUMMARY:What's the Buzz? (ages 9-11)
DESCRIPTION:What’s the Buzz? (ages 9-11) is a 16-week social skills enrichment program for 9-11 year olds on the Autism Spectrum that encourages children to think about how to get along with others and explore the benefits of developing new social skills.
URL:https://goldfoundation.com.au/event/whats-the-buzz-ages-9-11-2/2023-06-27/
LOCATION:The Gold Foundation\, 9-11 Carlisle Street\, Camden Park\, SA\, 5038\, Australia
ATTACH;FMTTYPE=image/jpeg:https://goldfoundation.com.au/wp-content/uploads/2021/10/WTB-Graduation-10-scaled.jpg
ORGANIZER;CN="The Gold Foundation":MAILTO:info@goldfoundation.com.au
END:VEVENT
BEGIN:VEVENT
DTSTART;TZID=Australia/Adelaide:20230628T170000
DTEND;TZID=Australia/Adelaide:20230628T180000
DTSTAMP:20260422T011536
CREATED:20230113T021222Z
LAST-MODIFIED:20230113T021222Z
UID:10002582-1687971600-1687975200@goldfoundation.com.au
SUMMARY:What's the Buzz? (Early Learners) (5-8 years)
DESCRIPTION:What’s the Buzz? (ages 5-8) is a 16-week social skills enrichment program for for 5-8 year olds on the Autism Spectrum that encourages children to think about how to get along with others and explore the benefits of developing new social skills.
URL:https://goldfoundation.com.au/event/whats-the-buzz-early-learners-5-8-years/2023-06-28/
LOCATION:The Gold Foundation\, 9-11 Carlisle Street\, Camden Park\, SA\, 5038\, Australia
ORGANIZER;CN="The Gold Foundation":MAILTO:info@goldfoundation.com.au
END:VEVENT
BEGIN:VEVENT
DTSTART;TZID=Australia/Adelaide:20230628T170000
DTEND;TZID=Australia/Adelaide:20230628T183000
DTSTAMP:20260422T011536
CREATED:20230110T021821Z
LAST-MODIFIED:20230601T005714Z
UID:10001658-1687971600-1687977000@goldfoundation.com.au
SUMMARY:Cadets (ages 8-12)
DESCRIPTION:Cadets is an activity-based social group designed to help young people on the Autism Spectrum aged 8-12 develop friendships and improve their social well-being! Through conversations and activities\, participants have the opportunity to improve their confidence and build their social skills in a safe and fun environment.
URL:https://goldfoundation.com.au/event/cadets-ages-8-12/2023-06-28/
LOCATION:The Gold Foundation\, 9-11 Carlisle Street\, Camden Park\, SA\, 5038\, Australia
ATTACH;FMTTYPE=image/jpeg:https://goldfoundation.com.au/wp-content/uploads/2022/06/f0d14c56-ca5b-9a04-55b4-a1eade43d427.jpg
ORGANIZER;CN="The Gold Foundation":MAILTO:info@goldfoundation.com.au
END:VEVENT
BEGIN:VEVENT
DTSTART;TZID=Australia/Adelaide:20230630T183000
DTEND;TZID=Australia/Adelaide:20230630T203000
DTSTAMP:20260422T011536
CREATED:20230105T071552Z
LAST-MODIFIED:20230601T073159Z
UID:10002534-1688149800-1688157000@goldfoundation.com.au
SUMMARY:Youth Group (13 to 18 years)
DESCRIPTION:Gold Foundation organises regular social groups for young people on the Autism Spectrum from 13 to 18 years of age.\nOur Youth Groups are held in a relaxed and fun environment\, where young people can be social together\, forge lasting friendships and\, informally\, develop social skills and connect with others their age.
URL:https://goldfoundation.com.au/event/youth-group-13-to-18-years/2023-06-30/
LOCATION:The Gold Foundation\, 9-11 Carlisle Street\, Camden Park\, SA\, 5038\, Australia
ATTACH;FMTTYPE=image/jpeg:https://goldfoundation.com.au/wp-content/uploads/2023/01/Youth-Group-IMG_2255-scaled.jpg
ORGANIZER;CN="The Gold Foundation":MAILTO:info@goldfoundation.com.au
END:VEVENT
END:VCALENDAR