
BEGIN:VCALENDAR
VERSION:2.0
PRODID:-//Gold Foundation - ECPv6.15.13.1//NONSGML v1.0//EN
CALSCALE:GREGORIAN
METHOD:PUBLISH
X-ORIGINAL-URL:https://goldfoundation.com.au
X-WR-CALDESC:Events for Gold Foundation
REFRESH-INTERVAL;VALUE=DURATION:PT1H
X-Robots-Tag:noindex
X-PUBLISHED-TTL:PT1H
BEGIN:VTIMEZONE
TZID:Australia/Adelaide
BEGIN:STANDARD
TZOFFSETFROM:+1030
TZOFFSETTO:+0930
TZNAME:ACST
DTSTART:20220402T163000
END:STANDARD
BEGIN:DAYLIGHT
TZOFFSETFROM:+0930
TZOFFSETTO:+1030
TZNAME:ACDT
DTSTART:20221001T163000
END:DAYLIGHT
BEGIN:STANDARD
TZOFFSETFROM:+1030
TZOFFSETTO:+0930
TZNAME:ACST
DTSTART:20230401T163000
END:STANDARD
BEGIN:DAYLIGHT
TZOFFSETFROM:+0930
TZOFFSETTO:+1030
TZNAME:ACDT
DTSTART:20230930T163000
END:DAYLIGHT
BEGIN:STANDARD
TZOFFSETFROM:+1030
TZOFFSETTO:+0930
TZNAME:ACST
DTSTART:20240406T163000
END:STANDARD
BEGIN:DAYLIGHT
TZOFFSETFROM:+0930
TZOFFSETTO:+1030
TZNAME:ACDT
DTSTART:20241005T163000
END:DAYLIGHT
END:VTIMEZONE
BEGIN:VEVENT
DTSTART;TZID=Australia/Adelaide:20230801T180000
DTEND;TZID=Australia/Adelaide:20230801T193000
DTSTAMP:20260421T222203
CREATED:20230511T004731Z
LAST-MODIFIED:20230511T011605Z
UID:10002616-1690912800-1690918200@goldfoundation.com.au
SUMMARY:Uni Ready Program
DESCRIPTION:In the Uni Ready Program\, our expert facilitators support students to plan and prepare for university by providing valuable information\, building key foundational skills\, and fostering the confidence required to overcome challenges. The program format will resemble how learning is done at universities\, giving our students a taste of what to expect.
URL:https://goldfoundation.com.au/event/uni-ready-program/2023-08-01/
LOCATION:The Gold Foundation\, 9-11 Carlisle Street\, Camden Park\, SA\, 5038\, Australia
ATTACH;FMTTYPE=image/png:https://goldfoundation.com.au/wp-content/uploads/2023/05/Screenshot-2023-05-05-122235.png
ORGANIZER;CN="The Gold Foundation":MAILTO:info@goldfoundation.com.au
END:VEVENT
BEGIN:VEVENT
DTSTART;TZID=Australia/Adelaide:20230802T170000
DTEND;TZID=Australia/Adelaide:20230802T183000
DTSTAMP:20260421T222203
CREATED:20230110T021821Z
LAST-MODIFIED:20230601T005714Z
UID:10001663-1690995600-1691001000@goldfoundation.com.au
SUMMARY:Cadets (ages 8-12)
DESCRIPTION:Cadets is an activity-based social group designed to help young people on the Autism Spectrum aged 8-12 develop friendships and improve their social well-being! Through conversations and activities\, participants have the opportunity to improve their confidence and build their social skills in a safe and fun environment.
URL:https://goldfoundation.com.au/event/cadets-ages-8-12/2023-08-02/
LOCATION:The Gold Foundation\, 9-11 Carlisle Street\, Camden Park\, SA\, 5038\, Australia
ATTACH;FMTTYPE=image/jpeg:https://goldfoundation.com.au/wp-content/uploads/2022/06/f0d14c56-ca5b-9a04-55b4-a1eade43d427.jpg
ORGANIZER;CN="The Gold Foundation":MAILTO:info@goldfoundation.com.au
END:VEVENT
BEGIN:VEVENT
DTSTART;TZID=Australia/Adelaide:20230803T180000
DTEND;TZID=Australia/Adelaide:20230803T193000
DTSTAMP:20260421T222203
CREATED:20230601T064010Z
LAST-MODIFIED:20230601T064010Z
UID:10002646-1691085600-1691091000@goldfoundation.com.au
SUMMARY:Work Ready Program - Futures (Ages 16+)
DESCRIPTION:The revolutionary Work Ready Futures Program gives young autistic people the opportunity to achieve the valuable skills needed to gain meaningful employment.
URL:https://goldfoundation.com.au/event/work-ready-program-futures-ages-16/2023-08-03/
LOCATION:The Gold Foundation\, 9-11 Carlisle Street\, Camden Park\, SA\, 5038\, Australia
ORGANIZER;CN="The Gold Foundation":MAILTO:info@goldfoundation.com.au
END:VEVENT
BEGIN:VEVENT
DTSTART;TZID=Australia/Adelaide:20230804T183000
DTEND;TZID=Australia/Adelaide:20230804T203000
DTSTAMP:20260421T222203
CREATED:20230105T071552Z
LAST-MODIFIED:20230601T073159Z
UID:10002539-1691173800-1691181000@goldfoundation.com.au
SUMMARY:Youth Group (13 to 18 years)
DESCRIPTION:Gold Foundation organises regular social groups for young people on the Autism Spectrum from 13 to 18 years of age.\nOur Youth Groups are held in a relaxed and fun environment\, where young people can be social together\, forge lasting friendships and\, informally\, develop social skills and connect with others their age.
URL:https://goldfoundation.com.au/event/youth-group-13-to-18-years/2023-08-04/
LOCATION:The Gold Foundation\, 9-11 Carlisle Street\, Camden Park\, SA\, 5038\, Australia
ATTACH;FMTTYPE=image/jpeg:https://goldfoundation.com.au/wp-content/uploads/2023/01/Youth-Group-IMG_2255-scaled.jpg
ORGANIZER;CN="The Gold Foundation":MAILTO:info@goldfoundation.com.au
END:VEVENT
BEGIN:VEVENT
DTSTART;TZID=Australia/Adelaide:20230805T180000
DTEND;TZID=Australia/Adelaide:20230805T200000
DTSTAMP:20260421T222203
CREATED:20230106T002604Z
LAST-MODIFIED:20230106T002604Z
UID:10001608-1691258400-1691265600@goldfoundation.com.au
SUMMARY:Not So Youth Group (ages 18+)
DESCRIPTION:Not So Youth Group is a social group for young adults on the Autism Spectrum where attendees can be social\, find common ground and make friends\, all the while continuing to develop communication and social skills.
URL:https://goldfoundation.com.au/event/not-so-youth-group-ages-18-14/2023-08-05/
LOCATION:The Gold Foundation\, 9-11 Carlisle Street\, Camden Park\, SA\, 5038\, Australia
ATTACH;FMTTYPE=image/jpeg:https://goldfoundation.com.au/wp-content/uploads/2022/05/4E06F244-D2EB-41A7-8C1A-B2819B9FFDC8.jpg
ORGANIZER;CN="The Gold Foundation":MAILTO:info@goldfoundation.com.au
END:VEVENT
BEGIN:VEVENT
DTSTART;TZID=Australia/Adelaide:20230807T180000
DTEND;TZID=Australia/Adelaide:20230807T193000
DTSTAMP:20260421T222203
CREATED:20230523T071100Z
LAST-MODIFIED:20230524T234831Z
UID:10002636-1691431200-1691436600@goldfoundation.com.au
SUMMARY:Cooking Connection (Ages 13-17)
DESCRIPTION:In the Cooking Connection program\, chefs will make new friends\, and improve their social skills through teamwork\, sharing\, and responsibility. Cooking is a universal skill that offers a unique opportunity to explore many life lessons.
URL:https://goldfoundation.com.au/event/cooking-connection-ages-13-17/2023-08-07/
LOCATION:The Gold Foundation\, 9-11 Carlisle Street\, Camden Park\, SA\, 5038\, Australia
ATTACH;FMTTYPE=image/jpeg:https://goldfoundation.com.au/wp-content/uploads/2022/08/IMG_1553-768x1024-1.jpg
ORGANIZER;CN="The Gold Foundation":MAILTO:info@goldfoundation.com.au
END:VEVENT
BEGIN:VEVENT
DTSTART;TZID=Australia/Adelaide:20230808T180000
DTEND;TZID=Australia/Adelaide:20230808T193000
DTSTAMP:20260421T222203
CREATED:20230511T004731Z
LAST-MODIFIED:20230511T011605Z
UID:10002617-1691517600-1691523000@goldfoundation.com.au
SUMMARY:Uni Ready Program
DESCRIPTION:In the Uni Ready Program\, our expert facilitators support students to plan and prepare for university by providing valuable information\, building key foundational skills\, and fostering the confidence required to overcome challenges. The program format will resemble how learning is done at universities\, giving our students a taste of what to expect.
URL:https://goldfoundation.com.au/event/uni-ready-program/2023-08-08/
LOCATION:The Gold Foundation\, 9-11 Carlisle Street\, Camden Park\, SA\, 5038\, Australia
ATTACH;FMTTYPE=image/png:https://goldfoundation.com.au/wp-content/uploads/2023/05/Screenshot-2023-05-05-122235.png
ORGANIZER;CN="The Gold Foundation":MAILTO:info@goldfoundation.com.au
END:VEVENT
BEGIN:VEVENT
DTSTART;TZID=Australia/Adelaide:20230809T170000
DTEND;TZID=Australia/Adelaide:20230809T183000
DTSTAMP:20260421T222203
CREATED:20230110T021821Z
LAST-MODIFIED:20230601T005714Z
UID:10001664-1691600400-1691605800@goldfoundation.com.au
SUMMARY:Cadets (ages 8-12)
DESCRIPTION:Cadets is an activity-based social group designed to help young people on the Autism Spectrum aged 8-12 develop friendships and improve their social well-being! Through conversations and activities\, participants have the opportunity to improve their confidence and build their social skills in a safe and fun environment.
URL:https://goldfoundation.com.au/event/cadets-ages-8-12/2023-08-09/
LOCATION:The Gold Foundation\, 9-11 Carlisle Street\, Camden Park\, SA\, 5038\, Australia
ATTACH;FMTTYPE=image/jpeg:https://goldfoundation.com.au/wp-content/uploads/2022/06/f0d14c56-ca5b-9a04-55b4-a1eade43d427.jpg
ORGANIZER;CN="The Gold Foundation":MAILTO:info@goldfoundation.com.au
END:VEVENT
BEGIN:VEVENT
DTSTART;TZID=Australia/Adelaide:20230810T180000
DTEND;TZID=Australia/Adelaide:20230810T193000
DTSTAMP:20260421T222203
CREATED:20230601T064010Z
LAST-MODIFIED:20230601T064010Z
UID:10002647-1691690400-1691695800@goldfoundation.com.au
SUMMARY:Work Ready Program - Futures (Ages 16+)
DESCRIPTION:The revolutionary Work Ready Futures Program gives young autistic people the opportunity to achieve the valuable skills needed to gain meaningful employment.
URL:https://goldfoundation.com.au/event/work-ready-program-futures-ages-16/2023-08-10/
LOCATION:The Gold Foundation\, 9-11 Carlisle Street\, Camden Park\, SA\, 5038\, Australia
ORGANIZER;CN="The Gold Foundation":MAILTO:info@goldfoundation.com.au
END:VEVENT
BEGIN:VEVENT
DTSTART;TZID=Australia/Adelaide:20230811T183000
DTEND;TZID=Australia/Adelaide:20230811T203000
DTSTAMP:20260421T222203
CREATED:20230105T071552Z
LAST-MODIFIED:20230601T073159Z
UID:10002540-1691778600-1691785800@goldfoundation.com.au
SUMMARY:Youth Group (13 to 18 years)
DESCRIPTION:Gold Foundation organises regular social groups for young people on the Autism Spectrum from 13 to 18 years of age.\nOur Youth Groups are held in a relaxed and fun environment\, where young people can be social together\, forge lasting friendships and\, informally\, develop social skills and connect with others their age.
URL:https://goldfoundation.com.au/event/youth-group-13-to-18-years/2023-08-11/
LOCATION:The Gold Foundation\, 9-11 Carlisle Street\, Camden Park\, SA\, 5038\, Australia
ATTACH;FMTTYPE=image/jpeg:https://goldfoundation.com.au/wp-content/uploads/2023/01/Youth-Group-IMG_2255-scaled.jpg
ORGANIZER;CN="The Gold Foundation":MAILTO:info@goldfoundation.com.au
END:VEVENT
BEGIN:VEVENT
DTSTART;TZID=Australia/Adelaide:20230812T180000
DTEND;TZID=Australia/Adelaide:20230812T200000
DTSTAMP:20260421T222203
CREATED:20230106T002604Z
LAST-MODIFIED:20230106T002604Z
UID:10001609-1691863200-1691870400@goldfoundation.com.au
SUMMARY:Not So Youth Group (ages 18+)
DESCRIPTION:Not So Youth Group is a social group for young adults on the Autism Spectrum where attendees can be social\, find common ground and make friends\, all the while continuing to develop communication and social skills.
URL:https://goldfoundation.com.au/event/not-so-youth-group-ages-18-14/2023-08-12/
LOCATION:The Gold Foundation\, 9-11 Carlisle Street\, Camden Park\, SA\, 5038\, Australia
ATTACH;FMTTYPE=image/jpeg:https://goldfoundation.com.au/wp-content/uploads/2022/05/4E06F244-D2EB-41A7-8C1A-B2819B9FFDC8.jpg
ORGANIZER;CN="The Gold Foundation":MAILTO:info@goldfoundation.com.au
END:VEVENT
BEGIN:VEVENT
DTSTART;TZID=Australia/Adelaide:20230814T180000
DTEND;TZID=Australia/Adelaide:20230814T190000
DTSTAMP:20260421T222203
CREATED:20230518T005726Z
LAST-MODIFIED:20230518T005726Z
UID:10002623-1692036000-1692039600@goldfoundation.com.au
SUMMARY:Discovery Program for Girls
DESCRIPTION:The Discovery Program for Girls is designed to foster personal growth and emotional well-being in teenage girls\, building their skills and confidence to positively approach life’s challenges and tricky situations.
URL:https://goldfoundation.com.au/event/discovery-program-for-girls/2023-08-14/
LOCATION:The Gold Foundation\, 9-11 Carlisle Street\, Camden Park\, SA\, 5038\, Australia
ATTACH;FMTTYPE=image/jpeg:https://goldfoundation.com.au/wp-content/uploads/2021/11/Bowling-Night.jpg
ORGANIZER;CN="The Gold Foundation":MAILTO:info@goldfoundation.com.au
END:VEVENT
BEGIN:VEVENT
DTSTART;TZID=Australia/Adelaide:20230814T180000
DTEND;TZID=Australia/Adelaide:20230814T193000
DTSTAMP:20260421T222203
CREATED:20230523T071100Z
LAST-MODIFIED:20230524T234831Z
UID:10002637-1692036000-1692041400@goldfoundation.com.au
SUMMARY:Cooking Connection (Ages 13-17)
DESCRIPTION:In the Cooking Connection program\, chefs will make new friends\, and improve their social skills through teamwork\, sharing\, and responsibility. Cooking is a universal skill that offers a unique opportunity to explore many life lessons.
URL:https://goldfoundation.com.au/event/cooking-connection-ages-13-17/2023-08-14/
LOCATION:The Gold Foundation\, 9-11 Carlisle Street\, Camden Park\, SA\, 5038\, Australia
ATTACH;FMTTYPE=image/jpeg:https://goldfoundation.com.au/wp-content/uploads/2022/08/IMG_1553-768x1024-1.jpg
ORGANIZER;CN="The Gold Foundation":MAILTO:info@goldfoundation.com.au
END:VEVENT
BEGIN:VEVENT
DTSTART;TZID=Australia/Adelaide:20230815T180000
DTEND;TZID=Australia/Adelaide:20230815T193000
DTSTAMP:20260421T222203
CREATED:20230511T004731Z
LAST-MODIFIED:20230511T011605Z
UID:10002618-1692122400-1692127800@goldfoundation.com.au
SUMMARY:Uni Ready Program
DESCRIPTION:In the Uni Ready Program\, our expert facilitators support students to plan and prepare for university by providing valuable information\, building key foundational skills\, and fostering the confidence required to overcome challenges. The program format will resemble how learning is done at universities\, giving our students a taste of what to expect.
URL:https://goldfoundation.com.au/event/uni-ready-program/2023-08-15/
LOCATION:The Gold Foundation\, 9-11 Carlisle Street\, Camden Park\, SA\, 5038\, Australia
ATTACH;FMTTYPE=image/png:https://goldfoundation.com.au/wp-content/uploads/2023/05/Screenshot-2023-05-05-122235.png
ORGANIZER;CN="The Gold Foundation":MAILTO:info@goldfoundation.com.au
END:VEVENT
BEGIN:VEVENT
DTSTART;TZID=Australia/Adelaide:20230816T170000
DTEND;TZID=Australia/Adelaide:20230816T183000
DTSTAMP:20260421T222203
CREATED:20230110T021821Z
LAST-MODIFIED:20230601T005714Z
UID:10001665-1692205200-1692210600@goldfoundation.com.au
SUMMARY:Cadets (ages 8-12)
DESCRIPTION:Cadets is an activity-based social group designed to help young people on the Autism Spectrum aged 8-12 develop friendships and improve their social well-being! Through conversations and activities\, participants have the opportunity to improve their confidence and build their social skills in a safe and fun environment.
URL:https://goldfoundation.com.au/event/cadets-ages-8-12/2023-08-16/
LOCATION:The Gold Foundation\, 9-11 Carlisle Street\, Camden Park\, SA\, 5038\, Australia
ATTACH;FMTTYPE=image/jpeg:https://goldfoundation.com.au/wp-content/uploads/2022/06/f0d14c56-ca5b-9a04-55b4-a1eade43d427.jpg
ORGANIZER;CN="The Gold Foundation":MAILTO:info@goldfoundation.com.au
END:VEVENT
BEGIN:VEVENT
DTSTART;TZID=Australia/Adelaide:20230817T180000
DTEND;TZID=Australia/Adelaide:20230817T193000
DTSTAMP:20260421T222203
CREATED:20230601T064010Z
LAST-MODIFIED:20230601T064010Z
UID:10002648-1692295200-1692300600@goldfoundation.com.au
SUMMARY:Work Ready Program - Futures (Ages 16+)
DESCRIPTION:The revolutionary Work Ready Futures Program gives young autistic people the opportunity to achieve the valuable skills needed to gain meaningful employment.
URL:https://goldfoundation.com.au/event/work-ready-program-futures-ages-16/2023-08-17/
LOCATION:The Gold Foundation\, 9-11 Carlisle Street\, Camden Park\, SA\, 5038\, Australia
ORGANIZER;CN="The Gold Foundation":MAILTO:info@goldfoundation.com.au
END:VEVENT
BEGIN:VEVENT
DTSTART;TZID=Australia/Adelaide:20230818T183000
DTEND;TZID=Australia/Adelaide:20230818T203000
DTSTAMP:20260421T222203
CREATED:20230105T071552Z
LAST-MODIFIED:20230601T073159Z
UID:10002541-1692383400-1692390600@goldfoundation.com.au
SUMMARY:Youth Group (13 to 18 years)
DESCRIPTION:Gold Foundation organises regular social groups for young people on the Autism Spectrum from 13 to 18 years of age.\nOur Youth Groups are held in a relaxed and fun environment\, where young people can be social together\, forge lasting friendships and\, informally\, develop social skills and connect with others their age.
URL:https://goldfoundation.com.au/event/youth-group-13-to-18-years/2023-08-18/
LOCATION:The Gold Foundation\, 9-11 Carlisle Street\, Camden Park\, SA\, 5038\, Australia
ATTACH;FMTTYPE=image/jpeg:https://goldfoundation.com.au/wp-content/uploads/2023/01/Youth-Group-IMG_2255-scaled.jpg
ORGANIZER;CN="The Gold Foundation":MAILTO:info@goldfoundation.com.au
END:VEVENT
BEGIN:VEVENT
DTSTART;TZID=Australia/Adelaide:20230819T180000
DTEND;TZID=Australia/Adelaide:20230819T200000
DTSTAMP:20260421T222204
CREATED:20230106T002604Z
LAST-MODIFIED:20230106T002604Z
UID:10001610-1692468000-1692475200@goldfoundation.com.au
SUMMARY:Not So Youth Group (ages 18+)
DESCRIPTION:Not So Youth Group is a social group for young adults on the Autism Spectrum where attendees can be social\, find common ground and make friends\, all the while continuing to develop communication and social skills.
URL:https://goldfoundation.com.au/event/not-so-youth-group-ages-18-14/2023-08-19/
LOCATION:The Gold Foundation\, 9-11 Carlisle Street\, Camden Park\, SA\, 5038\, Australia
ATTACH;FMTTYPE=image/jpeg:https://goldfoundation.com.au/wp-content/uploads/2022/05/4E06F244-D2EB-41A7-8C1A-B2819B9FFDC8.jpg
ORGANIZER;CN="The Gold Foundation":MAILTO:info@goldfoundation.com.au
END:VEVENT
BEGIN:VEVENT
DTSTART;TZID=Australia/Adelaide:20230821T180000
DTEND;TZID=Australia/Adelaide:20230821T190000
DTSTAMP:20260421T222204
CREATED:20230518T005726Z
LAST-MODIFIED:20230518T005726Z
UID:10002624-1692640800-1692644400@goldfoundation.com.au
SUMMARY:Discovery Program for Girls
DESCRIPTION:The Discovery Program for Girls is designed to foster personal growth and emotional well-being in teenage girls\, building their skills and confidence to positively approach life’s challenges and tricky situations.
URL:https://goldfoundation.com.au/event/discovery-program-for-girls/2023-08-21/
LOCATION:The Gold Foundation\, 9-11 Carlisle Street\, Camden Park\, SA\, 5038\, Australia
ATTACH;FMTTYPE=image/jpeg:https://goldfoundation.com.au/wp-content/uploads/2021/11/Bowling-Night.jpg
ORGANIZER;CN="The Gold Foundation":MAILTO:info@goldfoundation.com.au
END:VEVENT
BEGIN:VEVENT
DTSTART;TZID=Australia/Adelaide:20230821T180000
DTEND;TZID=Australia/Adelaide:20230821T193000
DTSTAMP:20260421T222204
CREATED:20230523T071100Z
LAST-MODIFIED:20230524T234831Z
UID:10002638-1692640800-1692646200@goldfoundation.com.au
SUMMARY:Cooking Connection (Ages 13-17)
DESCRIPTION:In the Cooking Connection program\, chefs will make new friends\, and improve their social skills through teamwork\, sharing\, and responsibility. Cooking is a universal skill that offers a unique opportunity to explore many life lessons.
URL:https://goldfoundation.com.au/event/cooking-connection-ages-13-17/2023-08-21/
LOCATION:The Gold Foundation\, 9-11 Carlisle Street\, Camden Park\, SA\, 5038\, Australia
ATTACH;FMTTYPE=image/jpeg:https://goldfoundation.com.au/wp-content/uploads/2022/08/IMG_1553-768x1024-1.jpg
ORGANIZER;CN="The Gold Foundation":MAILTO:info@goldfoundation.com.au
END:VEVENT
BEGIN:VEVENT
DTSTART;TZID=Australia/Adelaide:20230822T180000
DTEND;TZID=Australia/Adelaide:20230822T193000
DTSTAMP:20260421T222204
CREATED:20230511T004731Z
LAST-MODIFIED:20230511T011605Z
UID:10002619-1692727200-1692732600@goldfoundation.com.au
SUMMARY:Uni Ready Program
DESCRIPTION:In the Uni Ready Program\, our expert facilitators support students to plan and prepare for university by providing valuable information\, building key foundational skills\, and fostering the confidence required to overcome challenges. The program format will resemble how learning is done at universities\, giving our students a taste of what to expect.
URL:https://goldfoundation.com.au/event/uni-ready-program/2023-08-22/
LOCATION:The Gold Foundation\, 9-11 Carlisle Street\, Camden Park\, SA\, 5038\, Australia
ATTACH;FMTTYPE=image/png:https://goldfoundation.com.au/wp-content/uploads/2023/05/Screenshot-2023-05-05-122235.png
ORGANIZER;CN="The Gold Foundation":MAILTO:info@goldfoundation.com.au
END:VEVENT
BEGIN:VEVENT
DTSTART;TZID=Australia/Adelaide:20230823T170000
DTEND;TZID=Australia/Adelaide:20230823T183000
DTSTAMP:20260421T222204
CREATED:20230110T021821Z
LAST-MODIFIED:20230601T005714Z
UID:10001666-1692810000-1692815400@goldfoundation.com.au
SUMMARY:Cadets (ages 8-12)
DESCRIPTION:Cadets is an activity-based social group designed to help young people on the Autism Spectrum aged 8-12 develop friendships and improve their social well-being! Through conversations and activities\, participants have the opportunity to improve their confidence and build their social skills in a safe and fun environment.
URL:https://goldfoundation.com.au/event/cadets-ages-8-12/2023-08-23/
LOCATION:The Gold Foundation\, 9-11 Carlisle Street\, Camden Park\, SA\, 5038\, Australia
ATTACH;FMTTYPE=image/jpeg:https://goldfoundation.com.au/wp-content/uploads/2022/06/f0d14c56-ca5b-9a04-55b4-a1eade43d427.jpg
ORGANIZER;CN="The Gold Foundation":MAILTO:info@goldfoundation.com.au
END:VEVENT
BEGIN:VEVENT
DTSTART;TZID=Australia/Adelaide:20230824T180000
DTEND;TZID=Australia/Adelaide:20230824T193000
DTSTAMP:20260421T222204
CREATED:20230601T064010Z
LAST-MODIFIED:20230601T064010Z
UID:10002649-1692900000-1692905400@goldfoundation.com.au
SUMMARY:Work Ready Program - Futures (Ages 16+)
DESCRIPTION:The revolutionary Work Ready Futures Program gives young autistic people the opportunity to achieve the valuable skills needed to gain meaningful employment.
URL:https://goldfoundation.com.au/event/work-ready-program-futures-ages-16/2023-08-24/
LOCATION:The Gold Foundation\, 9-11 Carlisle Street\, Camden Park\, SA\, 5038\, Australia
ORGANIZER;CN="The Gold Foundation":MAILTO:info@goldfoundation.com.au
END:VEVENT
BEGIN:VEVENT
DTSTART;TZID=Australia/Adelaide:20230825T183000
DTEND;TZID=Australia/Adelaide:20230825T203000
DTSTAMP:20260421T222204
CREATED:20230105T071552Z
LAST-MODIFIED:20230601T073159Z
UID:10002542-1692988200-1692995400@goldfoundation.com.au
SUMMARY:Youth Group (13 to 18 years)
DESCRIPTION:Gold Foundation organises regular social groups for young people on the Autism Spectrum from 13 to 18 years of age.\nOur Youth Groups are held in a relaxed and fun environment\, where young people can be social together\, forge lasting friendships and\, informally\, develop social skills and connect with others their age.
URL:https://goldfoundation.com.au/event/youth-group-13-to-18-years/2023-08-25/
LOCATION:The Gold Foundation\, 9-11 Carlisle Street\, Camden Park\, SA\, 5038\, Australia
ATTACH;FMTTYPE=image/jpeg:https://goldfoundation.com.au/wp-content/uploads/2023/01/Youth-Group-IMG_2255-scaled.jpg
ORGANIZER;CN="The Gold Foundation":MAILTO:info@goldfoundation.com.au
END:VEVENT
BEGIN:VEVENT
DTSTART;TZID=Australia/Adelaide:20230826T140000
DTEND;TZID=Australia/Adelaide:20230826T170000
DTSTAMP:20260421T222204
CREATED:20230807T234258Z
LAST-MODIFIED:20230807T234258Z
UID:10001671-1693058400-1693069200@goldfoundation.com.au
SUMMARY:D&D Group (ages 13–18)
DESCRIPTION:Dungeons & Dragons is the world’s most popular tabletop roleplaying game. It is cooperative. It is a cooperative\, storytelling game where you and other players take on the roles of different characters within a story. As you play\, your character will make friends and enemies\, fight monsters\, discover loot\, and complete quests! \nThis is a revolutionary new social group by Gold Foundation offering a unique gaming experience and social interaction for young people on the Autism Spectrum. \nOur Dungeon Master will take all players on a quest through the unknown as each player her their own unique role in the game!
URL:https://goldfoundation.com.au/event/dd-group-ages-13-18/2023-08-26/
LOCATION:The Gold Foundation\, 9-11 Carlisle Street\, Camden Park\, SA\, 5038\, Australia
ATTACH;FMTTYPE=image/jpeg:https://goldfoundation.com.au/wp-content/uploads/2023/06/DungeonsnDragonsBanner.jpg
ORGANIZER;CN="The Gold Foundation":MAILTO:info@goldfoundation.com.au
END:VEVENT
BEGIN:VEVENT
DTSTART;TZID=Australia/Adelaide:20230826T180000
DTEND;TZID=Australia/Adelaide:20230826T200000
DTSTAMP:20260421T222204
CREATED:20230106T002604Z
LAST-MODIFIED:20230106T002604Z
UID:10001611-1693072800-1693080000@goldfoundation.com.au
SUMMARY:Not So Youth Group (ages 18+)
DESCRIPTION:Not So Youth Group is a social group for young adults on the Autism Spectrum where attendees can be social\, find common ground and make friends\, all the while continuing to develop communication and social skills.
URL:https://goldfoundation.com.au/event/not-so-youth-group-ages-18-14/2023-08-26/
LOCATION:The Gold Foundation\, 9-11 Carlisle Street\, Camden Park\, SA\, 5038\, Australia
ATTACH;FMTTYPE=image/jpeg:https://goldfoundation.com.au/wp-content/uploads/2022/05/4E06F244-D2EB-41A7-8C1A-B2819B9FFDC8.jpg
ORGANIZER;CN="The Gold Foundation":MAILTO:info@goldfoundation.com.au
END:VEVENT
BEGIN:VEVENT
DTSTART;TZID=Australia/Adelaide:20230828T180000
DTEND;TZID=Australia/Adelaide:20230828T190000
DTSTAMP:20260421T222204
CREATED:20230518T005726Z
LAST-MODIFIED:20230518T005726Z
UID:10002625-1693245600-1693249200@goldfoundation.com.au
SUMMARY:Discovery Program for Girls
DESCRIPTION:The Discovery Program for Girls is designed to foster personal growth and emotional well-being in teenage girls\, building their skills and confidence to positively approach life’s challenges and tricky situations.
URL:https://goldfoundation.com.au/event/discovery-program-for-girls/2023-08-28/
LOCATION:The Gold Foundation\, 9-11 Carlisle Street\, Camden Park\, SA\, 5038\, Australia
ATTACH;FMTTYPE=image/jpeg:https://goldfoundation.com.au/wp-content/uploads/2021/11/Bowling-Night.jpg
ORGANIZER;CN="The Gold Foundation":MAILTO:info@goldfoundation.com.au
END:VEVENT
BEGIN:VEVENT
DTSTART;TZID=Australia/Adelaide:20230828T180000
DTEND;TZID=Australia/Adelaide:20230828T193000
DTSTAMP:20260421T222204
CREATED:20230523T071100Z
LAST-MODIFIED:20230524T234831Z
UID:10002639-1693245600-1693251000@goldfoundation.com.au
SUMMARY:Cooking Connection (Ages 13-17)
DESCRIPTION:In the Cooking Connection program\, chefs will make new friends\, and improve their social skills through teamwork\, sharing\, and responsibility. Cooking is a universal skill that offers a unique opportunity to explore many life lessons.
URL:https://goldfoundation.com.au/event/cooking-connection-ages-13-17/2023-08-28/
LOCATION:The Gold Foundation\, 9-11 Carlisle Street\, Camden Park\, SA\, 5038\, Australia
ATTACH;FMTTYPE=image/jpeg:https://goldfoundation.com.au/wp-content/uploads/2022/08/IMG_1553-768x1024-1.jpg
ORGANIZER;CN="The Gold Foundation":MAILTO:info@goldfoundation.com.au
END:VEVENT
BEGIN:VEVENT
DTSTART;TZID=Australia/Adelaide:20230829T180000
DTEND;TZID=Australia/Adelaide:20230829T190000
DTSTAMP:20260421T222204
CREATED:20230629T031043Z
LAST-MODIFIED:20230822T002119Z
UID:10002656-1693332000-1693335600@goldfoundation.com.au
SUMMARY:What's the Buzz? (Teenagers) (ages 12-15)
DESCRIPTION:‘What’s the Buzz?’ (for ages 12-15) is a 16-week social skills enrichment program for 12-15 year olds on the Autism Spectrum that encourages children to think about how to get along with others and explore the benefits of developing new social skills.
URL:https://goldfoundation.com.au/event/whats-the-buzz-teenagers-ages-12-15/2023-08-29/
LOCATION:The Gold Foundation\, 9-11 Carlisle Street\, Camden Park\, SA\, 5038\, Australia
ATTACH;FMTTYPE=image/jpeg:https://goldfoundation.com.au/wp-content/uploads/2022/05/WTB-Graduation-10-scaled.jpg
ORGANIZER;CN="The Gold Foundation":MAILTO:info@goldfoundation.com.au
END:VEVENT
BEGIN:VEVENT
DTSTART;TZID=Australia/Adelaide:20230829T180000
DTEND;TZID=Australia/Adelaide:20230829T193000
DTSTAMP:20260421T222204
CREATED:20230511T004731Z
LAST-MODIFIED:20230511T011605Z
UID:10002620-1693332000-1693337400@goldfoundation.com.au
SUMMARY:Uni Ready Program
DESCRIPTION:In the Uni Ready Program\, our expert facilitators support students to plan and prepare for university by providing valuable information\, building key foundational skills\, and fostering the confidence required to overcome challenges. The program format will resemble how learning is done at universities\, giving our students a taste of what to expect.
URL:https://goldfoundation.com.au/event/uni-ready-program/2023-08-29/
LOCATION:The Gold Foundation\, 9-11 Carlisle Street\, Camden Park\, SA\, 5038\, Australia
ATTACH;FMTTYPE=image/png:https://goldfoundation.com.au/wp-content/uploads/2023/05/Screenshot-2023-05-05-122235.png
ORGANIZER;CN="The Gold Foundation":MAILTO:info@goldfoundation.com.au
END:VEVENT
END:VCALENDAR