
BEGIN:VCALENDAR
VERSION:2.0
PRODID:-//Gold Foundation - ECPv6.15.13.1//NONSGML v1.0//EN
CALSCALE:GREGORIAN
METHOD:PUBLISH
X-ORIGINAL-URL:https://goldfoundation.com.au
X-WR-CALDESC:Events for Gold Foundation
REFRESH-INTERVAL;VALUE=DURATION:PT1H
X-Robots-Tag:noindex
X-PUBLISHED-TTL:PT1H
BEGIN:VTIMEZONE
TZID:Australia/Adelaide
BEGIN:STANDARD
TZOFFSETFROM:+1030
TZOFFSETTO:+0930
TZNAME:ACST
DTSTART:20220402T163000
END:STANDARD
BEGIN:DAYLIGHT
TZOFFSETFROM:+0930
TZOFFSETTO:+1030
TZNAME:ACDT
DTSTART:20221001T163000
END:DAYLIGHT
BEGIN:STANDARD
TZOFFSETFROM:+1030
TZOFFSETTO:+0930
TZNAME:ACST
DTSTART:20230401T163000
END:STANDARD
BEGIN:DAYLIGHT
TZOFFSETFROM:+0930
TZOFFSETTO:+1030
TZNAME:ACDT
DTSTART:20230930T163000
END:DAYLIGHT
BEGIN:STANDARD
TZOFFSETFROM:+1030
TZOFFSETTO:+0930
TZNAME:ACST
DTSTART:20240406T163000
END:STANDARD
BEGIN:DAYLIGHT
TZOFFSETFROM:+0930
TZOFFSETTO:+1030
TZNAME:ACDT
DTSTART:20241005T163000
END:DAYLIGHT
END:VTIMEZONE
BEGIN:VEVENT
DTSTART;TZID=Australia/Adelaide:20231002T180000
DTEND;TZID=Australia/Adelaide:20231002T190000
DTSTAMP:20260421T191336
CREATED:20230518T005726Z
LAST-MODIFIED:20230518T005726Z
UID:10002630-1696269600-1696273200@goldfoundation.com.au
SUMMARY:Discovery Program for Girls
DESCRIPTION:The Discovery Program for Girls is designed to foster personal growth and emotional well-being in teenage girls\, building their skills and confidence to positively approach life’s challenges and tricky situations.
URL:https://goldfoundation.com.au/event/discovery-program-for-girls/2023-10-02/
LOCATION:The Gold Foundation\, 9-11 Carlisle Street\, Camden Park\, SA\, 5038\, Australia
ATTACH;FMTTYPE=image/jpeg:https://goldfoundation.com.au/wp-content/uploads/2021/11/Bowling-Night.jpg
ORGANIZER;CN="The Gold Foundation":MAILTO:info@goldfoundation.com.au
END:VEVENT
BEGIN:VEVENT
DTSTART;TZID=Australia/Adelaide:20231003T180000
DTEND;TZID=Australia/Adelaide:20231003T190000
DTSTAMP:20260421T191336
CREATED:20230629T031043Z
LAST-MODIFIED:20230822T002119Z
UID:10002661-1696356000-1696359600@goldfoundation.com.au
SUMMARY:What's the Buzz? (Teenagers) (ages 12-15)
DESCRIPTION:‘What’s the Buzz?’ (for ages 12-15) is a 16-week social skills enrichment program for 12-15 year olds on the Autism Spectrum that encourages children to think about how to get along with others and explore the benefits of developing new social skills.
URL:https://goldfoundation.com.au/event/whats-the-buzz-teenagers-ages-12-15/2023-10-03/
LOCATION:The Gold Foundation\, 9-11 Carlisle Street\, Camden Park\, SA\, 5038\, Australia
ATTACH;FMTTYPE=image/jpeg:https://goldfoundation.com.au/wp-content/uploads/2022/05/WTB-Graduation-10-scaled.jpg
ORGANIZER;CN="The Gold Foundation":MAILTO:info@goldfoundation.com.au
END:VEVENT
BEGIN:VEVENT
DTSTART;TZID=Australia/Adelaide:20231005T180000
DTEND;TZID=Australia/Adelaide:20231005T193000
DTSTAMP:20260421T191336
CREATED:20230601T064010Z
LAST-MODIFIED:20230601T064010Z
UID:10002655-1696528800-1696534200@goldfoundation.com.au
SUMMARY:Work Ready Program - Futures (Ages 16+)
DESCRIPTION:The revolutionary Work Ready Futures Program gives young autistic people the opportunity to achieve the valuable skills needed to gain meaningful employment.
URL:https://goldfoundation.com.au/event/work-ready-program-futures-ages-16/2023-10-05/
LOCATION:The Gold Foundation\, 9-11 Carlisle Street\, Camden Park\, SA\, 5038\, Australia
ORGANIZER;CN="The Gold Foundation":MAILTO:info@goldfoundation.com.au
END:VEVENT
BEGIN:VEVENT
DTSTART;TZID=Australia/Adelaide:20231006T183000
DTEND;TZID=Australia/Adelaide:20231006T203000
DTSTAMP:20260421T191336
CREATED:20230105T071552Z
LAST-MODIFIED:20230601T073159Z
UID:10002548-1696617000-1696624200@goldfoundation.com.au
SUMMARY:Youth Group (13 to 18 years)
DESCRIPTION:Gold Foundation organises regular social groups for young people on the Autism Spectrum from 13 to 18 years of age.\nOur Youth Groups are held in a relaxed and fun environment\, where young people can be social together\, forge lasting friendships and\, informally\, develop social skills and connect with others their age.
URL:https://goldfoundation.com.au/event/youth-group-13-to-18-years/2023-10-06/
LOCATION:The Gold Foundation\, 9-11 Carlisle Street\, Camden Park\, SA\, 5038\, Australia
ATTACH;FMTTYPE=image/jpeg:https://goldfoundation.com.au/wp-content/uploads/2023/01/Youth-Group-IMG_2255-scaled.jpg
ORGANIZER;CN="The Gold Foundation":MAILTO:info@goldfoundation.com.au
END:VEVENT
BEGIN:VEVENT
DTSTART;TZID=Australia/Adelaide:20231007T140000
DTEND;TZID=Australia/Adelaide:20231007T170000
DTSTAMP:20260421T191336
CREATED:20230807T234258Z
LAST-MODIFIED:20230807T234258Z
UID:10001677-1696687200-1696698000@goldfoundation.com.au
SUMMARY:D&D Group (ages 13–18)
DESCRIPTION:Dungeons & Dragons is the world’s most popular tabletop roleplaying game. It is cooperative. It is a cooperative\, storytelling game where you and other players take on the roles of different characters within a story. As you play\, your character will make friends and enemies\, fight monsters\, discover loot\, and complete quests! \nThis is a revolutionary new social group by Gold Foundation offering a unique gaming experience and social interaction for young people on the Autism Spectrum. \nOur Dungeon Master will take all players on a quest through the unknown as each player her their own unique role in the game!
URL:https://goldfoundation.com.au/event/dd-group-ages-13-18/2023-10-07/
LOCATION:The Gold Foundation\, 9-11 Carlisle Street\, Camden Park\, SA\, 5038\, Australia
ATTACH;FMTTYPE=image/jpeg:https://goldfoundation.com.au/wp-content/uploads/2023/06/DungeonsnDragonsBanner.jpg
ORGANIZER;CN="The Gold Foundation":MAILTO:info@goldfoundation.com.au
END:VEVENT
BEGIN:VEVENT
DTSTART;TZID=Australia/Adelaide:20231007T180000
DTEND;TZID=Australia/Adelaide:20231007T200000
DTSTAMP:20260421T191336
CREATED:20230106T002604Z
LAST-MODIFIED:20230106T002604Z
UID:10001617-1696701600-1696708800@goldfoundation.com.au
SUMMARY:Not So Youth Group (ages 18+)
DESCRIPTION:Not So Youth Group is a social group for young adults on the Autism Spectrum where attendees can be social\, find common ground and make friends\, all the while continuing to develop communication and social skills.
URL:https://goldfoundation.com.au/event/not-so-youth-group-ages-18-14/2023-10-07/
LOCATION:The Gold Foundation\, 9-11 Carlisle Street\, Camden Park\, SA\, 5038\, Australia
ATTACH;FMTTYPE=image/jpeg:https://goldfoundation.com.au/wp-content/uploads/2022/05/4E06F244-D2EB-41A7-8C1A-B2819B9FFDC8.jpg
ORGANIZER;CN="The Gold Foundation":MAILTO:info@goldfoundation.com.au
END:VEVENT
BEGIN:VEVENT
DTSTART;TZID=Australia/Adelaide:20231007T180000
DTEND;TZID=Australia/Adelaide:20231007T200000
DTSTAMP:20260421T191336
CREATED:20231003T005438Z
LAST-MODIFIED:20231003T005438Z
UID:10001687-1696701600-1696708800@goldfoundation.com.au
SUMMARY:Not So Youth Group (ages 18–30)
DESCRIPTION:Not So Youth Group is a social group for young adults on the Autism Spectrum where attendees can be social\, find common ground and make friends\, all the while continuing to develop communication and social skills.
URL:https://goldfoundation.com.au/event/not-so-youth-group-ages-18-30/2023-10-07/
LOCATION:The Gold Foundation\, 9-11 Carlisle Street\, Camden Park\, SA\, 5038\, Australia
ATTACH;FMTTYPE=image/jpeg:https://goldfoundation.com.au/wp-content/uploads/2022/05/4E06F244-D2EB-41A7-8C1A-B2819B9FFDC8.jpg
ORGANIZER;CN="The Gold Foundation":MAILTO:info@goldfoundation.com.au
END:VEVENT
BEGIN:VEVENT
DTSTART;TZID=Australia/Adelaide:20231010T180000
DTEND;TZID=Australia/Adelaide:20231010T190000
DTSTAMP:20260421T191336
CREATED:20230629T031043Z
LAST-MODIFIED:20230822T002119Z
UID:10002662-1696960800-1696964400@goldfoundation.com.au
SUMMARY:What's the Buzz? (Teenagers) (ages 12-15)
DESCRIPTION:‘What’s the Buzz?’ (for ages 12-15) is a 16-week social skills enrichment program for 12-15 year olds on the Autism Spectrum that encourages children to think about how to get along with others and explore the benefits of developing new social skills.
URL:https://goldfoundation.com.au/event/whats-the-buzz-teenagers-ages-12-15/2023-10-10/
LOCATION:The Gold Foundation\, 9-11 Carlisle Street\, Camden Park\, SA\, 5038\, Australia
ATTACH;FMTTYPE=image/jpeg:https://goldfoundation.com.au/wp-content/uploads/2022/05/WTB-Graduation-10-scaled.jpg
ORGANIZER;CN="The Gold Foundation":MAILTO:info@goldfoundation.com.au
END:VEVENT
BEGIN:VEVENT
DTSTART;TZID=Australia/Adelaide:20231013T183000
DTEND;TZID=Australia/Adelaide:20231013T203000
DTSTAMP:20260421T191336
CREATED:20230105T071552Z
LAST-MODIFIED:20230601T073159Z
UID:10002549-1697221800-1697229000@goldfoundation.com.au
SUMMARY:Youth Group (13 to 18 years)
DESCRIPTION:Gold Foundation organises regular social groups for young people on the Autism Spectrum from 13 to 18 years of age.\nOur Youth Groups are held in a relaxed and fun environment\, where young people can be social together\, forge lasting friendships and\, informally\, develop social skills and connect with others their age.
URL:https://goldfoundation.com.au/event/youth-group-13-to-18-years/2023-10-13/
LOCATION:The Gold Foundation\, 9-11 Carlisle Street\, Camden Park\, SA\, 5038\, Australia
ATTACH;FMTTYPE=image/jpeg:https://goldfoundation.com.au/wp-content/uploads/2023/01/Youth-Group-IMG_2255-scaled.jpg
ORGANIZER;CN="The Gold Foundation":MAILTO:info@goldfoundation.com.au
END:VEVENT
BEGIN:VEVENT
DTSTART;TZID=Australia/Adelaide:20231014T140000
DTEND;TZID=Australia/Adelaide:20231014T170000
DTSTAMP:20260421T191336
CREATED:20230807T234258Z
LAST-MODIFIED:20230807T234258Z
UID:10001678-1697292000-1697302800@goldfoundation.com.au
SUMMARY:D&D Group (ages 13–18)
DESCRIPTION:Dungeons & Dragons is the world’s most popular tabletop roleplaying game. It is cooperative. It is a cooperative\, storytelling game where you and other players take on the roles of different characters within a story. As you play\, your character will make friends and enemies\, fight monsters\, discover loot\, and complete quests! \nThis is a revolutionary new social group by Gold Foundation offering a unique gaming experience and social interaction for young people on the Autism Spectrum. \nOur Dungeon Master will take all players on a quest through the unknown as each player her their own unique role in the game!
URL:https://goldfoundation.com.au/event/dd-group-ages-13-18/2023-10-14/
LOCATION:The Gold Foundation\, 9-11 Carlisle Street\, Camden Park\, SA\, 5038\, Australia
ATTACH;FMTTYPE=image/jpeg:https://goldfoundation.com.au/wp-content/uploads/2023/06/DungeonsnDragonsBanner.jpg
ORGANIZER;CN="The Gold Foundation":MAILTO:info@goldfoundation.com.au
END:VEVENT
BEGIN:VEVENT
DTSTART;TZID=Australia/Adelaide:20231014T180000
DTEND;TZID=Australia/Adelaide:20231014T200000
DTSTAMP:20260421T191336
CREATED:20230106T002604Z
LAST-MODIFIED:20230106T002604Z
UID:10001618-1697306400-1697313600@goldfoundation.com.au
SUMMARY:Not So Youth Group (ages 18+)
DESCRIPTION:Not So Youth Group is a social group for young adults on the Autism Spectrum where attendees can be social\, find common ground and make friends\, all the while continuing to develop communication and social skills.
URL:https://goldfoundation.com.au/event/not-so-youth-group-ages-18-14/2023-10-14/
LOCATION:The Gold Foundation\, 9-11 Carlisle Street\, Camden Park\, SA\, 5038\, Australia
ATTACH;FMTTYPE=image/jpeg:https://goldfoundation.com.au/wp-content/uploads/2022/05/4E06F244-D2EB-41A7-8C1A-B2819B9FFDC8.jpg
ORGANIZER;CN="The Gold Foundation":MAILTO:info@goldfoundation.com.au
END:VEVENT
BEGIN:VEVENT
DTSTART;TZID=Australia/Adelaide:20231014T180000
DTEND;TZID=Australia/Adelaide:20231014T200000
DTSTAMP:20260421T191336
CREATED:20231003T005438Z
LAST-MODIFIED:20231003T005438Z
UID:10001688-1697306400-1697313600@goldfoundation.com.au
SUMMARY:Not So Youth Group (ages 18–30)
DESCRIPTION:Not So Youth Group is a social group for young adults on the Autism Spectrum where attendees can be social\, find common ground and make friends\, all the while continuing to develop communication and social skills.
URL:https://goldfoundation.com.au/event/not-so-youth-group-ages-18-30/2023-10-14/
LOCATION:The Gold Foundation\, 9-11 Carlisle Street\, Camden Park\, SA\, 5038\, Australia
ATTACH;FMTTYPE=image/jpeg:https://goldfoundation.com.au/wp-content/uploads/2022/05/4E06F244-D2EB-41A7-8C1A-B2819B9FFDC8.jpg
ORGANIZER;CN="The Gold Foundation":MAILTO:info@goldfoundation.com.au
END:VEVENT
BEGIN:VEVENT
DTSTART;TZID=Australia/Adelaide:20231017T180000
DTEND;TZID=Australia/Adelaide:20231017T190000
DTSTAMP:20260421T191336
CREATED:20230629T031043Z
LAST-MODIFIED:20230822T002119Z
UID:10002663-1697565600-1697569200@goldfoundation.com.au
SUMMARY:What's the Buzz? (Teenagers) (ages 12-15)
DESCRIPTION:‘What’s the Buzz?’ (for ages 12-15) is a 16-week social skills enrichment program for 12-15 year olds on the Autism Spectrum that encourages children to think about how to get along with others and explore the benefits of developing new social skills.
URL:https://goldfoundation.com.au/event/whats-the-buzz-teenagers-ages-12-15/2023-10-17/
LOCATION:The Gold Foundation\, 9-11 Carlisle Street\, Camden Park\, SA\, 5038\, Australia
ATTACH;FMTTYPE=image/jpeg:https://goldfoundation.com.au/wp-content/uploads/2022/05/WTB-Graduation-10-scaled.jpg
ORGANIZER;CN="The Gold Foundation":MAILTO:info@goldfoundation.com.au
END:VEVENT
BEGIN:VEVENT
DTSTART;TZID=Australia/Adelaide:20231020T183000
DTEND;TZID=Australia/Adelaide:20231020T203000
DTSTAMP:20260421T191336
CREATED:20230105T071552Z
LAST-MODIFIED:20230601T073159Z
UID:10002550-1697826600-1697833800@goldfoundation.com.au
SUMMARY:Youth Group (13 to 18 years)
DESCRIPTION:Gold Foundation organises regular social groups for young people on the Autism Spectrum from 13 to 18 years of age.\nOur Youth Groups are held in a relaxed and fun environment\, where young people can be social together\, forge lasting friendships and\, informally\, develop social skills and connect with others their age.
URL:https://goldfoundation.com.au/event/youth-group-13-to-18-years/2023-10-20/
LOCATION:The Gold Foundation\, 9-11 Carlisle Street\, Camden Park\, SA\, 5038\, Australia
ATTACH;FMTTYPE=image/jpeg:https://goldfoundation.com.au/wp-content/uploads/2023/01/Youth-Group-IMG_2255-scaled.jpg
ORGANIZER;CN="The Gold Foundation":MAILTO:info@goldfoundation.com.au
END:VEVENT
BEGIN:VEVENT
DTSTART;TZID=Australia/Adelaide:20231021T140000
DTEND;TZID=Australia/Adelaide:20231021T170000
DTSTAMP:20260421T191336
CREATED:20230807T234258Z
LAST-MODIFIED:20230807T234258Z
UID:10001679-1697896800-1697907600@goldfoundation.com.au
SUMMARY:D&D Group (ages 13–18)
DESCRIPTION:Dungeons & Dragons is the world’s most popular tabletop roleplaying game. It is cooperative. It is a cooperative\, storytelling game where you and other players take on the roles of different characters within a story. As you play\, your character will make friends and enemies\, fight monsters\, discover loot\, and complete quests! \nThis is a revolutionary new social group by Gold Foundation offering a unique gaming experience and social interaction for young people on the Autism Spectrum. \nOur Dungeon Master will take all players on a quest through the unknown as each player her their own unique role in the game!
URL:https://goldfoundation.com.au/event/dd-group-ages-13-18/2023-10-21/
LOCATION:The Gold Foundation\, 9-11 Carlisle Street\, Camden Park\, SA\, 5038\, Australia
ATTACH;FMTTYPE=image/jpeg:https://goldfoundation.com.au/wp-content/uploads/2023/06/DungeonsnDragonsBanner.jpg
ORGANIZER;CN="The Gold Foundation":MAILTO:info@goldfoundation.com.au
END:VEVENT
BEGIN:VEVENT
DTSTART;TZID=Australia/Adelaide:20231021T180000
DTEND;TZID=Australia/Adelaide:20231021T200000
DTSTAMP:20260421T191336
CREATED:20230106T002604Z
LAST-MODIFIED:20230106T002604Z
UID:10001619-1697911200-1697918400@goldfoundation.com.au
SUMMARY:Not So Youth Group (ages 18+)
DESCRIPTION:Not So Youth Group is a social group for young adults on the Autism Spectrum where attendees can be social\, find common ground and make friends\, all the while continuing to develop communication and social skills.
URL:https://goldfoundation.com.au/event/not-so-youth-group-ages-18-14/2023-10-21/
LOCATION:The Gold Foundation\, 9-11 Carlisle Street\, Camden Park\, SA\, 5038\, Australia
ATTACH;FMTTYPE=image/jpeg:https://goldfoundation.com.au/wp-content/uploads/2022/05/4E06F244-D2EB-41A7-8C1A-B2819B9FFDC8.jpg
ORGANIZER;CN="The Gold Foundation":MAILTO:info@goldfoundation.com.au
END:VEVENT
BEGIN:VEVENT
DTSTART;TZID=Australia/Adelaide:20231021T180000
DTEND;TZID=Australia/Adelaide:20231021T200000
DTSTAMP:20260421T191336
CREATED:20231003T005438Z
LAST-MODIFIED:20231003T005438Z
UID:10001689-1697911200-1697918400@goldfoundation.com.au
SUMMARY:Not So Youth Group (ages 18–30)
DESCRIPTION:Not So Youth Group is a social group for young adults on the Autism Spectrum where attendees can be social\, find common ground and make friends\, all the while continuing to develop communication and social skills.
URL:https://goldfoundation.com.au/event/not-so-youth-group-ages-18-30/2023-10-21/
LOCATION:The Gold Foundation\, 9-11 Carlisle Street\, Camden Park\, SA\, 5038\, Australia
ATTACH;FMTTYPE=image/jpeg:https://goldfoundation.com.au/wp-content/uploads/2022/05/4E06F244-D2EB-41A7-8C1A-B2819B9FFDC8.jpg
ORGANIZER;CN="The Gold Foundation":MAILTO:info@goldfoundation.com.au
END:VEVENT
BEGIN:VEVENT
DTSTART;TZID=Australia/Adelaide:20231024T180000
DTEND;TZID=Australia/Adelaide:20231024T190000
DTSTAMP:20260421T191336
CREATED:20230629T031043Z
LAST-MODIFIED:20230822T002119Z
UID:10002664-1698170400-1698174000@goldfoundation.com.au
SUMMARY:What's the Buzz? (Teenagers) (ages 12-15)
DESCRIPTION:‘What’s the Buzz?’ (for ages 12-15) is a 16-week social skills enrichment program for 12-15 year olds on the Autism Spectrum that encourages children to think about how to get along with others and explore the benefits of developing new social skills.
URL:https://goldfoundation.com.au/event/whats-the-buzz-teenagers-ages-12-15/2023-10-24/
LOCATION:The Gold Foundation\, 9-11 Carlisle Street\, Camden Park\, SA\, 5038\, Australia
ATTACH;FMTTYPE=image/jpeg:https://goldfoundation.com.au/wp-content/uploads/2022/05/WTB-Graduation-10-scaled.jpg
ORGANIZER;CN="The Gold Foundation":MAILTO:info@goldfoundation.com.au
END:VEVENT
BEGIN:VEVENT
DTSTART;TZID=Australia/Adelaide:20231027T183000
DTEND;TZID=Australia/Adelaide:20231027T203000
DTSTAMP:20260421T191336
CREATED:20230105T071552Z
LAST-MODIFIED:20230601T073159Z
UID:10002551-1698431400-1698438600@goldfoundation.com.au
SUMMARY:Youth Group (13 to 18 years)
DESCRIPTION:Gold Foundation organises regular social groups for young people on the Autism Spectrum from 13 to 18 years of age.\nOur Youth Groups are held in a relaxed and fun environment\, where young people can be social together\, forge lasting friendships and\, informally\, develop social skills and connect with others their age.
URL:https://goldfoundation.com.au/event/youth-group-13-to-18-years/2023-10-27/
LOCATION:The Gold Foundation\, 9-11 Carlisle Street\, Camden Park\, SA\, 5038\, Australia
ATTACH;FMTTYPE=image/jpeg:https://goldfoundation.com.au/wp-content/uploads/2023/01/Youth-Group-IMG_2255-scaled.jpg
ORGANIZER;CN="The Gold Foundation":MAILTO:info@goldfoundation.com.au
END:VEVENT
BEGIN:VEVENT
DTSTART;TZID=Australia/Adelaide:20231028T140000
DTEND;TZID=Australia/Adelaide:20231028T170000
DTSTAMP:20260421T191336
CREATED:20230807T234258Z
LAST-MODIFIED:20230807T234258Z
UID:10001680-1698501600-1698512400@goldfoundation.com.au
SUMMARY:D&D Group (ages 13–18)
DESCRIPTION:Dungeons & Dragons is the world’s most popular tabletop roleplaying game. It is cooperative. It is a cooperative\, storytelling game where you and other players take on the roles of different characters within a story. As you play\, your character will make friends and enemies\, fight monsters\, discover loot\, and complete quests! \nThis is a revolutionary new social group by Gold Foundation offering a unique gaming experience and social interaction for young people on the Autism Spectrum. \nOur Dungeon Master will take all players on a quest through the unknown as each player her their own unique role in the game!
URL:https://goldfoundation.com.au/event/dd-group-ages-13-18/2023-10-28/
LOCATION:The Gold Foundation\, 9-11 Carlisle Street\, Camden Park\, SA\, 5038\, Australia
ATTACH;FMTTYPE=image/jpeg:https://goldfoundation.com.au/wp-content/uploads/2023/06/DungeonsnDragonsBanner.jpg
ORGANIZER;CN="The Gold Foundation":MAILTO:info@goldfoundation.com.au
END:VEVENT
BEGIN:VEVENT
DTSTART;TZID=Australia/Adelaide:20231028T180000
DTEND;TZID=Australia/Adelaide:20231028T200000
DTSTAMP:20260421T191336
CREATED:20230106T002604Z
LAST-MODIFIED:20230106T002604Z
UID:10001620-1698516000-1698523200@goldfoundation.com.au
SUMMARY:Not So Youth Group (ages 18+)
DESCRIPTION:Not So Youth Group is a social group for young adults on the Autism Spectrum where attendees can be social\, find common ground and make friends\, all the while continuing to develop communication and social skills.
URL:https://goldfoundation.com.au/event/not-so-youth-group-ages-18-14/2023-10-28/
LOCATION:The Gold Foundation\, 9-11 Carlisle Street\, Camden Park\, SA\, 5038\, Australia
ATTACH;FMTTYPE=image/jpeg:https://goldfoundation.com.au/wp-content/uploads/2022/05/4E06F244-D2EB-41A7-8C1A-B2819B9FFDC8.jpg
ORGANIZER;CN="The Gold Foundation":MAILTO:info@goldfoundation.com.au
END:VEVENT
BEGIN:VEVENT
DTSTART;TZID=Australia/Adelaide:20231028T180000
DTEND;TZID=Australia/Adelaide:20231028T200000
DTSTAMP:20260421T191336
CREATED:20231003T005438Z
LAST-MODIFIED:20231003T010628Z
UID:10001696-1698516000-1698523200@goldfoundation.com.au
SUMMARY:Not So Youth Group (ages 18–30)
DESCRIPTION:Not So Youth Group is a social group for young adults on the Autism Spectrum where attendees can be social\, find common ground and make friends\, all the while continuing to develop communication and social skills.
URL:https://goldfoundation.com.au/event/not-so-youth-group-ages-18-30-2023-10-28/
LOCATION:The Lost Dice\, 111 King William St\, Adelaide\, SA\, 5000\, Australia
ATTACH;FMTTYPE=image/jpeg:https://goldfoundation.com.au/wp-content/uploads/2022/05/4E06F244-D2EB-41A7-8C1A-B2819B9FFDC8.jpg
ORGANIZER;CN="The Gold Foundation":MAILTO:info@goldfoundation.com.au
END:VEVENT
BEGIN:VEVENT
DTSTART;TZID=Australia/Adelaide:20231031T180000
DTEND;TZID=Australia/Adelaide:20231031T190000
DTSTAMP:20260421T191336
CREATED:20230629T031043Z
LAST-MODIFIED:20230822T002119Z
UID:10002665-1698775200-1698778800@goldfoundation.com.au
SUMMARY:What's the Buzz? (Teenagers) (ages 12-15)
DESCRIPTION:‘What’s the Buzz?’ (for ages 12-15) is a 16-week social skills enrichment program for 12-15 year olds on the Autism Spectrum that encourages children to think about how to get along with others and explore the benefits of developing new social skills.
URL:https://goldfoundation.com.au/event/whats-the-buzz-teenagers-ages-12-15/2023-10-31/
LOCATION:The Gold Foundation\, 9-11 Carlisle Street\, Camden Park\, SA\, 5038\, Australia
ATTACH;FMTTYPE=image/jpeg:https://goldfoundation.com.au/wp-content/uploads/2022/05/WTB-Graduation-10-scaled.jpg
ORGANIZER;CN="The Gold Foundation":MAILTO:info@goldfoundation.com.au
END:VEVENT
END:VCALENDAR