
BEGIN:VCALENDAR
VERSION:2.0
PRODID:-//Gold Foundation - ECPv6.15.13.1//NONSGML v1.0//EN
CALSCALE:GREGORIAN
METHOD:PUBLISH
X-WR-CALNAME:Gold Foundation
X-ORIGINAL-URL:https://goldfoundation.com.au
X-WR-CALDESC:Events for Gold Foundation
REFRESH-INTERVAL;VALUE=DURATION:PT1H
X-Robots-Tag:noindex
X-PUBLISHED-TTL:PT1H
BEGIN:VTIMEZONE
TZID:Australia/Adelaide
BEGIN:STANDARD
TZOFFSETFROM:+1030
TZOFFSETTO:+0930
TZNAME:ACST
DTSTART:20250405T163000
END:STANDARD
BEGIN:DAYLIGHT
TZOFFSETFROM:+0930
TZOFFSETTO:+1030
TZNAME:ACDT
DTSTART:20251004T163000
END:DAYLIGHT
BEGIN:STANDARD
TZOFFSETFROM:+1030
TZOFFSETTO:+0930
TZNAME:ACST
DTSTART:20260404T163000
END:STANDARD
BEGIN:DAYLIGHT
TZOFFSETFROM:+0930
TZOFFSETTO:+1030
TZNAME:ACDT
DTSTART:20261003T163000
END:DAYLIGHT
BEGIN:STANDARD
TZOFFSETFROM:+1030
TZOFFSETTO:+0930
TZNAME:ACST
DTSTART:20270403T163000
END:STANDARD
BEGIN:DAYLIGHT
TZOFFSETFROM:+0930
TZOFFSETTO:+1030
TZNAME:ACDT
DTSTART:20271002T163000
END:DAYLIGHT
END:VTIMEZONE
BEGIN:VEVENT
DTSTART;TZID=Australia/Adelaide:20261002T183000
DTEND;TZID=Australia/Adelaide:20261002T203000
DTSTAMP:20260423T174258
CREATED:20251210T045752Z
LAST-MODIFIED:20251210T060417Z
UID:10003133-1790965800-1790973000@goldfoundation.com.au
SUMMARY:Youth Group (ages 12-17)
DESCRIPTION:Youth Group is a weekly gathering held in a relaxed and fun environment\, where young people on the Autism Spectrum can be social together\, forge lasting friendships and informally develop social skills and connect with others of their age. \nYoung people can enjoy movie nights\, arts and crafts\, talent shows\, quiz nights\, outdoor activities\, excursions and so much more with friends!
URL:https://goldfoundation.com.au/event/youth-group-ages-12-17-3/2026-10-02/
LOCATION:The Gold Foundation\, 9-11 Carlisle Street\, Camden Park\, SA\, 5038\, Australia
ATTACH;FMTTYPE=image/jpeg:https://goldfoundation.com.au/wp-content/uploads/2025/12/e2a84651-1c8a-4dae-bcbc-486b782139a6.jpg
ORGANIZER;CN="The Gold Foundation":MAILTO:info@goldfoundation.com.au
END:VEVENT
BEGIN:VEVENT
DTSTART;TZID=Australia/Adelaide:20261003T180000
DTEND;TZID=Australia/Adelaide:20261003T203000
DTSTAMP:20260423T174258
CREATED:20251210T050720Z
LAST-MODIFIED:20251210T061744Z
UID:10003438-1791050400-1791059400@goldfoundation.com.au
SUMMARY:Not So Youth Group (ages 18-35)
DESCRIPTION:Not So Youth Group is a social group for young adults on the Autism Spectrum where attendees can be social\, find common ground and make friends\, all the while continuing to develop communication and social skills.
URL:https://goldfoundation.com.au/event/not-so-youth-group-ages-18-35-2/2026-10-03/
LOCATION:The Gold Foundation\, 9-11 Carlisle Street\, Camden Park\, SA\, 5038\, Australia
ATTACH;FMTTYPE=image/jpeg:https://goldfoundation.com.au/wp-content/uploads/2025/12/WhatsApp-Image-2025-10-20-at-10.54.50-AM.jpeg
ORGANIZER;CN="The Gold Foundation":MAILTO:info@goldfoundation.com.au
END:VEVENT
BEGIN:VEVENT
DTSTART;TZID=Australia/Adelaide:20261007T163000
DTEND;TZID=Australia/Adelaide:20261007T183000
DTSTAMP:20260423T174258
CREATED:20251210T055427Z
LAST-MODIFIED:20251210T055503Z
UID:10003744-1791390600-1791397800@goldfoundation.com.au
SUMMARY:Cadets (ages 6-11)
DESCRIPTION:Cadets is an activity-based social group designed to help young people on the Autism Spectrum aged 6-11 develop friendships and improve their social well-being! Through conversations and activities\, participants have the opportunity to improve their confidence and build their social skills in a safe and fun environment.
URL:https://goldfoundation.com.au/event/cadets-ages-6-11-4/2026-10-07/
LOCATION:The Gold Foundation\, 9-11 Carlisle Street\, Camden Park\, SA\, 5038\, Australia
ATTACH;FMTTYPE=image/jpeg:https://goldfoundation.com.au/wp-content/uploads/2024/03/IMG_2800.jpeg
ORGANIZER;CN="The Gold Foundation":MAILTO:info@goldfoundation.com.au
END:VEVENT
BEGIN:VEVENT
DTSTART;TZID=Australia/Adelaide:20261009T183000
DTEND;TZID=Australia/Adelaide:20261009T203000
DTSTAMP:20260423T174258
CREATED:20251210T045752Z
LAST-MODIFIED:20251210T060417Z
UID:10003134-1791570600-1791577800@goldfoundation.com.au
SUMMARY:Youth Group (ages 12-17)
DESCRIPTION:Youth Group is a weekly gathering held in a relaxed and fun environment\, where young people on the Autism Spectrum can be social together\, forge lasting friendships and informally develop social skills and connect with others of their age. \nYoung people can enjoy movie nights\, arts and crafts\, talent shows\, quiz nights\, outdoor activities\, excursions and so much more with friends!
URL:https://goldfoundation.com.au/event/youth-group-ages-12-17-3/2026-10-09/
LOCATION:The Gold Foundation\, 9-11 Carlisle Street\, Camden Park\, SA\, 5038\, Australia
ATTACH;FMTTYPE=image/jpeg:https://goldfoundation.com.au/wp-content/uploads/2025/12/e2a84651-1c8a-4dae-bcbc-486b782139a6.jpg
ORGANIZER;CN="The Gold Foundation":MAILTO:info@goldfoundation.com.au
END:VEVENT
BEGIN:VEVENT
DTSTART;TZID=Australia/Adelaide:20261010T180000
DTEND;TZID=Australia/Adelaide:20261010T203000
DTSTAMP:20260423T174258
CREATED:20251210T050720Z
LAST-MODIFIED:20251210T061744Z
UID:10003439-1791655200-1791664200@goldfoundation.com.au
SUMMARY:Not So Youth Group (ages 18-35)
DESCRIPTION:Not So Youth Group is a social group for young adults on the Autism Spectrum where attendees can be social\, find common ground and make friends\, all the while continuing to develop communication and social skills.
URL:https://goldfoundation.com.au/event/not-so-youth-group-ages-18-35-2/2026-10-10/
LOCATION:The Gold Foundation\, 9-11 Carlisle Street\, Camden Park\, SA\, 5038\, Australia
ATTACH;FMTTYPE=image/jpeg:https://goldfoundation.com.au/wp-content/uploads/2025/12/WhatsApp-Image-2025-10-20-at-10.54.50-AM.jpeg
ORGANIZER;CN="The Gold Foundation":MAILTO:info@goldfoundation.com.au
END:VEVENT
BEGIN:VEVENT
DTSTART;TZID=Australia/Adelaide:20261014T163000
DTEND;TZID=Australia/Adelaide:20261014T183000
DTSTAMP:20260423T174258
CREATED:20251210T055427Z
LAST-MODIFIED:20251210T055503Z
UID:10003745-1791995400-1792002600@goldfoundation.com.au
SUMMARY:Cadets (ages 6-11)
DESCRIPTION:Cadets is an activity-based social group designed to help young people on the Autism Spectrum aged 6-11 develop friendships and improve their social well-being! Through conversations and activities\, participants have the opportunity to improve their confidence and build their social skills in a safe and fun environment.
URL:https://goldfoundation.com.au/event/cadets-ages-6-11-4/2026-10-14/
LOCATION:The Gold Foundation\, 9-11 Carlisle Street\, Camden Park\, SA\, 5038\, Australia
ATTACH;FMTTYPE=image/jpeg:https://goldfoundation.com.au/wp-content/uploads/2024/03/IMG_2800.jpeg
ORGANIZER;CN="The Gold Foundation":MAILTO:info@goldfoundation.com.au
END:VEVENT
BEGIN:VEVENT
DTSTART;TZID=Australia/Adelaide:20261016T183000
DTEND;TZID=Australia/Adelaide:20261016T203000
DTSTAMP:20260423T174258
CREATED:20251210T045752Z
LAST-MODIFIED:20251210T060417Z
UID:10003135-1792175400-1792182600@goldfoundation.com.au
SUMMARY:Youth Group (ages 12-17)
DESCRIPTION:Youth Group is a weekly gathering held in a relaxed and fun environment\, where young people on the Autism Spectrum can be social together\, forge lasting friendships and informally develop social skills and connect with others of their age. \nYoung people can enjoy movie nights\, arts and crafts\, talent shows\, quiz nights\, outdoor activities\, excursions and so much more with friends!
URL:https://goldfoundation.com.au/event/youth-group-ages-12-17-3/2026-10-16/
LOCATION:The Gold Foundation\, 9-11 Carlisle Street\, Camden Park\, SA\, 5038\, Australia
ATTACH;FMTTYPE=image/jpeg:https://goldfoundation.com.au/wp-content/uploads/2025/12/e2a84651-1c8a-4dae-bcbc-486b782139a6.jpg
ORGANIZER;CN="The Gold Foundation":MAILTO:info@goldfoundation.com.au
END:VEVENT
BEGIN:VEVENT
DTSTART;TZID=Australia/Adelaide:20261017T180000
DTEND;TZID=Australia/Adelaide:20261017T203000
DTSTAMP:20260423T174258
CREATED:20251210T050720Z
LAST-MODIFIED:20251210T061744Z
UID:10003440-1792260000-1792269000@goldfoundation.com.au
SUMMARY:Not So Youth Group (ages 18-35)
DESCRIPTION:Not So Youth Group is a social group for young adults on the Autism Spectrum where attendees can be social\, find common ground and make friends\, all the while continuing to develop communication and social skills.
URL:https://goldfoundation.com.au/event/not-so-youth-group-ages-18-35-2/2026-10-17/
LOCATION:The Gold Foundation\, 9-11 Carlisle Street\, Camden Park\, SA\, 5038\, Australia
ATTACH;FMTTYPE=image/jpeg:https://goldfoundation.com.au/wp-content/uploads/2025/12/WhatsApp-Image-2025-10-20-at-10.54.50-AM.jpeg
ORGANIZER;CN="The Gold Foundation":MAILTO:info@goldfoundation.com.au
END:VEVENT
BEGIN:VEVENT
DTSTART;TZID=Australia/Adelaide:20261021T163000
DTEND;TZID=Australia/Adelaide:20261021T183000
DTSTAMP:20260423T174259
CREATED:20251210T055427Z
LAST-MODIFIED:20251210T055503Z
UID:10003746-1792600200-1792607400@goldfoundation.com.au
SUMMARY:Cadets (ages 6-11)
DESCRIPTION:Cadets is an activity-based social group designed to help young people on the Autism Spectrum aged 6-11 develop friendships and improve their social well-being! Through conversations and activities\, participants have the opportunity to improve their confidence and build their social skills in a safe and fun environment.
URL:https://goldfoundation.com.au/event/cadets-ages-6-11-4/2026-10-21/
LOCATION:The Gold Foundation\, 9-11 Carlisle Street\, Camden Park\, SA\, 5038\, Australia
ATTACH;FMTTYPE=image/jpeg:https://goldfoundation.com.au/wp-content/uploads/2024/03/IMG_2800.jpeg
ORGANIZER;CN="The Gold Foundation":MAILTO:info@goldfoundation.com.au
END:VEVENT
BEGIN:VEVENT
DTSTART;TZID=Australia/Adelaide:20261023T183000
DTEND;TZID=Australia/Adelaide:20261023T203000
DTSTAMP:20260423T174259
CREATED:20251210T045752Z
LAST-MODIFIED:20251210T060417Z
UID:10003136-1792780200-1792787400@goldfoundation.com.au
SUMMARY:Youth Group (ages 12-17)
DESCRIPTION:Youth Group is a weekly gathering held in a relaxed and fun environment\, where young people on the Autism Spectrum can be social together\, forge lasting friendships and informally develop social skills and connect with others of their age. \nYoung people can enjoy movie nights\, arts and crafts\, talent shows\, quiz nights\, outdoor activities\, excursions and so much more with friends!
URL:https://goldfoundation.com.au/event/youth-group-ages-12-17-3/2026-10-23/
LOCATION:The Gold Foundation\, 9-11 Carlisle Street\, Camden Park\, SA\, 5038\, Australia
ATTACH;FMTTYPE=image/jpeg:https://goldfoundation.com.au/wp-content/uploads/2025/12/e2a84651-1c8a-4dae-bcbc-486b782139a6.jpg
ORGANIZER;CN="The Gold Foundation":MAILTO:info@goldfoundation.com.au
END:VEVENT
BEGIN:VEVENT
DTSTART;TZID=Australia/Adelaide:20261024T180000
DTEND;TZID=Australia/Adelaide:20261024T203000
DTSTAMP:20260423T174259
CREATED:20251210T050720Z
LAST-MODIFIED:20251210T061744Z
UID:10003441-1792864800-1792873800@goldfoundation.com.au
SUMMARY:Not So Youth Group (ages 18-35)
DESCRIPTION:Not So Youth Group is a social group for young adults on the Autism Spectrum where attendees can be social\, find common ground and make friends\, all the while continuing to develop communication and social skills.
URL:https://goldfoundation.com.au/event/not-so-youth-group-ages-18-35-2/2026-10-24/
LOCATION:The Gold Foundation\, 9-11 Carlisle Street\, Camden Park\, SA\, 5038\, Australia
ATTACH;FMTTYPE=image/jpeg:https://goldfoundation.com.au/wp-content/uploads/2025/12/WhatsApp-Image-2025-10-20-at-10.54.50-AM.jpeg
ORGANIZER;CN="The Gold Foundation":MAILTO:info@goldfoundation.com.au
END:VEVENT
BEGIN:VEVENT
DTSTART;TZID=Australia/Adelaide:20261028T163000
DTEND;TZID=Australia/Adelaide:20261028T183000
DTSTAMP:20260423T174259
CREATED:20251210T055427Z
LAST-MODIFIED:20251210T055503Z
UID:10003747-1793205000-1793212200@goldfoundation.com.au
SUMMARY:Cadets (ages 6-11)
DESCRIPTION:Cadets is an activity-based social group designed to help young people on the Autism Spectrum aged 6-11 develop friendships and improve their social well-being! Through conversations and activities\, participants have the opportunity to improve their confidence and build their social skills in a safe and fun environment.
URL:https://goldfoundation.com.au/event/cadets-ages-6-11-4/2026-10-28/
LOCATION:The Gold Foundation\, 9-11 Carlisle Street\, Camden Park\, SA\, 5038\, Australia
ATTACH;FMTTYPE=image/jpeg:https://goldfoundation.com.au/wp-content/uploads/2024/03/IMG_2800.jpeg
ORGANIZER;CN="The Gold Foundation":MAILTO:info@goldfoundation.com.au
END:VEVENT
BEGIN:VEVENT
DTSTART;TZID=Australia/Adelaide:20261030T183000
DTEND;TZID=Australia/Adelaide:20261030T203000
DTSTAMP:20260423T174259
CREATED:20251210T045752Z
LAST-MODIFIED:20251210T060417Z
UID:10003761-1793385000-1793392200@goldfoundation.com.au
SUMMARY:Youth Group (ages 12-17)
DESCRIPTION:Youth Group is a weekly gathering held in a relaxed and fun environment\, where young people on the Autism Spectrum can be social together\, forge lasting friendships and informally develop social skills and connect with others of their age. \nYoung people can enjoy movie nights\, arts and crafts\, talent shows\, quiz nights\, outdoor activities\, excursions and so much more with friends!
URL:https://goldfoundation.com.au/event/youth-group-ages-12-17-3/2026-10-30/
LOCATION:The Gold Foundation\, 9-11 Carlisle Street\, Camden Park\, SA\, 5038\, Australia
ATTACH;FMTTYPE=image/jpeg:https://goldfoundation.com.au/wp-content/uploads/2025/12/e2a84651-1c8a-4dae-bcbc-486b782139a6.jpg
ORGANIZER;CN="The Gold Foundation":MAILTO:info@goldfoundation.com.au
END:VEVENT
BEGIN:VEVENT
DTSTART;TZID=Australia/Adelaide:20261031T180000
DTEND;TZID=Australia/Adelaide:20261031T203000
DTSTAMP:20260423T174259
CREATED:20251210T050720Z
LAST-MODIFIED:20251210T061744Z
UID:10003442-1793469600-1793478600@goldfoundation.com.au
SUMMARY:Not So Youth Group (ages 18-35)
DESCRIPTION:Not So Youth Group is a social group for young adults on the Autism Spectrum where attendees can be social\, find common ground and make friends\, all the while continuing to develop communication and social skills.
URL:https://goldfoundation.com.au/event/not-so-youth-group-ages-18-35-2/2026-10-31/
LOCATION:The Gold Foundation\, 9-11 Carlisle Street\, Camden Park\, SA\, 5038\, Australia
ATTACH;FMTTYPE=image/jpeg:https://goldfoundation.com.au/wp-content/uploads/2025/12/WhatsApp-Image-2025-10-20-at-10.54.50-AM.jpeg
ORGANIZER;CN="The Gold Foundation":MAILTO:info@goldfoundation.com.au
END:VEVENT
END:VCALENDAR