
BEGIN:VCALENDAR
VERSION:2.0
PRODID:-//Gold Foundation - ECPv6.15.13.1//NONSGML v1.0//EN
CALSCALE:GREGORIAN
METHOD:PUBLISH
X-WR-CALNAME:Gold Foundation
X-ORIGINAL-URL:https://goldfoundation.com.au
X-WR-CALDESC:Events for Gold Foundation
REFRESH-INTERVAL;VALUE=DURATION:PT1H
X-Robots-Tag:noindex
X-PUBLISHED-TTL:PT1H
BEGIN:VTIMEZONE
TZID:Australia/Adelaide
BEGIN:STANDARD
TZOFFSETFROM:+1030
TZOFFSETTO:+0930
TZNAME:ACST
DTSTART:20250405T163000
END:STANDARD
BEGIN:DAYLIGHT
TZOFFSETFROM:+0930
TZOFFSETTO:+1030
TZNAME:ACDT
DTSTART:20251004T163000
END:DAYLIGHT
BEGIN:STANDARD
TZOFFSETFROM:+1030
TZOFFSETTO:+0930
TZNAME:ACST
DTSTART:20260404T163000
END:STANDARD
BEGIN:DAYLIGHT
TZOFFSETFROM:+0930
TZOFFSETTO:+1030
TZNAME:ACDT
DTSTART:20261003T163000
END:DAYLIGHT
BEGIN:STANDARD
TZOFFSETFROM:+1030
TZOFFSETTO:+0930
TZNAME:ACST
DTSTART:20270403T163000
END:STANDARD
BEGIN:DAYLIGHT
TZOFFSETFROM:+0930
TZOFFSETTO:+1030
TZNAME:ACDT
DTSTART:20271002T163000
END:DAYLIGHT
END:VTIMEZONE
BEGIN:VEVENT
DTSTART;TZID=Australia/Adelaide:20260423T183000
DTEND;TZID=Australia/Adelaide:20260423T200000
DTSTAMP:20260423T094139
CREATED:20260122T003423Z
LAST-MODIFIED:20260209T063854Z
UID:10004096-1776969000-1776974400@goldfoundation.com.au
SUMMARY:Cooking Connection (ages 13-17)
DESCRIPTION:The Cooking Connection Program is prepped and ready to go\, chef! \nCultivate a sense of good nutrition in your child by signing them up for cooking classes at The Cooking Connection Program for young people on the Autism Spectrum! \nOur classes are fun\, safe\, and teach young people how to make healthy food choices. \nChefs will make new friends\, and improve their social skills through teamwork\, sharing\, and responsibility. Cooking is a universal skill that offers a unique opportunity to explore many life lessons. \n 
URL:https://goldfoundation.com.au/event/cooking-connection-ages-13-17-3/2026-04-23/
LOCATION:Fullarton Park Community Centre
ATTACH;FMTTYPE=image/jpeg:https://goldfoundation.com.au/wp-content/uploads/2025/12/b9abab91-fa42-49ba-9aa2-dbbe48eb47fe.jpg
END:VEVENT
BEGIN:VEVENT
DTSTART;TZID=Australia/Adelaide:20260424T183000
DTEND;TZID=Australia/Adelaide:20260424T203000
DTSTAMP:20260423T094139
CREATED:20251210T045752Z
LAST-MODIFIED:20251210T060417Z
UID:10003110-1777055400-1777062600@goldfoundation.com.au
SUMMARY:Youth Group (ages 12-17)
DESCRIPTION:Youth Group is a weekly gathering held in a relaxed and fun environment\, where young people on the Autism Spectrum can be social together\, forge lasting friendships and informally develop social skills and connect with others of their age. \nYoung people can enjoy movie nights\, arts and crafts\, talent shows\, quiz nights\, outdoor activities\, excursions and so much more with friends!
URL:https://goldfoundation.com.au/event/youth-group-ages-12-17-3/2026-04-24/
LOCATION:The Gold Foundation\, 9-11 Carlisle Street\, Camden Park\, SA\, 5038\, Australia
ATTACH;FMTTYPE=image/jpeg:https://goldfoundation.com.au/wp-content/uploads/2025/12/e2a84651-1c8a-4dae-bcbc-486b782139a6.jpg
ORGANIZER;CN="The Gold Foundation":MAILTO:info@goldfoundation.com.au
END:VEVENT
BEGIN:VEVENT
DTSTART;TZID=Australia/Adelaide:20260425T153000
DTEND;TZID=Australia/Adelaide:20260425T183000
DTSTAMP:20260423T094139
CREATED:20260209T055031Z
LAST-MODIFIED:20260209T055132Z
UID:10004070-1777131000-1777141800@goldfoundation.com.au
SUMMARY:D&D Teens
DESCRIPTION:Dungeons & Dragons is the world’s most popular tabletop roleplaying game. It is cooperative. It is a cooperative\, storytelling game where you and other players take on the roles of different characters within a story. As you play\, your character will make friends and enemies\, fight monsters\, discover loot\, and complete quests! \nThis is a revolutionary new social group by Gold Foundation offering a unique gaming experience and social interaction for young people on the Autism Spectrum. \nOur Dungeon Master will take all players on a quest through the unknown as each player her their own unique role in the game!
URL:https://goldfoundation.com.au/event/dd-teens-2/2026-04-25/
LOCATION:Fullarton Park Community Centre
ATTACH;FMTTYPE=image/jpeg:https://goldfoundation.com.au/wp-content/uploads/2024/03/20240316_160859-scaled.jpg
END:VEVENT
BEGIN:VEVENT
DTSTART;TZID=Australia/Adelaide:20260425T180000
DTEND;TZID=Australia/Adelaide:20260425T203000
DTSTAMP:20260423T094139
CREATED:20251210T050720Z
LAST-MODIFIED:20251210T061744Z
UID:10003415-1777140000-1777149000@goldfoundation.com.au
SUMMARY:Not So Youth Group (ages 18-35)
DESCRIPTION:Not So Youth Group is a social group for young adults on the Autism Spectrum where attendees can be social\, find common ground and make friends\, all the while continuing to develop communication and social skills.
URL:https://goldfoundation.com.au/event/not-so-youth-group-ages-18-35-2/2026-04-25/
LOCATION:The Gold Foundation\, 9-11 Carlisle Street\, Camden Park\, SA\, 5038\, Australia
ATTACH;FMTTYPE=image/jpeg:https://goldfoundation.com.au/wp-content/uploads/2025/12/WhatsApp-Image-2025-10-20-at-10.54.50-AM.jpeg
ORGANIZER;CN="The Gold Foundation":MAILTO:info@goldfoundation.com.au
END:VEVENT
BEGIN:VEVENT
DTSTART;TZID=Australia/Adelaide:20260426T100000
DTEND;TZID=Australia/Adelaide:20260426T130000
DTSTAMP:20260423T094139
CREATED:20260209T055801Z
LAST-MODIFIED:20260209T055801Z
UID:10004086-1777197600-1777208400@goldfoundation.com.au
SUMMARY:D&D adults
DESCRIPTION:Dungeons & Dragons is the world’s most popular tabletop roleplaying game. It is cooperative. It is a cooperative\, storytelling game where you and other players take on the roles of different characters within a story. As you play\, your character will make friends and enemies\, fight monsters\, discover loot\, and complete quests! \nThis is a revolutionary new social group by Gold Foundation offering a unique gaming experience and social interaction for young people on the Autism Spectrum. \nOur Dungeon Master will take all players on a quest through the unknown as each player her their own unique role in the game! \nD&D Group (ages 18+)
URL:https://goldfoundation.com.au/event/dd-adults/2026-04-26/
LOCATION:Fullarton Park Community Centre
ATTACH;FMTTYPE=image/jpeg:https://goldfoundation.com.au/wp-content/uploads/2025/12/IMG_5127-scaled.jpg
END:VEVENT
BEGIN:VEVENT
DTSTART;TZID=Australia/Adelaide:20260426T140000
DTEND;TZID=Australia/Adelaide:20260426T170000
DTSTAMP:20260423T094139
CREATED:20260209T054605Z
LAST-MODIFIED:20260209T054803Z
UID:10004055-1777212000-1777222800@goldfoundation.com.au
SUMMARY:D&D Adults
DESCRIPTION:Dungeons & Dragons is the world’s most popular tabletop roleplaying game. It is cooperative. It is a cooperative\, storytelling game where you and other players take on the roles of different characters within a story. As you play\, your character will make friends and enemies\, fight monsters\, discover loot\, and complete quests! \nThis is a revolutionary new social group by Gold Foundation offering a unique gaming experience and social interaction for young people on the Autism Spectrum. \nOur Dungeon Master will take all players on a quest through the unknown as each player her their own unique role in the game! \nD&D Group (ages 18+)
URL:https://goldfoundation.com.au/event/dungeons-and-dragons-adults-2/2026-04-26/
LOCATION:Fullarton Park Community Centre
ATTACH;FMTTYPE=image/jpeg:https://goldfoundation.com.au/wp-content/uploads/2025/02/IMG_2936-Small.jpeg
END:VEVENT
BEGIN:VEVENT
DTSTART;TZID=Australia/Adelaide:20260427T160000
DTEND;TZID=Australia/Adelaide:20260427T180000
DTSTAMP:20260423T094139
CREATED:20260209T054049Z
LAST-MODIFIED:20260417T053855Z
UID:10003873-1777305600-1777312800@goldfoundation.com.au
SUMMARY:Inclusive Hospitality Program
DESCRIPTION:
URL:https://goldfoundation.com.au/event/inclusive-hospitality-program-2/2026-04-27/
LOCATION:KOM Cafe\, 449A Pulteney St\, Adelaide\, SA\, 5000\, Australia
ATTACH;FMTTYPE=image/heic:https://goldfoundation.com.au/wp-content/uploads/2025/10/IMG_5565-scaled.jpg
END:VEVENT
BEGIN:VEVENT
DTSTART;TZID=Australia/Adelaide:20260427T170000
DTEND;TZID=Australia/Adelaide:20260427T190000
DTSTAMP:20260423T094139
CREATED:20260107T225825Z
LAST-MODIFIED:20260417T053702Z
UID:10004030-1777309200-1777316400@goldfoundation.com.au
SUMMARY:Inclusive Arts Program
DESCRIPTION:
URL:https://goldfoundation.com.au/event/inclusive-arts-program/2026-04-27/
LOCATION:Gold Foundation Centre\, 9 -11 Carlisle St\, Camden Park\, SA\, 5038
ATTACH;FMTTYPE=image/jpeg:https://goldfoundation.com.au/wp-content/uploads/2026/01/WhatsApp-Image-2026-03-23-at-5.22.44-PM.jpeg
END:VEVENT
BEGIN:VEVENT
DTSTART;TZID=Australia/Adelaide:20260429T163000
DTEND;TZID=Australia/Adelaide:20260429T183000
DTSTAMP:20260423T094139
CREATED:20251210T055427Z
LAST-MODIFIED:20251210T055503Z
UID:10003721-1777480200-1777487400@goldfoundation.com.au
SUMMARY:Cadets (ages 6-11)
DESCRIPTION:Cadets is an activity-based social group designed to help young people on the Autism Spectrum aged 6-11 develop friendships and improve their social well-being! Through conversations and activities\, participants have the opportunity to improve their confidence and build their social skills in a safe and fun environment.
URL:https://goldfoundation.com.au/event/cadets-ages-6-11-4/2026-04-29/
LOCATION:The Gold Foundation\, 9-11 Carlisle Street\, Camden Park\, SA\, 5038\, Australia
ATTACH;FMTTYPE=image/jpeg:https://goldfoundation.com.au/wp-content/uploads/2024/03/IMG_2800.jpeg
ORGANIZER;CN="The Gold Foundation":MAILTO:info@goldfoundation.com.au
END:VEVENT
BEGIN:VEVENT
DTSTART;TZID=Australia/Adelaide:20260430T183000
DTEND;TZID=Australia/Adelaide:20260430T200000
DTSTAMP:20260423T094139
CREATED:20260122T003423Z
LAST-MODIFIED:20260209T063854Z
UID:10004097-1777573800-1777579200@goldfoundation.com.au
SUMMARY:Cooking Connection (ages 13-17)
DESCRIPTION:The Cooking Connection Program is prepped and ready to go\, chef! \nCultivate a sense of good nutrition in your child by signing them up for cooking classes at The Cooking Connection Program for young people on the Autism Spectrum! \nOur classes are fun\, safe\, and teach young people how to make healthy food choices. \nChefs will make new friends\, and improve their social skills through teamwork\, sharing\, and responsibility. Cooking is a universal skill that offers a unique opportunity to explore many life lessons. \n 
URL:https://goldfoundation.com.au/event/cooking-connection-ages-13-17-3/2026-04-30/
LOCATION:Fullarton Park Community Centre
ATTACH;FMTTYPE=image/jpeg:https://goldfoundation.com.au/wp-content/uploads/2025/12/b9abab91-fa42-49ba-9aa2-dbbe48eb47fe.jpg
END:VEVENT
END:VCALENDAR