
BEGIN:VCALENDAR
VERSION:2.0
PRODID:-//Gold Foundation - ECPv6.15.13.1//NONSGML v1.0//EN
CALSCALE:GREGORIAN
METHOD:PUBLISH
X-WR-CALNAME:Gold Foundation
X-ORIGINAL-URL:https://goldfoundation.com.au
X-WR-CALDESC:Events for Gold Foundation
REFRESH-INTERVAL;VALUE=DURATION:PT1H
X-Robots-Tag:noindex
X-PUBLISHED-TTL:PT1H
BEGIN:VTIMEZONE
TZID:Australia/Adelaide
BEGIN:STANDARD
TZOFFSETFROM:+1030
TZOFFSETTO:+0930
TZNAME:ACST
DTSTART:20230401T163000
END:STANDARD
BEGIN:DAYLIGHT
TZOFFSETFROM:+0930
TZOFFSETTO:+1030
TZNAME:ACDT
DTSTART:20230930T163000
END:DAYLIGHT
BEGIN:STANDARD
TZOFFSETFROM:+1030
TZOFFSETTO:+0930
TZNAME:ACST
DTSTART:20240406T163000
END:STANDARD
BEGIN:DAYLIGHT
TZOFFSETFROM:+0930
TZOFFSETTO:+1030
TZNAME:ACDT
DTSTART:20241005T163000
END:DAYLIGHT
BEGIN:STANDARD
TZOFFSETFROM:+1030
TZOFFSETTO:+0930
TZNAME:ACST
DTSTART:20250405T163000
END:STANDARD
BEGIN:DAYLIGHT
TZOFFSETFROM:+0930
TZOFFSETTO:+1030
TZNAME:ACDT
DTSTART:20251004T163000
END:DAYLIGHT
END:VTIMEZONE
BEGIN:VEVENT
DTSTART;TZID=Australia/Adelaide:20240619T170000
DTEND;TZID=Australia/Adelaide:20240619T180000
DTSTAMP:20260422T203713
CREATED:20231117T032347Z
LAST-MODIFIED:20231117T032347Z
UID:10002691-1718816400-1718820000@goldfoundation.com.au
SUMMARY:'What's the Buzz?' (ages 5-8)
DESCRIPTION:‘What’s the Buzz?’ (ages 5-8) is a 16-week social skills enrichment program for 5-8 year olds on the Autism Spectrum that encourages children to think about how to get along with others and explore the benefits of developing new social skills.
URL:https://goldfoundation.com.au/event/whats-the-buzz-ages-5-8-2/2024-06-19/
LOCATION:The Gold Foundation\, 9-11 Carlisle Street\, Camden Park\, SA\, 5038\, Australia
ATTACH;FMTTYPE=image/jpeg:https://goldfoundation.com.au/wp-content/uploads/2023/08/IMG_2571.jpeg
ORGANIZER;CN="The Gold Foundation":MAILTO:info@goldfoundation.com.au
END:VEVENT
BEGIN:VEVENT
DTSTART;TZID=Australia/Adelaide:20240618T180000
DTEND;TZID=Australia/Adelaide:20240618T190000
DTSTAMP:20260422T203713
CREATED:20231117T035625Z
LAST-MODIFIED:20231117T035638Z
UID:10002707-1718733600-1718737200@goldfoundation.com.au
SUMMARY:'What's the Buzz?' (ages 9-11)
DESCRIPTION:‘What’s the Buzz?’ (Primary) is a 16-week social skills enrichment program for 9-11 year olds on the Autism Spectrum that encourages children to think about how to get along with others and explore the benefits of developing new social skills.
URL:https://goldfoundation.com.au/event/whats-the-buzz-primary/2024-06-18/
LOCATION:The Gold Foundation\, 9-11 Carlisle Street\, Camden Park\, SA\, 5038\, Australia
ATTACH;FMTTYPE=image/jpeg:https://goldfoundation.com.au/wp-content/uploads/2023/08/363315277_659457416210373_6037774051107376354_n.jpg
ORGANIZER;CN="The Gold Foundation":MAILTO:info@goldfoundation.com.au
END:VEVENT
BEGIN:VEVENT
DTSTART;TZID=Australia/Adelaide:20240615T180000
DTEND;TZID=Australia/Adelaide:20240615T200000
DTSTAMP:20260422T203713
CREATED:20231015T234410Z
LAST-MODIFIED:20240930T033844Z
UID:10001765-1718474400-1718481600@goldfoundation.com.au
SUMMARY:Not So Youth Group (ages 18-30)
DESCRIPTION:Not So Youth Group is a social group for young adults on the Autism Spectrum where attendees can be social\, find common ground and make friends\, all the while continuing to develop communication and social skills.
URL:https://goldfoundation.com.au/event/not-so-youth-group-ages-18-30-2-2024-01-20/2024-06-15/
LOCATION:The Gold Foundation\, 9-11 Carlisle Street\, Camden Park\, SA\, 5038\, Australia
ATTACH;FMTTYPE=image/jpeg:https://goldfoundation.com.au/wp-content/uploads/2022/05/4E06F244-D2EB-41A7-8C1A-B2819B9FFDC8.jpg
ORGANIZER;CN="The Gold Foundation":MAILTO:info@goldfoundation.com.au
END:VEVENT
BEGIN:VEVENT
DTSTART;TZID=Australia/Adelaide:20240614T183000
DTEND;TZID=Australia/Adelaide:20240614T203000
DTSTAMP:20260422T203713
CREATED:20231015T232231Z
LAST-MODIFIED:20240826T052211Z
UID:10001717-1718389800-1718397000@goldfoundation.com.au
SUMMARY:Youth Group (ages 12-17)
DESCRIPTION:Gold Foundation organises regular social groups for young people on the Autism Spectrum from 12 to 17 years of age.\nOur Youth Groups are held in a relaxed and fun environment\, where young people can be social together\, forge lasting friendships and\, informally\, develop social skills and connect with others their age.
URL:https://goldfoundation.com.au/event/youth-group-ages-12-17/2024-06-14/
LOCATION:The Gold Foundation\, 9-11 Carlisle Street\, Camden Park\, SA\, 5038\, Australia
ATTACH;FMTTYPE=image/jpeg:https://goldfoundation.com.au/wp-content/uploads/2023/10/Youth-Group-IMG_2255-scaled.jpg
ORGANIZER;CN="The Gold Foundation":MAILTO:info@goldfoundation.com.au
END:VEVENT
BEGIN:VEVENT
DTSTART;TZID=Australia/Adelaide:20240612T170000
DTEND;TZID=Australia/Adelaide:20240612T183000
DTSTAMP:20260422T203713
CREATED:20240326T041846Z
LAST-MODIFIED:20240913T012107Z
UID:10002770-1718211600-1718217000@goldfoundation.com.au
SUMMARY:Cadets (ages 6-11)
DESCRIPTION:Cadets is an activity-based social group designed to help young people on the Autism Spectrum aged 6-11 develop friendships and improve their social well-being! Through conversations and activities\, participants have the opportunity to improve their confidence and build their social skills in a safe and fun environment.
URL:https://goldfoundation.com.au/event/cadets-ages-8-12-2/2024-06-12/
LOCATION:The Gold Foundation\, 9-11 Carlisle Street\, Camden Park\, SA\, 5038\, Australia
ATTACH;FMTTYPE=image/jpeg:https://goldfoundation.com.au/wp-content/uploads/2023/12/Cadets-Arts-Session-2-scaled.jpg
ORGANIZER;CN="The Gold Foundation":MAILTO:info@goldfoundation.com.au
END:VEVENT
BEGIN:VEVENT
DTSTART;TZID=Australia/Adelaide:20240612T170000
DTEND;TZID=Australia/Adelaide:20240612T180000
DTSTAMP:20260422T203713
CREATED:20231117T032347Z
LAST-MODIFIED:20231117T032347Z
UID:10002690-1718211600-1718215200@goldfoundation.com.au
SUMMARY:'What's the Buzz?' (ages 5-8)
DESCRIPTION:‘What’s the Buzz?’ (ages 5-8) is a 16-week social skills enrichment program for 5-8 year olds on the Autism Spectrum that encourages children to think about how to get along with others and explore the benefits of developing new social skills.
URL:https://goldfoundation.com.au/event/whats-the-buzz-ages-5-8-2/2024-06-12/
LOCATION:The Gold Foundation\, 9-11 Carlisle Street\, Camden Park\, SA\, 5038\, Australia
ATTACH;FMTTYPE=image/jpeg:https://goldfoundation.com.au/wp-content/uploads/2023/08/IMG_2571.jpeg
ORGANIZER;CN="The Gold Foundation":MAILTO:info@goldfoundation.com.au
END:VEVENT
BEGIN:VEVENT
DTSTART;TZID=Australia/Adelaide:20240611T180000
DTEND;TZID=Australia/Adelaide:20240611T190000
DTSTAMP:20260422T203713
CREATED:20231117T035625Z
LAST-MODIFIED:20231117T035638Z
UID:10002706-1718128800-1718132400@goldfoundation.com.au
SUMMARY:'What's the Buzz?' (ages 9-11)
DESCRIPTION:‘What’s the Buzz?’ (Primary) is a 16-week social skills enrichment program for 9-11 year olds on the Autism Spectrum that encourages children to think about how to get along with others and explore the benefits of developing new social skills.
URL:https://goldfoundation.com.au/event/whats-the-buzz-primary/2024-06-11/
LOCATION:The Gold Foundation\, 9-11 Carlisle Street\, Camden Park\, SA\, 5038\, Australia
ATTACH;FMTTYPE=image/jpeg:https://goldfoundation.com.au/wp-content/uploads/2023/08/363315277_659457416210373_6037774051107376354_n.jpg
ORGANIZER;CN="The Gold Foundation":MAILTO:info@goldfoundation.com.au
END:VEVENT
BEGIN:VEVENT
DTSTART;TZID=Australia/Adelaide:20240608T180000
DTEND;TZID=Australia/Adelaide:20240608T200000
DTSTAMP:20260422T203713
CREATED:20231015T234410Z
LAST-MODIFIED:20240930T033844Z
UID:10001764-1717869600-1717876800@goldfoundation.com.au
SUMMARY:Not So Youth Group (ages 18-30)
DESCRIPTION:Not So Youth Group is a social group for young adults on the Autism Spectrum where attendees can be social\, find common ground and make friends\, all the while continuing to develop communication and social skills.
URL:https://goldfoundation.com.au/event/not-so-youth-group-ages-18-30-2-2024-01-20/2024-06-08/
LOCATION:The Gold Foundation\, 9-11 Carlisle Street\, Camden Park\, SA\, 5038\, Australia
ATTACH;FMTTYPE=image/jpeg:https://goldfoundation.com.au/wp-content/uploads/2022/05/4E06F244-D2EB-41A7-8C1A-B2819B9FFDC8.jpg
ORGANIZER;CN="The Gold Foundation":MAILTO:info@goldfoundation.com.au
END:VEVENT
BEGIN:VEVENT
DTSTART;TZID=Australia/Adelaide:20240607T183000
DTEND;TZID=Australia/Adelaide:20240607T203000
DTSTAMP:20260422T203713
CREATED:20231015T232231Z
LAST-MODIFIED:20240826T052211Z
UID:10001716-1717785000-1717792200@goldfoundation.com.au
SUMMARY:Youth Group (ages 12-17)
DESCRIPTION:Gold Foundation organises regular social groups for young people on the Autism Spectrum from 12 to 17 years of age.\nOur Youth Groups are held in a relaxed and fun environment\, where young people can be social together\, forge lasting friendships and\, informally\, develop social skills and connect with others their age.
URL:https://goldfoundation.com.au/event/youth-group-ages-12-17/2024-06-07/
LOCATION:The Gold Foundation\, 9-11 Carlisle Street\, Camden Park\, SA\, 5038\, Australia
ATTACH;FMTTYPE=image/jpeg:https://goldfoundation.com.au/wp-content/uploads/2023/10/Youth-Group-IMG_2255-scaled.jpg
ORGANIZER;CN="The Gold Foundation":MAILTO:info@goldfoundation.com.au
END:VEVENT
BEGIN:VEVENT
DTSTART;TZID=Australia/Adelaide:20240605T170000
DTEND;TZID=Australia/Adelaide:20240605T183000
DTSTAMP:20260422T203713
CREATED:20240326T041846Z
LAST-MODIFIED:20240913T012107Z
UID:10002769-1717606800-1717612200@goldfoundation.com.au
SUMMARY:Cadets (ages 6-11)
DESCRIPTION:Cadets is an activity-based social group designed to help young people on the Autism Spectrum aged 6-11 develop friendships and improve their social well-being! Through conversations and activities\, participants have the opportunity to improve their confidence and build their social skills in a safe and fun environment.
URL:https://goldfoundation.com.au/event/cadets-ages-8-12-2/2024-06-05/
LOCATION:The Gold Foundation\, 9-11 Carlisle Street\, Camden Park\, SA\, 5038\, Australia
ATTACH;FMTTYPE=image/jpeg:https://goldfoundation.com.au/wp-content/uploads/2023/12/Cadets-Arts-Session-2-scaled.jpg
ORGANIZER;CN="The Gold Foundation":MAILTO:info@goldfoundation.com.au
END:VEVENT
BEGIN:VEVENT
DTSTART;TZID=Australia/Adelaide:20240605T170000
DTEND;TZID=Australia/Adelaide:20240605T180000
DTSTAMP:20260422T203713
CREATED:20231117T032347Z
LAST-MODIFIED:20231117T032347Z
UID:10002689-1717606800-1717610400@goldfoundation.com.au
SUMMARY:'What's the Buzz?' (ages 5-8)
DESCRIPTION:‘What’s the Buzz?’ (ages 5-8) is a 16-week social skills enrichment program for 5-8 year olds on the Autism Spectrum that encourages children to think about how to get along with others and explore the benefits of developing new social skills.
URL:https://goldfoundation.com.au/event/whats-the-buzz-ages-5-8-2/2024-06-05/
LOCATION:The Gold Foundation\, 9-11 Carlisle Street\, Camden Park\, SA\, 5038\, Australia
ATTACH;FMTTYPE=image/jpeg:https://goldfoundation.com.au/wp-content/uploads/2023/08/IMG_2571.jpeg
ORGANIZER;CN="The Gold Foundation":MAILTO:info@goldfoundation.com.au
END:VEVENT
BEGIN:VEVENT
DTSTART;TZID=Australia/Adelaide:20240604T180000
DTEND;TZID=Australia/Adelaide:20240604T190000
DTSTAMP:20260422T203713
CREATED:20231117T035625Z
LAST-MODIFIED:20231117T035638Z
UID:10002705-1717524000-1717527600@goldfoundation.com.au
SUMMARY:'What's the Buzz?' (ages 9-11)
DESCRIPTION:‘What’s the Buzz?’ (Primary) is a 16-week social skills enrichment program for 9-11 year olds on the Autism Spectrum that encourages children to think about how to get along with others and explore the benefits of developing new social skills.
URL:https://goldfoundation.com.au/event/whats-the-buzz-primary/2024-06-04/
LOCATION:The Gold Foundation\, 9-11 Carlisle Street\, Camden Park\, SA\, 5038\, Australia
ATTACH;FMTTYPE=image/jpeg:https://goldfoundation.com.au/wp-content/uploads/2023/08/363315277_659457416210373_6037774051107376354_n.jpg
ORGANIZER;CN="The Gold Foundation":MAILTO:info@goldfoundation.com.au
END:VEVENT
BEGIN:VEVENT
DTSTART;TZID=Australia/Adelaide:20240601T180000
DTEND;TZID=Australia/Adelaide:20240601T200000
DTSTAMP:20260422T203713
CREATED:20231015T234410Z
LAST-MODIFIED:20240930T033844Z
UID:10001763-1717264800-1717272000@goldfoundation.com.au
SUMMARY:Not So Youth Group (ages 18-30)
DESCRIPTION:Not So Youth Group is a social group for young adults on the Autism Spectrum where attendees can be social\, find common ground and make friends\, all the while continuing to develop communication and social skills.
URL:https://goldfoundation.com.au/event/not-so-youth-group-ages-18-30-2-2024-01-20/2024-06-01/
LOCATION:The Gold Foundation\, 9-11 Carlisle Street\, Camden Park\, SA\, 5038\, Australia
ATTACH;FMTTYPE=image/jpeg:https://goldfoundation.com.au/wp-content/uploads/2022/05/4E06F244-D2EB-41A7-8C1A-B2819B9FFDC8.jpg
ORGANIZER;CN="The Gold Foundation":MAILTO:info@goldfoundation.com.au
END:VEVENT
BEGIN:VEVENT
DTSTART;TZID=Australia/Adelaide:20240531T183000
DTEND;TZID=Australia/Adelaide:20240531T203000
DTSTAMP:20260422T203713
CREATED:20231015T232231Z
LAST-MODIFIED:20240826T052211Z
UID:10001715-1717180200-1717187400@goldfoundation.com.au
SUMMARY:Youth Group (ages 12-17)
DESCRIPTION:Gold Foundation organises regular social groups for young people on the Autism Spectrum from 12 to 17 years of age.\nOur Youth Groups are held in a relaxed and fun environment\, where young people can be social together\, forge lasting friendships and\, informally\, develop social skills and connect with others their age.
URL:https://goldfoundation.com.au/event/youth-group-ages-12-17/2024-05-31/
LOCATION:The Gold Foundation\, 9-11 Carlisle Street\, Camden Park\, SA\, 5038\, Australia
ATTACH;FMTTYPE=image/jpeg:https://goldfoundation.com.au/wp-content/uploads/2023/10/Youth-Group-IMG_2255-scaled.jpg
ORGANIZER;CN="The Gold Foundation":MAILTO:info@goldfoundation.com.au
END:VEVENT
BEGIN:VEVENT
DTSTART;TZID=Australia/Adelaide:20240529T170000
DTEND;TZID=Australia/Adelaide:20240529T183000
DTSTAMP:20260422T203713
CREATED:20240326T041846Z
LAST-MODIFIED:20240913T012107Z
UID:10002768-1717002000-1717007400@goldfoundation.com.au
SUMMARY:Cadets (ages 6-11)
DESCRIPTION:Cadets is an activity-based social group designed to help young people on the Autism Spectrum aged 6-11 develop friendships and improve their social well-being! Through conversations and activities\, participants have the opportunity to improve their confidence and build their social skills in a safe and fun environment.
URL:https://goldfoundation.com.au/event/cadets-ages-8-12-2/2024-05-29/
LOCATION:The Gold Foundation\, 9-11 Carlisle Street\, Camden Park\, SA\, 5038\, Australia
ATTACH;FMTTYPE=image/jpeg:https://goldfoundation.com.au/wp-content/uploads/2023/12/Cadets-Arts-Session-2-scaled.jpg
ORGANIZER;CN="The Gold Foundation":MAILTO:info@goldfoundation.com.au
END:VEVENT
BEGIN:VEVENT
DTSTART;TZID=Australia/Adelaide:20240529T170000
DTEND;TZID=Australia/Adelaide:20240529T180000
DTSTAMP:20260422T203713
CREATED:20231117T032347Z
LAST-MODIFIED:20231117T032347Z
UID:10002688-1717002000-1717005600@goldfoundation.com.au
SUMMARY:'What's the Buzz?' (ages 5-8)
DESCRIPTION:‘What’s the Buzz?’ (ages 5-8) is a 16-week social skills enrichment program for 5-8 year olds on the Autism Spectrum that encourages children to think about how to get along with others and explore the benefits of developing new social skills.
URL:https://goldfoundation.com.au/event/whats-the-buzz-ages-5-8-2/2024-05-29/
LOCATION:The Gold Foundation\, 9-11 Carlisle Street\, Camden Park\, SA\, 5038\, Australia
ATTACH;FMTTYPE=image/jpeg:https://goldfoundation.com.au/wp-content/uploads/2023/08/IMG_2571.jpeg
ORGANIZER;CN="The Gold Foundation":MAILTO:info@goldfoundation.com.au
END:VEVENT
BEGIN:VEVENT
DTSTART;TZID=Australia/Adelaide:20240528T180000
DTEND;TZID=Australia/Adelaide:20240528T190000
DTSTAMP:20260422T203713
CREATED:20231117T035625Z
LAST-MODIFIED:20231117T035638Z
UID:10002704-1716919200-1716922800@goldfoundation.com.au
SUMMARY:'What's the Buzz?' (ages 9-11)
DESCRIPTION:‘What’s the Buzz?’ (Primary) is a 16-week social skills enrichment program for 9-11 year olds on the Autism Spectrum that encourages children to think about how to get along with others and explore the benefits of developing new social skills.
URL:https://goldfoundation.com.au/event/whats-the-buzz-primary/2024-05-28/
LOCATION:The Gold Foundation\, 9-11 Carlisle Street\, Camden Park\, SA\, 5038\, Australia
ATTACH;FMTTYPE=image/jpeg:https://goldfoundation.com.au/wp-content/uploads/2023/08/363315277_659457416210373_6037774051107376354_n.jpg
ORGANIZER;CN="The Gold Foundation":MAILTO:info@goldfoundation.com.au
END:VEVENT
BEGIN:VEVENT
DTSTART;TZID=Australia/Adelaide:20240525T180000
DTEND;TZID=Australia/Adelaide:20240525T200000
DTSTAMP:20260422T203713
CREATED:20231015T234410Z
LAST-MODIFIED:20240930T033844Z
UID:10001762-1716660000-1716667200@goldfoundation.com.au
SUMMARY:Not So Youth Group (ages 18-30)
DESCRIPTION:Not So Youth Group is a social group for young adults on the Autism Spectrum where attendees can be social\, find common ground and make friends\, all the while continuing to develop communication and social skills.
URL:https://goldfoundation.com.au/event/not-so-youth-group-ages-18-30-2-2024-01-20/2024-05-25/
LOCATION:The Gold Foundation\, 9-11 Carlisle Street\, Camden Park\, SA\, 5038\, Australia
ATTACH;FMTTYPE=image/jpeg:https://goldfoundation.com.au/wp-content/uploads/2022/05/4E06F244-D2EB-41A7-8C1A-B2819B9FFDC8.jpg
ORGANIZER;CN="The Gold Foundation":MAILTO:info@goldfoundation.com.au
END:VEVENT
BEGIN:VEVENT
DTSTART;TZID=Australia/Adelaide:20240525T140000
DTEND;TZID=Australia/Adelaide:20240525T170000
DTSTAMP:20260422T203713
CREATED:20240115T012405Z
LAST-MODIFIED:20240115T012405Z
UID:10002734-1716645600-1716656400@goldfoundation.com.au
SUMMARY:D&D Group (ages 13-18)
DESCRIPTION:A revolutionary new social group by Gold Foundation offering a unique gaming experience and social interaction opportunity for young people on the Autism Spectrum.
URL:https://goldfoundation.com.au/event/dd-group-ages-13-18-2/2024-05-25/
LOCATION:The Gold Foundation\, 9-11 Carlisle Street\, Camden Park\, SA\, 5038\, Australia
ATTACH;FMTTYPE=image/jpeg:https://goldfoundation.com.au/wp-content/uploads/2023/12/25112023-scaled.jpg
ORGANIZER;CN="The Gold Foundation":MAILTO:info@goldfoundation.com.au
END:VEVENT
BEGIN:VEVENT
DTSTART;TZID=Australia/Adelaide:20240524T183000
DTEND;TZID=Australia/Adelaide:20240524T203000
DTSTAMP:20260422T203713
CREATED:20231015T232231Z
LAST-MODIFIED:20240826T052211Z
UID:10001714-1716575400-1716582600@goldfoundation.com.au
SUMMARY:Youth Group (ages 12-17)
DESCRIPTION:Gold Foundation organises regular social groups for young people on the Autism Spectrum from 12 to 17 years of age.\nOur Youth Groups are held in a relaxed and fun environment\, where young people can be social together\, forge lasting friendships and\, informally\, develop social skills and connect with others their age.
URL:https://goldfoundation.com.au/event/youth-group-ages-12-17/2024-05-24/
LOCATION:The Gold Foundation\, 9-11 Carlisle Street\, Camden Park\, SA\, 5038\, Australia
ATTACH;FMTTYPE=image/jpeg:https://goldfoundation.com.au/wp-content/uploads/2023/10/Youth-Group-IMG_2255-scaled.jpg
ORGANIZER;CN="The Gold Foundation":MAILTO:info@goldfoundation.com.au
END:VEVENT
BEGIN:VEVENT
DTSTART;TZID=Australia/Adelaide:20240524T170000
DTEND;TZID=Australia/Adelaide:20240524T180000
DTSTAMP:20260422T203713
CREATED:20231215T005551Z
LAST-MODIFIED:20231215T005753Z
UID:10002720-1716570000-1716573600@goldfoundation.com.au
SUMMARY:Dance Diverse (ages 13+)
DESCRIPTION:Dance Diverse is a weekly hip-hop dance program at a beginner-friendly level open to anyone on the Autism Spectrum aged 13 years and over who wishes to participate.
URL:https://goldfoundation.com.au/event/dance-diverse-ages-13-2/2024-05-24/
LOCATION:The Gold Foundation\, 9-11 Carlisle Street\, Camden Park\, SA\, 5038\, Australia
ATTACH;FMTTYPE=image/jpeg:https://goldfoundation.com.au/wp-content/uploads/2023/05/Dance-Diverse-graphic.jpg
ORGANIZER;CN="The Gold Foundation":MAILTO:info@goldfoundation.com.au
END:VEVENT
BEGIN:VEVENT
DTSTART;TZID=Australia/Adelaide:20240522T170000
DTEND;TZID=Australia/Adelaide:20240522T183000
DTSTAMP:20260422T203713
CREATED:20240326T041846Z
LAST-MODIFIED:20240913T012107Z
UID:10002767-1716397200-1716402600@goldfoundation.com.au
SUMMARY:Cadets (ages 6-11)
DESCRIPTION:Cadets is an activity-based social group designed to help young people on the Autism Spectrum aged 6-11 develop friendships and improve their social well-being! Through conversations and activities\, participants have the opportunity to improve their confidence and build their social skills in a safe and fun environment.
URL:https://goldfoundation.com.au/event/cadets-ages-8-12-2/2024-05-22/
LOCATION:The Gold Foundation\, 9-11 Carlisle Street\, Camden Park\, SA\, 5038\, Australia
ATTACH;FMTTYPE=image/jpeg:https://goldfoundation.com.au/wp-content/uploads/2023/12/Cadets-Arts-Session-2-scaled.jpg
ORGANIZER;CN="The Gold Foundation":MAILTO:info@goldfoundation.com.au
END:VEVENT
BEGIN:VEVENT
DTSTART;TZID=Australia/Adelaide:20240522T170000
DTEND;TZID=Australia/Adelaide:20240522T180000
DTSTAMP:20260422T203713
CREATED:20231117T032347Z
LAST-MODIFIED:20231117T032347Z
UID:10002687-1716397200-1716400800@goldfoundation.com.au
SUMMARY:'What's the Buzz?' (ages 5-8)
DESCRIPTION:‘What’s the Buzz?’ (ages 5-8) is a 16-week social skills enrichment program for 5-8 year olds on the Autism Spectrum that encourages children to think about how to get along with others and explore the benefits of developing new social skills.
URL:https://goldfoundation.com.au/event/whats-the-buzz-ages-5-8-2/2024-05-22/
LOCATION:The Gold Foundation\, 9-11 Carlisle Street\, Camden Park\, SA\, 5038\, Australia
ATTACH;FMTTYPE=image/jpeg:https://goldfoundation.com.au/wp-content/uploads/2023/08/IMG_2571.jpeg
ORGANIZER;CN="The Gold Foundation":MAILTO:info@goldfoundation.com.au
END:VEVENT
BEGIN:VEVENT
DTSTART;TZID=Australia/Adelaide:20240521T180000
DTEND;TZID=Australia/Adelaide:20240521T190000
DTSTAMP:20260422T203713
CREATED:20231117T035625Z
LAST-MODIFIED:20231117T035638Z
UID:10002703-1716314400-1716318000@goldfoundation.com.au
SUMMARY:'What's the Buzz?' (ages 9-11)
DESCRIPTION:‘What’s the Buzz?’ (Primary) is a 16-week social skills enrichment program for 9-11 year olds on the Autism Spectrum that encourages children to think about how to get along with others and explore the benefits of developing new social skills.
URL:https://goldfoundation.com.au/event/whats-the-buzz-primary/2024-05-21/
LOCATION:The Gold Foundation\, 9-11 Carlisle Street\, Camden Park\, SA\, 5038\, Australia
ATTACH;FMTTYPE=image/jpeg:https://goldfoundation.com.au/wp-content/uploads/2023/08/363315277_659457416210373_6037774051107376354_n.jpg
ORGANIZER;CN="The Gold Foundation":MAILTO:info@goldfoundation.com.au
END:VEVENT
BEGIN:VEVENT
DTSTART;TZID=Australia/Adelaide:20240518T180000
DTEND;TZID=Australia/Adelaide:20240518T200000
DTSTAMP:20260422T203713
CREATED:20231015T234410Z
LAST-MODIFIED:20240930T033844Z
UID:10001761-1716055200-1716062400@goldfoundation.com.au
SUMMARY:Not So Youth Group (ages 18-30)
DESCRIPTION:Not So Youth Group is a social group for young adults on the Autism Spectrum where attendees can be social\, find common ground and make friends\, all the while continuing to develop communication and social skills.
URL:https://goldfoundation.com.au/event/not-so-youth-group-ages-18-30-2-2024-01-20/2024-05-18/
LOCATION:The Gold Foundation\, 9-11 Carlisle Street\, Camden Park\, SA\, 5038\, Australia
ATTACH;FMTTYPE=image/jpeg:https://goldfoundation.com.au/wp-content/uploads/2022/05/4E06F244-D2EB-41A7-8C1A-B2819B9FFDC8.jpg
ORGANIZER;CN="The Gold Foundation":MAILTO:info@goldfoundation.com.au
END:VEVENT
BEGIN:VEVENT
DTSTART;TZID=Australia/Adelaide:20240518T140000
DTEND;TZID=Australia/Adelaide:20240518T170000
DTSTAMP:20260422T203713
CREATED:20240115T012405Z
LAST-MODIFIED:20240115T012405Z
UID:10002733-1716040800-1716051600@goldfoundation.com.au
SUMMARY:D&D Group (ages 13-18)
DESCRIPTION:A revolutionary new social group by Gold Foundation offering a unique gaming experience and social interaction opportunity for young people on the Autism Spectrum.
URL:https://goldfoundation.com.au/event/dd-group-ages-13-18-2/2024-05-18/
LOCATION:The Gold Foundation\, 9-11 Carlisle Street\, Camden Park\, SA\, 5038\, Australia
ATTACH;FMTTYPE=image/jpeg:https://goldfoundation.com.au/wp-content/uploads/2023/12/25112023-scaled.jpg
ORGANIZER;CN="The Gold Foundation":MAILTO:info@goldfoundation.com.au
END:VEVENT
BEGIN:VEVENT
DTSTART;TZID=Australia/Adelaide:20240517T183000
DTEND;TZID=Australia/Adelaide:20240517T203000
DTSTAMP:20260422T203713
CREATED:20231015T232231Z
LAST-MODIFIED:20240826T052211Z
UID:10001713-1715970600-1715977800@goldfoundation.com.au
SUMMARY:Youth Group (ages 12-17)
DESCRIPTION:Gold Foundation organises regular social groups for young people on the Autism Spectrum from 12 to 17 years of age.\nOur Youth Groups are held in a relaxed and fun environment\, where young people can be social together\, forge lasting friendships and\, informally\, develop social skills and connect with others their age.
URL:https://goldfoundation.com.au/event/youth-group-ages-12-17/2024-05-17/
LOCATION:The Gold Foundation\, 9-11 Carlisle Street\, Camden Park\, SA\, 5038\, Australia
ATTACH;FMTTYPE=image/jpeg:https://goldfoundation.com.au/wp-content/uploads/2023/10/Youth-Group-IMG_2255-scaled.jpg
ORGANIZER;CN="The Gold Foundation":MAILTO:info@goldfoundation.com.au
END:VEVENT
BEGIN:VEVENT
DTSTART;TZID=Australia/Adelaide:20240517T170000
DTEND;TZID=Australia/Adelaide:20240517T180000
DTSTAMP:20260422T203713
CREATED:20231215T005551Z
LAST-MODIFIED:20231215T005753Z
UID:10002719-1715965200-1715968800@goldfoundation.com.au
SUMMARY:Dance Diverse (ages 13+)
DESCRIPTION:Dance Diverse is a weekly hip-hop dance program at a beginner-friendly level open to anyone on the Autism Spectrum aged 13 years and over who wishes to participate.
URL:https://goldfoundation.com.au/event/dance-diverse-ages-13-2/2024-05-17/
LOCATION:The Gold Foundation\, 9-11 Carlisle Street\, Camden Park\, SA\, 5038\, Australia
ATTACH;FMTTYPE=image/jpeg:https://goldfoundation.com.au/wp-content/uploads/2023/05/Dance-Diverse-graphic.jpg
ORGANIZER;CN="The Gold Foundation":MAILTO:info@goldfoundation.com.au
END:VEVENT
BEGIN:VEVENT
DTSTART;TZID=Australia/Adelaide:20240515T170000
DTEND;TZID=Australia/Adelaide:20240515T183000
DTSTAMP:20260422T203713
CREATED:20240326T041846Z
LAST-MODIFIED:20240913T012107Z
UID:10002766-1715792400-1715797800@goldfoundation.com.au
SUMMARY:Cadets (ages 6-11)
DESCRIPTION:Cadets is an activity-based social group designed to help young people on the Autism Spectrum aged 6-11 develop friendships and improve their social well-being! Through conversations and activities\, participants have the opportunity to improve their confidence and build their social skills in a safe and fun environment.
URL:https://goldfoundation.com.au/event/cadets-ages-8-12-2/2024-05-15/
LOCATION:The Gold Foundation\, 9-11 Carlisle Street\, Camden Park\, SA\, 5038\, Australia
ATTACH;FMTTYPE=image/jpeg:https://goldfoundation.com.au/wp-content/uploads/2023/12/Cadets-Arts-Session-2-scaled.jpg
ORGANIZER;CN="The Gold Foundation":MAILTO:info@goldfoundation.com.au
END:VEVENT
BEGIN:VEVENT
DTSTART;TZID=Australia/Adelaide:20240515T170000
DTEND;TZID=Australia/Adelaide:20240515T180000
DTSTAMP:20260422T203713
CREATED:20231117T032347Z
LAST-MODIFIED:20231117T032347Z
UID:10002686-1715792400-1715796000@goldfoundation.com.au
SUMMARY:'What's the Buzz?' (ages 5-8)
DESCRIPTION:‘What’s the Buzz?’ (ages 5-8) is a 16-week social skills enrichment program for 5-8 year olds on the Autism Spectrum that encourages children to think about how to get along with others and explore the benefits of developing new social skills.
URL:https://goldfoundation.com.au/event/whats-the-buzz-ages-5-8-2/2024-05-15/
LOCATION:The Gold Foundation\, 9-11 Carlisle Street\, Camden Park\, SA\, 5038\, Australia
ATTACH;FMTTYPE=image/jpeg:https://goldfoundation.com.au/wp-content/uploads/2023/08/IMG_2571.jpeg
ORGANIZER;CN="The Gold Foundation":MAILTO:info@goldfoundation.com.au
END:VEVENT
END:VCALENDAR