
BEGIN:VCALENDAR
VERSION:2.0
PRODID:-//Gold Foundation - ECPv6.15.13.1//NONSGML v1.0//EN
CALSCALE:GREGORIAN
METHOD:PUBLISH
X-WR-CALNAME:Gold Foundation
X-ORIGINAL-URL:https://goldfoundation.com.au
X-WR-CALDESC:Events for Gold Foundation
REFRESH-INTERVAL;VALUE=DURATION:PT1H
X-Robots-Tag:noindex
X-PUBLISHED-TTL:PT1H
BEGIN:VTIMEZONE
TZID:Australia/Adelaide
BEGIN:STANDARD
TZOFFSETFROM:+1030
TZOFFSETTO:+0930
TZNAME:ACST
DTSTART:20220402T163000
END:STANDARD
BEGIN:DAYLIGHT
TZOFFSETFROM:+0930
TZOFFSETTO:+1030
TZNAME:ACDT
DTSTART:20221001T163000
END:DAYLIGHT
BEGIN:STANDARD
TZOFFSETFROM:+1030
TZOFFSETTO:+0930
TZNAME:ACST
DTSTART:20230401T163000
END:STANDARD
BEGIN:DAYLIGHT
TZOFFSETFROM:+0930
TZOFFSETTO:+1030
TZNAME:ACDT
DTSTART:20230930T163000
END:DAYLIGHT
BEGIN:STANDARD
TZOFFSETFROM:+1030
TZOFFSETTO:+0930
TZNAME:ACST
DTSTART:20240406T163000
END:STANDARD
BEGIN:DAYLIGHT
TZOFFSETFROM:+0930
TZOFFSETTO:+1030
TZNAME:ACDT
DTSTART:20241005T163000
END:DAYLIGHT
BEGIN:STANDARD
TZOFFSETFROM:+1030
TZOFFSETTO:+0930
TZNAME:ACST
DTSTART:20250405T163000
END:STANDARD
BEGIN:DAYLIGHT
TZOFFSETFROM:+0930
TZOFFSETTO:+1030
TZNAME:ACDT
DTSTART:20251004T163000
END:DAYLIGHT
END:VTIMEZONE
BEGIN:VEVENT
DTSTART;TZID=Australia/Adelaide:20240315T170000
DTEND;TZID=Australia/Adelaide:20240315T180000
DTSTAMP:20260423T054155
CREATED:20231215T005551Z
LAST-MODIFIED:20231215T005753Z
UID:10002711-1710522000-1710525600@goldfoundation.com.au
SUMMARY:Dance Diverse (ages 13+)
DESCRIPTION:Dance Diverse is a weekly hip-hop dance program at a beginner-friendly level open to anyone on the Autism Spectrum aged 13 years and over who wishes to participate.
URL:https://goldfoundation.com.au/event/dance-diverse-ages-13-2/2024-03-15/
LOCATION:The Gold Foundation\, 9-11 Carlisle Street\, Camden Park\, SA\, 5038\, Australia
ATTACH;FMTTYPE=image/jpeg:https://goldfoundation.com.au/wp-content/uploads/2023/05/Dance-Diverse-graphic.jpg
ORGANIZER;CN="The Gold Foundation":MAILTO:info@goldfoundation.com.au
END:VEVENT
BEGIN:VEVENT
DTSTART;TZID=Australia/Adelaide:20240309T180000
DTEND;TZID=Australia/Adelaide:20240309T200000
DTSTAMP:20260423T054155
CREATED:20231015T234410Z
LAST-MODIFIED:20240930T033844Z
UID:10001753-1710007200-1710014400@goldfoundation.com.au
SUMMARY:Not So Youth Group (ages 18-30)
DESCRIPTION:Not So Youth Group is a social group for young adults on the Autism Spectrum where attendees can be social\, find common ground and make friends\, all the while continuing to develop communication and social skills.
URL:https://goldfoundation.com.au/event/not-so-youth-group-ages-18-30-2-2024-01-20/2024-03-09/
LOCATION:The Gold Foundation\, 9-11 Carlisle Street\, Camden Park\, SA\, 5038\, Australia
ATTACH;FMTTYPE=image/jpeg:https://goldfoundation.com.au/wp-content/uploads/2022/05/4E06F244-D2EB-41A7-8C1A-B2819B9FFDC8.jpg
ORGANIZER;CN="The Gold Foundation":MAILTO:info@goldfoundation.com.au
END:VEVENT
BEGIN:VEVENT
DTSTART;TZID=Australia/Adelaide:20240309T140000
DTEND;TZID=Australia/Adelaide:20240309T170000
DTSTAMP:20260423T054155
CREATED:20240115T012405Z
LAST-MODIFIED:20240115T012405Z
UID:10002723-1709992800-1710003600@goldfoundation.com.au
SUMMARY:D&D Group (ages 13-18)
DESCRIPTION:A revolutionary new social group by Gold Foundation offering a unique gaming experience and social interaction opportunity for young people on the Autism Spectrum.
URL:https://goldfoundation.com.au/event/dd-group-ages-13-18-2/2024-03-09/
LOCATION:The Gold Foundation\, 9-11 Carlisle Street\, Camden Park\, SA\, 5038\, Australia
ATTACH;FMTTYPE=image/jpeg:https://goldfoundation.com.au/wp-content/uploads/2023/12/25112023-scaled.jpg
ORGANIZER;CN="The Gold Foundation":MAILTO:info@goldfoundation.com.au
END:VEVENT
BEGIN:VEVENT
DTSTART;TZID=Australia/Adelaide:20240308T183000
DTEND;TZID=Australia/Adelaide:20240308T203000
DTSTAMP:20260423T054155
CREATED:20231015T232231Z
LAST-MODIFIED:20240826T052211Z
UID:10001704-1709922600-1709929800@goldfoundation.com.au
SUMMARY:Youth Group (ages 12-17)
DESCRIPTION:Gold Foundation organises regular social groups for young people on the Autism Spectrum from 12 to 17 years of age.\nOur Youth Groups are held in a relaxed and fun environment\, where young people can be social together\, forge lasting friendships and\, informally\, develop social skills and connect with others their age.
URL:https://goldfoundation.com.au/event/youth-group-ages-12-17/2024-03-08/
LOCATION:The Gold Foundation\, 9-11 Carlisle Street\, Camden Park\, SA\, 5038\, Australia
ATTACH;FMTTYPE=image/jpeg:https://goldfoundation.com.au/wp-content/uploads/2023/10/Youth-Group-IMG_2255-scaled.jpg
ORGANIZER;CN="The Gold Foundation":MAILTO:info@goldfoundation.com.au
END:VEVENT
BEGIN:VEVENT
DTSTART;TZID=Australia/Adelaide:20240308T170000
DTEND;TZID=Australia/Adelaide:20240308T180000
DTSTAMP:20260423T054155
CREATED:20231215T005551Z
LAST-MODIFIED:20231215T005753Z
UID:10002710-1709917200-1709920800@goldfoundation.com.au
SUMMARY:Dance Diverse (ages 13+)
DESCRIPTION:Dance Diverse is a weekly hip-hop dance program at a beginner-friendly level open to anyone on the Autism Spectrum aged 13 years and over who wishes to participate.
URL:https://goldfoundation.com.au/event/dance-diverse-ages-13-2/2024-03-08/
LOCATION:The Gold Foundation\, 9-11 Carlisle Street\, Camden Park\, SA\, 5038\, Australia
ATTACH;FMTTYPE=image/jpeg:https://goldfoundation.com.au/wp-content/uploads/2023/05/Dance-Diverse-graphic.jpg
ORGANIZER;CN="The Gold Foundation":MAILTO:info@goldfoundation.com.au
END:VEVENT
BEGIN:VEVENT
DTSTART;TZID=Australia/Adelaide:20240302T180000
DTEND;TZID=Australia/Adelaide:20240302T200000
DTSTAMP:20260423T054155
CREATED:20231015T234410Z
LAST-MODIFIED:20240930T033844Z
UID:10001752-1709402400-1709409600@goldfoundation.com.au
SUMMARY:Not So Youth Group (ages 18-30)
DESCRIPTION:Not So Youth Group is a social group for young adults on the Autism Spectrum where attendees can be social\, find common ground and make friends\, all the while continuing to develop communication and social skills.
URL:https://goldfoundation.com.au/event/not-so-youth-group-ages-18-30-2-2024-01-20/2024-03-02/
LOCATION:The Gold Foundation\, 9-11 Carlisle Street\, Camden Park\, SA\, 5038\, Australia
ATTACH;FMTTYPE=image/jpeg:https://goldfoundation.com.au/wp-content/uploads/2022/05/4E06F244-D2EB-41A7-8C1A-B2819B9FFDC8.jpg
ORGANIZER;CN="The Gold Foundation":MAILTO:info@goldfoundation.com.au
END:VEVENT
BEGIN:VEVENT
DTSTART;TZID=Australia/Adelaide:20240302T140000
DTEND;TZID=Australia/Adelaide:20240302T170000
DTSTAMP:20260423T054155
CREATED:20240115T012405Z
LAST-MODIFIED:20240115T012405Z
UID:10002722-1709388000-1709398800@goldfoundation.com.au
SUMMARY:D&D Group (ages 13-18)
DESCRIPTION:A revolutionary new social group by Gold Foundation offering a unique gaming experience and social interaction opportunity for young people on the Autism Spectrum.
URL:https://goldfoundation.com.au/event/dd-group-ages-13-18-2/2024-03-02/
LOCATION:The Gold Foundation\, 9-11 Carlisle Street\, Camden Park\, SA\, 5038\, Australia
ATTACH;FMTTYPE=image/jpeg:https://goldfoundation.com.au/wp-content/uploads/2023/12/25112023-scaled.jpg
ORGANIZER;CN="The Gold Foundation":MAILTO:info@goldfoundation.com.au
END:VEVENT
BEGIN:VEVENT
DTSTART;TZID=Australia/Adelaide:20240301T183000
DTEND;TZID=Australia/Adelaide:20240301T203000
DTSTAMP:20260423T054155
CREATED:20231015T232231Z
LAST-MODIFIED:20240326T042136Z
UID:10001742-1709317800-1709325000@goldfoundation.com.au
SUMMARY:Youth Group (ages 12-17)
DESCRIPTION:Gold Foundation organises regular social groups for young people on the Autism Spectrum from 13 to 18 years of age.\nOur Youth Groups are held in a relaxed and fun environment\, where young people can be social together\, forge lasting friendships and\, informally\, develop social skills and connect with others their age.
URL:https://goldfoundation.com.au/event/youth-group-ages-12-17-2024-03-01/
LOCATION:The Gold Foundation\, 9-11 Carlisle Street\, Camden Park\, SA\, 5038\, Australia
ATTACH;FMTTYPE=image/jpeg:https://goldfoundation.com.au/wp-content/uploads/2023/10/Youth-Group-IMG_2255-scaled.jpg
ORGANIZER;CN="The Gold Foundation":MAILTO:info@goldfoundation.com.au
END:VEVENT
BEGIN:VEVENT
DTSTART;TZID=Australia/Adelaide:20240228T150000
DTEND;TZID=Australia/Adelaide:20240228T170000
DTSTAMP:20260423T054155
CREATED:20240212T035452Z
LAST-MODIFIED:20240212T035452Z
UID:10002737-1709132400-1709139600@goldfoundation.com.au
SUMMARY:Barista Training Program (ages 14+)
DESCRIPTION:Gold Foundation\, in collaboration with KOM Coffee\, is offering a ‘Barista Training Program’ for our ‘Shine Like Gold!’ Mobile Cafe social innovation project where young people on the Autism Spectrum learn the ins and outs of coffee making!
URL:https://goldfoundation.com.au/event/barista-training-program-ages-14/2024-02-28/
LOCATION:KOM Coffee\, 449A Pulteney St\, Adelaide\, SA\, 5000\, Australia
ATTACH;FMTTYPE=image/jpeg:https://goldfoundation.com.au/wp-content/uploads/2022/01/Gold-Foundation-Coffee-Logo-2-scaled.jpg
ORGANIZER;CN="The Gold Foundation":MAILTO:info@goldfoundation.com.au
END:VEVENT
BEGIN:VEVENT
DTSTART;TZID=Australia/Adelaide:20240227T150000
DTEND;TZID=Australia/Adelaide:20240227T170000
DTSTAMP:20260423T054155
CREATED:20240212T035452Z
LAST-MODIFIED:20240212T035452Z
UID:10002736-1709046000-1709053200@goldfoundation.com.au
SUMMARY:Barista Training Program (ages 14+)
DESCRIPTION:Gold Foundation\, in collaboration with KOM Coffee\, is offering a ‘Barista Training Program’ for our ‘Shine Like Gold!’ Mobile Cafe social innovation project where young people on the Autism Spectrum learn the ins and outs of coffee making!
URL:https://goldfoundation.com.au/event/barista-training-program-ages-14/2024-02-27/
LOCATION:KOM Coffee\, 449A Pulteney St\, Adelaide\, SA\, 5000\, Australia
ATTACH;FMTTYPE=image/jpeg:https://goldfoundation.com.au/wp-content/uploads/2022/01/Gold-Foundation-Coffee-Logo-2-scaled.jpg
ORGANIZER;CN="The Gold Foundation":MAILTO:info@goldfoundation.com.au
END:VEVENT
BEGIN:VEVENT
DTSTART;TZID=Australia/Adelaide:20240226T150000
DTEND;TZID=Australia/Adelaide:20240226T170000
DTSTAMP:20260423T054155
CREATED:20240212T035452Z
LAST-MODIFIED:20240212T035452Z
UID:10002735-1708959600-1708966800@goldfoundation.com.au
SUMMARY:Barista Training Program (ages 14+)
DESCRIPTION:Gold Foundation\, in collaboration with KOM Coffee\, is offering a ‘Barista Training Program’ for our ‘Shine Like Gold!’ Mobile Cafe social innovation project where young people on the Autism Spectrum learn the ins and outs of coffee making!
URL:https://goldfoundation.com.au/event/barista-training-program-ages-14/2024-02-26/
LOCATION:KOM Coffee\, 449A Pulteney St\, Adelaide\, SA\, 5000\, Australia
ATTACH;FMTTYPE=image/jpeg:https://goldfoundation.com.au/wp-content/uploads/2022/01/Gold-Foundation-Coffee-Logo-2-scaled.jpg
ORGANIZER;CN="The Gold Foundation":MAILTO:info@goldfoundation.com.au
END:VEVENT
BEGIN:VEVENT
DTSTART;TZID=Australia/Adelaide:20240224T180000
DTEND;TZID=Australia/Adelaide:20240224T200000
DTSTAMP:20260423T054155
CREATED:20231015T234410Z
LAST-MODIFIED:20240930T033844Z
UID:10001751-1708797600-1708804800@goldfoundation.com.au
SUMMARY:Not So Youth Group (ages 18-30)
DESCRIPTION:Not So Youth Group is a social group for young adults on the Autism Spectrum where attendees can be social\, find common ground and make friends\, all the while continuing to develop communication and social skills.
URL:https://goldfoundation.com.au/event/not-so-youth-group-ages-18-30-2-2024-01-20/2024-02-24/
LOCATION:The Gold Foundation\, 9-11 Carlisle Street\, Camden Park\, SA\, 5038\, Australia
ATTACH;FMTTYPE=image/jpeg:https://goldfoundation.com.au/wp-content/uploads/2022/05/4E06F244-D2EB-41A7-8C1A-B2819B9FFDC8.jpg
ORGANIZER;CN="The Gold Foundation":MAILTO:info@goldfoundation.com.au
END:VEVENT
BEGIN:VEVENT
DTSTART;TZID=Australia/Adelaide:20240224T140000
DTEND;TZID=Australia/Adelaide:20240224T170000
DTSTAMP:20260423T054155
CREATED:20240115T012405Z
LAST-MODIFIED:20240115T012405Z
UID:10002721-1708783200-1708794000@goldfoundation.com.au
SUMMARY:D&D Group (ages 13-18)
DESCRIPTION:A revolutionary new social group by Gold Foundation offering a unique gaming experience and social interaction opportunity for young people on the Autism Spectrum.
URL:https://goldfoundation.com.au/event/dd-group-ages-13-18-2/2024-02-24/
LOCATION:The Gold Foundation\, 9-11 Carlisle Street\, Camden Park\, SA\, 5038\, Australia
ATTACH;FMTTYPE=image/jpeg:https://goldfoundation.com.au/wp-content/uploads/2023/12/25112023-scaled.jpg
ORGANIZER;CN="The Gold Foundation":MAILTO:info@goldfoundation.com.au
END:VEVENT
BEGIN:VEVENT
DTSTART;TZID=Australia/Adelaide:20240223T183000
DTEND;TZID=Australia/Adelaide:20240223T203000
DTSTAMP:20260423T054155
CREATED:20231015T232231Z
LAST-MODIFIED:20240826T052211Z
UID:10001703-1708713000-1708720200@goldfoundation.com.au
SUMMARY:Youth Group (ages 12-17)
DESCRIPTION:Gold Foundation organises regular social groups for young people on the Autism Spectrum from 12 to 17 years of age.\nOur Youth Groups are held in a relaxed and fun environment\, where young people can be social together\, forge lasting friendships and\, informally\, develop social skills and connect with others their age.
URL:https://goldfoundation.com.au/event/youth-group-ages-12-17/2024-02-23/
LOCATION:The Gold Foundation\, 9-11 Carlisle Street\, Camden Park\, SA\, 5038\, Australia
ATTACH;FMTTYPE=image/jpeg:https://goldfoundation.com.au/wp-content/uploads/2023/10/Youth-Group-IMG_2255-scaled.jpg
ORGANIZER;CN="The Gold Foundation":MAILTO:info@goldfoundation.com.au
END:VEVENT
BEGIN:VEVENT
DTSTART;TZID=Australia/Adelaide:20240217T180000
DTEND;TZID=Australia/Adelaide:20240217T200000
DTSTAMP:20260423T054155
CREATED:20231015T234410Z
LAST-MODIFIED:20240930T033844Z
UID:10001750-1708192800-1708200000@goldfoundation.com.au
SUMMARY:Not So Youth Group (ages 18-30)
DESCRIPTION:Not So Youth Group is a social group for young adults on the Autism Spectrum where attendees can be social\, find common ground and make friends\, all the while continuing to develop communication and social skills.
URL:https://goldfoundation.com.au/event/not-so-youth-group-ages-18-30-2-2024-01-20/2024-02-17/
LOCATION:The Gold Foundation\, 9-11 Carlisle Street\, Camden Park\, SA\, 5038\, Australia
ATTACH;FMTTYPE=image/jpeg:https://goldfoundation.com.au/wp-content/uploads/2022/05/4E06F244-D2EB-41A7-8C1A-B2819B9FFDC8.jpg
ORGANIZER;CN="The Gold Foundation":MAILTO:info@goldfoundation.com.au
END:VEVENT
BEGIN:VEVENT
DTSTART;TZID=Australia/Adelaide:20240216T183000
DTEND;TZID=Australia/Adelaide:20240216T203000
DTSTAMP:20260423T054155
CREATED:20231015T232231Z
LAST-MODIFIED:20240826T052211Z
UID:10001702-1708108200-1708115400@goldfoundation.com.au
SUMMARY:Youth Group (ages 12-17)
DESCRIPTION:Gold Foundation organises regular social groups for young people on the Autism Spectrum from 12 to 17 years of age.\nOur Youth Groups are held in a relaxed and fun environment\, where young people can be social together\, forge lasting friendships and\, informally\, develop social skills and connect with others their age.
URL:https://goldfoundation.com.au/event/youth-group-ages-12-17/2024-02-16/
LOCATION:The Gold Foundation\, 9-11 Carlisle Street\, Camden Park\, SA\, 5038\, Australia
ATTACH;FMTTYPE=image/jpeg:https://goldfoundation.com.au/wp-content/uploads/2023/10/Youth-Group-IMG_2255-scaled.jpg
ORGANIZER;CN="The Gold Foundation":MAILTO:info@goldfoundation.com.au
END:VEVENT
BEGIN:VEVENT
DTSTART;TZID=Australia/Adelaide:20240210T180000
DTEND;TZID=Australia/Adelaide:20240210T200000
DTSTAMP:20260423T054155
CREATED:20231015T234410Z
LAST-MODIFIED:20240930T033844Z
UID:10001749-1707588000-1707595200@goldfoundation.com.au
SUMMARY:Not So Youth Group (ages 18-30)
DESCRIPTION:Not So Youth Group is a social group for young adults on the Autism Spectrum where attendees can be social\, find common ground and make friends\, all the while continuing to develop communication and social skills.
URL:https://goldfoundation.com.au/event/not-so-youth-group-ages-18-30-2-2024-01-20/2024-02-10/
LOCATION:The Gold Foundation\, 9-11 Carlisle Street\, Camden Park\, SA\, 5038\, Australia
ATTACH;FMTTYPE=image/jpeg:https://goldfoundation.com.au/wp-content/uploads/2022/05/4E06F244-D2EB-41A7-8C1A-B2819B9FFDC8.jpg
ORGANIZER;CN="The Gold Foundation":MAILTO:info@goldfoundation.com.au
END:VEVENT
BEGIN:VEVENT
DTSTART;TZID=Australia/Adelaide:20240209T183000
DTEND;TZID=Australia/Adelaide:20240209T203000
DTSTAMP:20260423T054155
CREATED:20231015T232231Z
LAST-MODIFIED:20240826T052211Z
UID:10001701-1707503400-1707510600@goldfoundation.com.au
SUMMARY:Youth Group (ages 12-17)
DESCRIPTION:Gold Foundation organises regular social groups for young people on the Autism Spectrum from 12 to 17 years of age.\nOur Youth Groups are held in a relaxed and fun environment\, where young people can be social together\, forge lasting friendships and\, informally\, develop social skills and connect with others their age.
URL:https://goldfoundation.com.au/event/youth-group-ages-12-17/2024-02-09/
LOCATION:The Gold Foundation\, 9-11 Carlisle Street\, Camden Park\, SA\, 5038\, Australia
ATTACH;FMTTYPE=image/jpeg:https://goldfoundation.com.au/wp-content/uploads/2023/10/Youth-Group-IMG_2255-scaled.jpg
ORGANIZER;CN="The Gold Foundation":MAILTO:info@goldfoundation.com.au
END:VEVENT
BEGIN:VEVENT
DTSTART;TZID=Australia/Adelaide:20240203T180000
DTEND;TZID=Australia/Adelaide:20240203T200000
DTSTAMP:20260423T054155
CREATED:20231015T234410Z
LAST-MODIFIED:20240930T033844Z
UID:10001748-1706983200-1706990400@goldfoundation.com.au
SUMMARY:Not So Youth Group (ages 18-30)
DESCRIPTION:Not So Youth Group is a social group for young adults on the Autism Spectrum where attendees can be social\, find common ground and make friends\, all the while continuing to develop communication and social skills.
URL:https://goldfoundation.com.au/event/not-so-youth-group-ages-18-30-2-2024-01-20/2024-02-03/
LOCATION:The Gold Foundation\, 9-11 Carlisle Street\, Camden Park\, SA\, 5038\, Australia
ATTACH;FMTTYPE=image/jpeg:https://goldfoundation.com.au/wp-content/uploads/2022/05/4E06F244-D2EB-41A7-8C1A-B2819B9FFDC8.jpg
ORGANIZER;CN="The Gold Foundation":MAILTO:info@goldfoundation.com.au
END:VEVENT
BEGIN:VEVENT
DTSTART;TZID=Australia/Adelaide:20240202T183000
DTEND;TZID=Australia/Adelaide:20240202T203000
DTSTAMP:20260423T054155
CREATED:20231015T232231Z
LAST-MODIFIED:20240826T052211Z
UID:10001700-1706898600-1706905800@goldfoundation.com.au
SUMMARY:Youth Group (ages 12-17)
DESCRIPTION:Gold Foundation organises regular social groups for young people on the Autism Spectrum from 12 to 17 years of age.\nOur Youth Groups are held in a relaxed and fun environment\, where young people can be social together\, forge lasting friendships and\, informally\, develop social skills and connect with others their age.
URL:https://goldfoundation.com.au/event/youth-group-ages-12-17/2024-02-02/
LOCATION:The Gold Foundation\, 9-11 Carlisle Street\, Camden Park\, SA\, 5038\, Australia
ATTACH;FMTTYPE=image/jpeg:https://goldfoundation.com.au/wp-content/uploads/2023/10/Youth-Group-IMG_2255-scaled.jpg
ORGANIZER;CN="The Gold Foundation":MAILTO:info@goldfoundation.com.au
END:VEVENT
BEGIN:VEVENT
DTSTART;TZID=Australia/Adelaide:20240127T180000
DTEND;TZID=Australia/Adelaide:20240127T200000
DTSTAMP:20260423T054155
CREATED:20231015T234410Z
LAST-MODIFIED:20240930T033844Z
UID:10001747-1706378400-1706385600@goldfoundation.com.au
SUMMARY:Not So Youth Group (ages 18-30)
DESCRIPTION:Not So Youth Group is a social group for young adults on the Autism Spectrum where attendees can be social\, find common ground and make friends\, all the while continuing to develop communication and social skills.
URL:https://goldfoundation.com.au/event/not-so-youth-group-ages-18-30-2-2024-01-20/2024-01-27/
LOCATION:The Gold Foundation\, 9-11 Carlisle Street\, Camden Park\, SA\, 5038\, Australia
ATTACH;FMTTYPE=image/jpeg:https://goldfoundation.com.au/wp-content/uploads/2022/05/4E06F244-D2EB-41A7-8C1A-B2819B9FFDC8.jpg
ORGANIZER;CN="The Gold Foundation":MAILTO:info@goldfoundation.com.au
END:VEVENT
BEGIN:VEVENT
DTSTART;TZID=Australia/Adelaide:20240120T180000
DTEND;TZID=Australia/Adelaide:20240120T200000
DTSTAMP:20260423T054155
CREATED:20231015T234410Z
LAST-MODIFIED:20240930T033844Z
UID:10001746-1705773600-1705780800@goldfoundation.com.au
SUMMARY:Not So Youth Group (ages 18-30)
DESCRIPTION:Not So Youth Group is a social group for young adults on the Autism Spectrum where attendees can be social\, find common ground and make friends\, all the while continuing to develop communication and social skills.
URL:https://goldfoundation.com.au/event/not-so-youth-group-ages-18-30-2-2024-01-20/2024-01-20/
LOCATION:The Gold Foundation\, 9-11 Carlisle Street\, Camden Park\, SA\, 5038\, Australia
ATTACH;FMTTYPE=image/jpeg:https://goldfoundation.com.au/wp-content/uploads/2022/05/4E06F244-D2EB-41A7-8C1A-B2819B9FFDC8.jpg
ORGANIZER;CN="The Gold Foundation":MAILTO:info@goldfoundation.com.au
END:VEVENT
BEGIN:VEVENT
DTSTART;TZID=Australia/Adelaide:20240119T183000
DTEND;TZID=Australia/Adelaide:20240119T203000
DTSTAMP:20260423T054155
CREATED:20231015T232231Z
LAST-MODIFIED:20240826T052211Z
UID:10001699-1705689000-1705696200@goldfoundation.com.au
SUMMARY:Youth Group (ages 12-17)
DESCRIPTION:Gold Foundation organises regular social groups for young people on the Autism Spectrum from 12 to 17 years of age.\nOur Youth Groups are held in a relaxed and fun environment\, where young people can be social together\, forge lasting friendships and\, informally\, develop social skills and connect with others their age.
URL:https://goldfoundation.com.au/event/youth-group-ages-12-17/2024-01-19/
LOCATION:The Gold Foundation\, 9-11 Carlisle Street\, Camden Park\, SA\, 5038\, Australia
ATTACH;FMTTYPE=image/jpeg:https://goldfoundation.com.au/wp-content/uploads/2023/10/Youth-Group-IMG_2255-scaled.jpg
ORGANIZER;CN="The Gold Foundation":MAILTO:info@goldfoundation.com.au
END:VEVENT
BEGIN:VEVENT
DTSTART;TZID=Australia/Adelaide:20240113T180000
DTEND;TZID=Australia/Adelaide:20240113T200000
DTSTAMP:20260423T054155
CREATED:20231015T234410Z
LAST-MODIFIED:20240930T034059Z
UID:10001745-1705168800-1705176000@goldfoundation.com.au
SUMMARY:Not So Youth Group (ages 18-30)
DESCRIPTION:Not So Youth Group is a social group for young adults on the Autism Spectrum where attendees can be social\, find common ground and make friends\, all the while continuing to develop communication and social skills.
URL:https://goldfoundation.com.au/event/not-so-youth-group-ages-18-30-2/
LOCATION:Holey Moley\, 1/172 Pulteney St\, Adelaide\, SA\, 5000\, Australia
ATTACH;FMTTYPE=image/jpeg:https://goldfoundation.com.au/wp-content/uploads/2022/05/4E06F244-D2EB-41A7-8C1A-B2819B9FFDC8.jpg
ORGANIZER;CN="The Gold Foundation":MAILTO:info@goldfoundation.com.au
END:VEVENT
BEGIN:VEVENT
DTSTART;TZID=Australia/Adelaide:20240112T183000
DTEND;TZID=Australia/Adelaide:20240112T203000
DTSTAMP:20260423T054155
CREATED:20231015T232231Z
LAST-MODIFIED:20240826T052211Z
UID:10001698-1705084200-1705091400@goldfoundation.com.au
SUMMARY:Youth Group (ages 12-17)
DESCRIPTION:Gold Foundation organises regular social groups for young people on the Autism Spectrum from 12 to 17 years of age.\nOur Youth Groups are held in a relaxed and fun environment\, where young people can be social together\, forge lasting friendships and\, informally\, develop social skills and connect with others their age.
URL:https://goldfoundation.com.au/event/youth-group-ages-12-17/2024-01-12/
LOCATION:The Gold Foundation\, 9-11 Carlisle Street\, Camden Park\, SA\, 5038\, Australia
ATTACH;FMTTYPE=image/jpeg:https://goldfoundation.com.au/wp-content/uploads/2023/10/Youth-Group-IMG_2255-scaled.jpg
ORGANIZER;CN="The Gold Foundation":MAILTO:info@goldfoundation.com.au
END:VEVENT
BEGIN:VEVENT
DTSTART;TZID=Australia/Adelaide:20231216T180000
DTEND;TZID=Australia/Adelaide:20231216T200000
DTSTAMP:20260423T054155
CREATED:20230106T002604Z
LAST-MODIFIED:20230106T002604Z
UID:10001627-1702749600-1702756800@goldfoundation.com.au
SUMMARY:Not So Youth Group (ages 18+)
DESCRIPTION:Not So Youth Group is a social group for young adults on the Autism Spectrum where attendees can be social\, find common ground and make friends\, all the while continuing to develop communication and social skills.
URL:https://goldfoundation.com.au/event/not-so-youth-group-ages-18-14/2023-12-16/
LOCATION:The Gold Foundation\, 9-11 Carlisle Street\, Camden Park\, SA\, 5038\, Australia
ATTACH;FMTTYPE=image/jpeg:https://goldfoundation.com.au/wp-content/uploads/2022/05/4E06F244-D2EB-41A7-8C1A-B2819B9FFDC8.jpg
ORGANIZER;CN="The Gold Foundation":MAILTO:info@goldfoundation.com.au
END:VEVENT
BEGIN:VEVENT
DTSTART;VALUE=DATE:20231216
DTEND;VALUE=DATE:20231217
DTSTAMP:20260423T054155
CREATED:20231003T005438Z
LAST-MODIFIED:20231003T010357Z
UID:10001697-1702684800-1702771199@goldfoundation.com.au
SUMMARY:Not So Youth Group (ages 18–30)
DESCRIPTION:Not So Youth Group is a social group for young adults on the Autism Spectrum where attendees can be social\, find common ground and make friends\, all the while continuing to develop communication and social skills.
URL:https://goldfoundation.com.au/event/not-so-youth-group-ages-18-30-2023-12-16/
LOCATION:The Beachouse\, 4 Colley Tce\, Glenelg\, SA\, 5045
ATTACH;FMTTYPE=image/jpeg:https://goldfoundation.com.au/wp-content/uploads/2022/05/4E06F244-D2EB-41A7-8C1A-B2819B9FFDC8.jpg
ORGANIZER;CN="The Gold Foundation":MAILTO:info@goldfoundation.com.au
END:VEVENT
BEGIN:VEVENT
DTSTART;VALUE=DATE:20231216
DTEND;VALUE=DATE:20231217
DTSTAMP:20260423T054155
CREATED:20230105T071552Z
LAST-MODIFIED:20231003T002325Z
UID:10002562-1702684800-1702771199@goldfoundation.com.au
SUMMARY:Youth Group (13 to 18 years)
DESCRIPTION:Gold Foundation organises regular social groups for young people on the Autism Spectrum from 13 to 18 years of age.\nOur Youth Groups are held in a relaxed and fun environment\, where young people can be social together\, forge lasting friendships and\, informally\, develop social skills and connect with others their age.
URL:https://goldfoundation.com.au/event/youth-group-13-to-18-years-2023-12-15/
LOCATION:The Beachouse\, 4 Colley Tce\, Glenelg\, SA\, 5045
ATTACH;FMTTYPE=image/jpeg:https://goldfoundation.com.au/wp-content/uploads/2023/01/Youth-Group-IMG_2255-scaled.jpg
ORGANIZER;CN="The Gold Foundation":MAILTO:info@goldfoundation.com.au
END:VEVENT
BEGIN:VEVENT
DTSTART;TZID=Australia/Adelaide:20231212T180000
DTEND;TZID=Australia/Adelaide:20231212T190000
DTSTAMP:20260423T054155
CREATED:20230629T031043Z
LAST-MODIFIED:20230822T002119Z
UID:10002671-1702404000-1702407600@goldfoundation.com.au
SUMMARY:What's the Buzz? (Teenagers) (ages 12-15)
DESCRIPTION:‘What’s the Buzz?’ (for ages 12-15) is a 16-week social skills enrichment program for 12-15 year olds on the Autism Spectrum that encourages children to think about how to get along with others and explore the benefits of developing new social skills.
URL:https://goldfoundation.com.au/event/whats-the-buzz-teenagers-ages-12-15/2023-12-12/
LOCATION:The Gold Foundation\, 9-11 Carlisle Street\, Camden Park\, SA\, 5038\, Australia
ATTACH;FMTTYPE=image/jpeg:https://goldfoundation.com.au/wp-content/uploads/2022/05/WTB-Graduation-10-scaled.jpg
ORGANIZER;CN="The Gold Foundation":MAILTO:info@goldfoundation.com.au
END:VEVENT
BEGIN:VEVENT
DTSTART;TZID=Australia/Adelaide:20231209T180000
DTEND;TZID=Australia/Adelaide:20231209T200000
DTSTAMP:20260423T054155
CREATED:20231003T005438Z
LAST-MODIFIED:20231003T005438Z
UID:10001695-1702144800-1702152000@goldfoundation.com.au
SUMMARY:Not So Youth Group (ages 18–30)
DESCRIPTION:Not So Youth Group is a social group for young adults on the Autism Spectrum where attendees can be social\, find common ground and make friends\, all the while continuing to develop communication and social skills.
URL:https://goldfoundation.com.au/event/not-so-youth-group-ages-18-30/2023-12-09/
LOCATION:The Gold Foundation\, 9-11 Carlisle Street\, Camden Park\, SA\, 5038\, Australia
ATTACH;FMTTYPE=image/jpeg:https://goldfoundation.com.au/wp-content/uploads/2022/05/4E06F244-D2EB-41A7-8C1A-B2819B9FFDC8.jpg
ORGANIZER;CN="The Gold Foundation":MAILTO:info@goldfoundation.com.au
END:VEVENT
END:VCALENDAR