
BEGIN:VCALENDAR
VERSION:2.0
PRODID:-//Gold Foundation - ECPv6.15.13.1//NONSGML v1.0//EN
CALSCALE:GREGORIAN
METHOD:PUBLISH
X-ORIGINAL-URL:https://goldfoundation.com.au
X-WR-CALDESC:Events for Gold Foundation
REFRESH-INTERVAL;VALUE=DURATION:PT1H
X-Robots-Tag:noindex
X-PUBLISHED-TTL:PT1H
BEGIN:VTIMEZONE
TZID:Australia/Adelaide
BEGIN:STANDARD
TZOFFSETFROM:+1030
TZOFFSETTO:+0930
TZNAME:ACST
DTSTART:20250405T163000
END:STANDARD
BEGIN:DAYLIGHT
TZOFFSETFROM:+0930
TZOFFSETTO:+1030
TZNAME:ACDT
DTSTART:20251004T163000
END:DAYLIGHT
BEGIN:STANDARD
TZOFFSETFROM:+1030
TZOFFSETTO:+0930
TZNAME:ACST
DTSTART:20260404T163000
END:STANDARD
BEGIN:DAYLIGHT
TZOFFSETFROM:+0930
TZOFFSETTO:+1030
TZNAME:ACDT
DTSTART:20261003T163000
END:DAYLIGHT
BEGIN:STANDARD
TZOFFSETFROM:+1030
TZOFFSETTO:+0930
TZNAME:ACST
DTSTART:20270403T163000
END:STANDARD
BEGIN:DAYLIGHT
TZOFFSETFROM:+0930
TZOFFSETTO:+1030
TZNAME:ACDT
DTSTART:20271002T163000
END:DAYLIGHT
BEGIN:STANDARD
TZOFFSETFROM:+1030
TZOFFSETTO:+0930
TZNAME:ACST
DTSTART:20280401T163000
END:STANDARD
BEGIN:DAYLIGHT
TZOFFSETFROM:+0930
TZOFFSETTO:+1030
TZNAME:ACDT
DTSTART:20280930T163000
END:DAYLIGHT
END:VTIMEZONE
BEGIN:VEVENT
DTSTART;TZID=Australia/Adelaide:20261107T180000
DTEND;TZID=Australia/Adelaide:20261107T203000
DTSTAMP:20260425T005050
CREATED:20251210T050720Z
LAST-MODIFIED:20251210T061744Z
UID:10003443-1794074400-1794083400@goldfoundation.com.au
SUMMARY:Not So Youth Group (ages 18-35)
DESCRIPTION:Not So Youth Group is a social group for young adults on the Autism Spectrum where attendees can be social\, find common ground and make friends\, all the while continuing to develop communication and social skills.
URL:https://goldfoundation.com.au/event/not-so-youth-group-ages-18-35-2/2026-11-07/
LOCATION:The Gold Foundation\, 9-11 Carlisle Street\, Camden Park\, SA\, 5038\, Australia
ATTACH;FMTTYPE=image/jpeg:https://goldfoundation.com.au/wp-content/uploads/2025/12/WhatsApp-Image-2025-10-20-at-10.54.50-AM.jpeg
ORGANIZER;CN="The Gold Foundation":MAILTO:info@goldfoundation.com.au
END:VEVENT
BEGIN:VEVENT
DTSTART;TZID=Australia/Adelaide:20261111T163000
DTEND;TZID=Australia/Adelaide:20261111T183000
DTSTAMP:20260425T005050
CREATED:20251210T055427Z
LAST-MODIFIED:20251210T055503Z
UID:10003749-1794414600-1794421800@goldfoundation.com.au
SUMMARY:Cadets (ages 6-11)
DESCRIPTION:Cadets is an activity-based social group designed to help young people on the Autism Spectrum aged 6-11 develop friendships and improve their social well-being! Through conversations and activities\, participants have the opportunity to improve their confidence and build their social skills in a safe and fun environment.
URL:https://goldfoundation.com.au/event/cadets-ages-6-11-4/2026-11-11/
LOCATION:The Gold Foundation\, 9-11 Carlisle Street\, Camden Park\, SA\, 5038\, Australia
ATTACH;FMTTYPE=image/jpeg:https://goldfoundation.com.au/wp-content/uploads/2024/03/IMG_2800.jpeg
ORGANIZER;CN="The Gold Foundation":MAILTO:info@goldfoundation.com.au
END:VEVENT
BEGIN:VEVENT
DTSTART;TZID=Australia/Adelaide:20261113T183000
DTEND;TZID=Australia/Adelaide:20261113T203000
DTSTAMP:20260425T005050
CREATED:20251210T045752Z
LAST-MODIFIED:20251210T060417Z
UID:10003139-1794594600-1794601800@goldfoundation.com.au
SUMMARY:Youth Group (ages 12-17)
DESCRIPTION:Youth Group is a weekly gathering held in a relaxed and fun environment\, where young people on the Autism Spectrum can be social together\, forge lasting friendships and informally develop social skills and connect with others of their age. \nYoung people can enjoy movie nights\, arts and crafts\, talent shows\, quiz nights\, outdoor activities\, excursions and so much more with friends!
URL:https://goldfoundation.com.au/event/youth-group-ages-12-17-3/2026-11-13/
LOCATION:The Gold Foundation\, 9-11 Carlisle Street\, Camden Park\, SA\, 5038\, Australia
ATTACH;FMTTYPE=image/jpeg:https://goldfoundation.com.au/wp-content/uploads/2025/12/e2a84651-1c8a-4dae-bcbc-486b782139a6.jpg
ORGANIZER;CN="The Gold Foundation":MAILTO:info@goldfoundation.com.au
END:VEVENT
BEGIN:VEVENT
DTSTART;TZID=Australia/Adelaide:20261114T180000
DTEND;TZID=Australia/Adelaide:20261114T203000
DTSTAMP:20260425T005050
CREATED:20251210T050720Z
LAST-MODIFIED:20251210T061744Z
UID:10003444-1794679200-1794688200@goldfoundation.com.au
SUMMARY:Not So Youth Group (ages 18-35)
DESCRIPTION:Not So Youth Group is a social group for young adults on the Autism Spectrum where attendees can be social\, find common ground and make friends\, all the while continuing to develop communication and social skills.
URL:https://goldfoundation.com.au/event/not-so-youth-group-ages-18-35-2/2026-11-14/
LOCATION:The Gold Foundation\, 9-11 Carlisle Street\, Camden Park\, SA\, 5038\, Australia
ATTACH;FMTTYPE=image/jpeg:https://goldfoundation.com.au/wp-content/uploads/2025/12/WhatsApp-Image-2025-10-20-at-10.54.50-AM.jpeg
ORGANIZER;CN="The Gold Foundation":MAILTO:info@goldfoundation.com.au
END:VEVENT
BEGIN:VEVENT
DTSTART;TZID=Australia/Adelaide:20261118T163000
DTEND;TZID=Australia/Adelaide:20261118T183000
DTSTAMP:20260425T005050
CREATED:20251210T055427Z
LAST-MODIFIED:20251210T055503Z
UID:10003750-1795019400-1795026600@goldfoundation.com.au
SUMMARY:Cadets (ages 6-11)
DESCRIPTION:Cadets is an activity-based social group designed to help young people on the Autism Spectrum aged 6-11 develop friendships and improve their social well-being! Through conversations and activities\, participants have the opportunity to improve their confidence and build their social skills in a safe and fun environment.
URL:https://goldfoundation.com.au/event/cadets-ages-6-11-4/2026-11-18/
LOCATION:The Gold Foundation\, 9-11 Carlisle Street\, Camden Park\, SA\, 5038\, Australia
ATTACH;FMTTYPE=image/jpeg:https://goldfoundation.com.au/wp-content/uploads/2024/03/IMG_2800.jpeg
ORGANIZER;CN="The Gold Foundation":MAILTO:info@goldfoundation.com.au
END:VEVENT
BEGIN:VEVENT
DTSTART;TZID=Australia/Adelaide:20261120T183000
DTEND;TZID=Australia/Adelaide:20261120T203000
DTSTAMP:20260425T005050
CREATED:20251210T045752Z
LAST-MODIFIED:20251210T060417Z
UID:10003140-1795199400-1795206600@goldfoundation.com.au
SUMMARY:Youth Group (ages 12-17)
DESCRIPTION:Youth Group is a weekly gathering held in a relaxed and fun environment\, where young people on the Autism Spectrum can be social together\, forge lasting friendships and informally develop social skills and connect with others of their age. \nYoung people can enjoy movie nights\, arts and crafts\, talent shows\, quiz nights\, outdoor activities\, excursions and so much more with friends!
URL:https://goldfoundation.com.au/event/youth-group-ages-12-17-3/2026-11-20/
LOCATION:The Gold Foundation\, 9-11 Carlisle Street\, Camden Park\, SA\, 5038\, Australia
ATTACH;FMTTYPE=image/jpeg:https://goldfoundation.com.au/wp-content/uploads/2025/12/e2a84651-1c8a-4dae-bcbc-486b782139a6.jpg
ORGANIZER;CN="The Gold Foundation":MAILTO:info@goldfoundation.com.au
END:VEVENT
BEGIN:VEVENT
DTSTART;TZID=Australia/Adelaide:20261121T180000
DTEND;TZID=Australia/Adelaide:20261121T203000
DTSTAMP:20260425T005050
CREATED:20251210T050720Z
LAST-MODIFIED:20251210T061744Z
UID:10003445-1795284000-1795293000@goldfoundation.com.au
SUMMARY:Not So Youth Group (ages 18-35)
DESCRIPTION:Not So Youth Group is a social group for young adults on the Autism Spectrum where attendees can be social\, find common ground and make friends\, all the while continuing to develop communication and social skills.
URL:https://goldfoundation.com.au/event/not-so-youth-group-ages-18-35-2/2026-11-21/
LOCATION:The Gold Foundation\, 9-11 Carlisle Street\, Camden Park\, SA\, 5038\, Australia
ATTACH;FMTTYPE=image/jpeg:https://goldfoundation.com.au/wp-content/uploads/2025/12/WhatsApp-Image-2025-10-20-at-10.54.50-AM.jpeg
ORGANIZER;CN="The Gold Foundation":MAILTO:info@goldfoundation.com.au
END:VEVENT
BEGIN:VEVENT
DTSTART;TZID=Australia/Adelaide:20261125T163000
DTEND;TZID=Australia/Adelaide:20261125T183000
DTSTAMP:20260425T005050
CREATED:20251210T055427Z
LAST-MODIFIED:20251210T055503Z
UID:10003751-1795624200-1795631400@goldfoundation.com.au
SUMMARY:Cadets (ages 6-11)
DESCRIPTION:Cadets is an activity-based social group designed to help young people on the Autism Spectrum aged 6-11 develop friendships and improve their social well-being! Through conversations and activities\, participants have the opportunity to improve their confidence and build their social skills in a safe and fun environment.
URL:https://goldfoundation.com.au/event/cadets-ages-6-11-4/2026-11-25/
LOCATION:The Gold Foundation\, 9-11 Carlisle Street\, Camden Park\, SA\, 5038\, Australia
ATTACH;FMTTYPE=image/jpeg:https://goldfoundation.com.au/wp-content/uploads/2024/03/IMG_2800.jpeg
ORGANIZER;CN="The Gold Foundation":MAILTO:info@goldfoundation.com.au
END:VEVENT
BEGIN:VEVENT
DTSTART;TZID=Australia/Adelaide:20261127T183000
DTEND;TZID=Australia/Adelaide:20261127T203000
DTSTAMP:20260425T005050
CREATED:20251210T045752Z
LAST-MODIFIED:20251210T060417Z
UID:10003141-1795804200-1795811400@goldfoundation.com.au
SUMMARY:Youth Group (ages 12-17)
DESCRIPTION:Youth Group is a weekly gathering held in a relaxed and fun environment\, where young people on the Autism Spectrum can be social together\, forge lasting friendships and informally develop social skills and connect with others of their age. \nYoung people can enjoy movie nights\, arts and crafts\, talent shows\, quiz nights\, outdoor activities\, excursions and so much more with friends!
URL:https://goldfoundation.com.au/event/youth-group-ages-12-17-3/2026-11-27/
LOCATION:The Gold Foundation\, 9-11 Carlisle Street\, Camden Park\, SA\, 5038\, Australia
ATTACH;FMTTYPE=image/jpeg:https://goldfoundation.com.au/wp-content/uploads/2025/12/e2a84651-1c8a-4dae-bcbc-486b782139a6.jpg
ORGANIZER;CN="The Gold Foundation":MAILTO:info@goldfoundation.com.au
END:VEVENT
BEGIN:VEVENT
DTSTART;TZID=Australia/Adelaide:20261128T180000
DTEND;TZID=Australia/Adelaide:20261128T203000
DTSTAMP:20260425T005050
CREATED:20251210T050720Z
LAST-MODIFIED:20251210T061744Z
UID:10003446-1795888800-1795897800@goldfoundation.com.au
SUMMARY:Not So Youth Group (ages 18-35)
DESCRIPTION:Not So Youth Group is a social group for young adults on the Autism Spectrum where attendees can be social\, find common ground and make friends\, all the while continuing to develop communication and social skills.
URL:https://goldfoundation.com.au/event/not-so-youth-group-ages-18-35-2/2026-11-28/
LOCATION:The Gold Foundation\, 9-11 Carlisle Street\, Camden Park\, SA\, 5038\, Australia
ATTACH;FMTTYPE=image/jpeg:https://goldfoundation.com.au/wp-content/uploads/2025/12/WhatsApp-Image-2025-10-20-at-10.54.50-AM.jpeg
ORGANIZER;CN="The Gold Foundation":MAILTO:info@goldfoundation.com.au
END:VEVENT
BEGIN:VEVENT
DTSTART;TZID=Australia/Adelaide:20261202T163000
DTEND;TZID=Australia/Adelaide:20261202T183000
DTSTAMP:20260425T005050
CREATED:20251210T055427Z
LAST-MODIFIED:20251210T055503Z
UID:10003752-1796229000-1796236200@goldfoundation.com.au
SUMMARY:Cadets (ages 6-11)
DESCRIPTION:Cadets is an activity-based social group designed to help young people on the Autism Spectrum aged 6-11 develop friendships and improve their social well-being! Through conversations and activities\, participants have the opportunity to improve their confidence and build their social skills in a safe and fun environment.
URL:https://goldfoundation.com.au/event/cadets-ages-6-11-4/2026-12-02/
LOCATION:The Gold Foundation\, 9-11 Carlisle Street\, Camden Park\, SA\, 5038\, Australia
ATTACH;FMTTYPE=image/jpeg:https://goldfoundation.com.au/wp-content/uploads/2024/03/IMG_2800.jpeg
ORGANIZER;CN="The Gold Foundation":MAILTO:info@goldfoundation.com.au
END:VEVENT
BEGIN:VEVENT
DTSTART;TZID=Australia/Adelaide:20261204T183000
DTEND;TZID=Australia/Adelaide:20261204T203000
DTSTAMP:20260425T005050
CREATED:20251210T045752Z
LAST-MODIFIED:20251210T060417Z
UID:10003142-1796409000-1796416200@goldfoundation.com.au
SUMMARY:Youth Group (ages 12-17)
DESCRIPTION:Youth Group is a weekly gathering held in a relaxed and fun environment\, where young people on the Autism Spectrum can be social together\, forge lasting friendships and informally develop social skills and connect with others of their age. \nYoung people can enjoy movie nights\, arts and crafts\, talent shows\, quiz nights\, outdoor activities\, excursions and so much more with friends!
URL:https://goldfoundation.com.au/event/youth-group-ages-12-17-3/2026-12-04/
LOCATION:The Gold Foundation\, 9-11 Carlisle Street\, Camden Park\, SA\, 5038\, Australia
ATTACH;FMTTYPE=image/jpeg:https://goldfoundation.com.au/wp-content/uploads/2025/12/e2a84651-1c8a-4dae-bcbc-486b782139a6.jpg
ORGANIZER;CN="The Gold Foundation":MAILTO:info@goldfoundation.com.au
END:VEVENT
BEGIN:VEVENT
DTSTART;TZID=Australia/Adelaide:20261205T180000
DTEND;TZID=Australia/Adelaide:20261205T203000
DTSTAMP:20260425T005050
CREATED:20251210T050720Z
LAST-MODIFIED:20251210T061744Z
UID:10003447-1796493600-1796502600@goldfoundation.com.au
SUMMARY:Not So Youth Group (ages 18-35)
DESCRIPTION:Not So Youth Group is a social group for young adults on the Autism Spectrum where attendees can be social\, find common ground and make friends\, all the while continuing to develop communication and social skills.
URL:https://goldfoundation.com.au/event/not-so-youth-group-ages-18-35-2/2026-12-05/
LOCATION:The Gold Foundation\, 9-11 Carlisle Street\, Camden Park\, SA\, 5038\, Australia
ATTACH;FMTTYPE=image/jpeg:https://goldfoundation.com.au/wp-content/uploads/2025/12/WhatsApp-Image-2025-10-20-at-10.54.50-AM.jpeg
ORGANIZER;CN="The Gold Foundation":MAILTO:info@goldfoundation.com.au
END:VEVENT
BEGIN:VEVENT
DTSTART;TZID=Australia/Adelaide:20261209T163000
DTEND;TZID=Australia/Adelaide:20261209T183000
DTSTAMP:20260425T005050
CREATED:20251210T055427Z
LAST-MODIFIED:20251210T055503Z
UID:10003753-1796833800-1796841000@goldfoundation.com.au
SUMMARY:Cadets (ages 6-11)
DESCRIPTION:Cadets is an activity-based social group designed to help young people on the Autism Spectrum aged 6-11 develop friendships and improve their social well-being! Through conversations and activities\, participants have the opportunity to improve their confidence and build their social skills in a safe and fun environment.
URL:https://goldfoundation.com.au/event/cadets-ages-6-11-4/2026-12-09/
LOCATION:The Gold Foundation\, 9-11 Carlisle Street\, Camden Park\, SA\, 5038\, Australia
ATTACH;FMTTYPE=image/jpeg:https://goldfoundation.com.au/wp-content/uploads/2024/03/IMG_2800.jpeg
ORGANIZER;CN="The Gold Foundation":MAILTO:info@goldfoundation.com.au
END:VEVENT
BEGIN:VEVENT
DTSTART;TZID=Australia/Adelaide:20261211T183000
DTEND;TZID=Australia/Adelaide:20261211T203000
DTSTAMP:20260425T005050
CREATED:20251210T045752Z
LAST-MODIFIED:20251210T060417Z
UID:10003762-1797013800-1797021000@goldfoundation.com.au
SUMMARY:Youth Group (ages 12-17)
DESCRIPTION:Youth Group is a weekly gathering held in a relaxed and fun environment\, where young people on the Autism Spectrum can be social together\, forge lasting friendships and informally develop social skills and connect with others of their age. \nYoung people can enjoy movie nights\, arts and crafts\, talent shows\, quiz nights\, outdoor activities\, excursions and so much more with friends!
URL:https://goldfoundation.com.au/event/youth-group-ages-12-17-3/2026-12-11/
LOCATION:The Gold Foundation\, 9-11 Carlisle Street\, Camden Park\, SA\, 5038\, Australia
ATTACH;FMTTYPE=image/jpeg:https://goldfoundation.com.au/wp-content/uploads/2025/12/e2a84651-1c8a-4dae-bcbc-486b782139a6.jpg
ORGANIZER;CN="The Gold Foundation":MAILTO:info@goldfoundation.com.au
END:VEVENT
BEGIN:VEVENT
DTSTART;TZID=Australia/Adelaide:20261212T180000
DTEND;TZID=Australia/Adelaide:20261212T203000
DTSTAMP:20260425T005050
CREATED:20251210T050720Z
LAST-MODIFIED:20251210T061744Z
UID:10003448-1797098400-1797107400@goldfoundation.com.au
SUMMARY:Not So Youth Group (ages 18-35)
DESCRIPTION:Not So Youth Group is a social group for young adults on the Autism Spectrum where attendees can be social\, find common ground and make friends\, all the while continuing to develop communication and social skills.
URL:https://goldfoundation.com.au/event/not-so-youth-group-ages-18-35-2/2026-12-12/
LOCATION:The Gold Foundation\, 9-11 Carlisle Street\, Camden Park\, SA\, 5038\, Australia
ATTACH;FMTTYPE=image/jpeg:https://goldfoundation.com.au/wp-content/uploads/2025/12/WhatsApp-Image-2025-10-20-at-10.54.50-AM.jpeg
ORGANIZER;CN="The Gold Foundation":MAILTO:info@goldfoundation.com.au
END:VEVENT
BEGIN:VEVENT
DTSTART;TZID=Australia/Adelaide:20261216T163000
DTEND;TZID=Australia/Adelaide:20261216T183000
DTSTAMP:20260425T005050
CREATED:20251210T055427Z
LAST-MODIFIED:20251210T055503Z
UID:10003754-1797438600-1797445800@goldfoundation.com.au
SUMMARY:Cadets (ages 6-11)
DESCRIPTION:Cadets is an activity-based social group designed to help young people on the Autism Spectrum aged 6-11 develop friendships and improve their social well-being! Through conversations and activities\, participants have the opportunity to improve their confidence and build their social skills in a safe and fun environment.
URL:https://goldfoundation.com.au/event/cadets-ages-6-11-4/2026-12-16/
LOCATION:The Gold Foundation\, 9-11 Carlisle Street\, Camden Park\, SA\, 5038\, Australia
ATTACH;FMTTYPE=image/jpeg:https://goldfoundation.com.au/wp-content/uploads/2024/03/IMG_2800.jpeg
ORGANIZER;CN="The Gold Foundation":MAILTO:info@goldfoundation.com.au
END:VEVENT
BEGIN:VEVENT
DTSTART;TZID=Australia/Adelaide:20261219T180000
DTEND;TZID=Australia/Adelaide:20261219T203000
DTSTAMP:20260425T005050
CREATED:20251210T050720Z
LAST-MODIFIED:20251210T061744Z
UID:10003449-1797703200-1797712200@goldfoundation.com.au
SUMMARY:Not So Youth Group (ages 18-35)
DESCRIPTION:Not So Youth Group is a social group for young adults on the Autism Spectrum where attendees can be social\, find common ground and make friends\, all the while continuing to develop communication and social skills.
URL:https://goldfoundation.com.au/event/not-so-youth-group-ages-18-35-2/2026-12-19/
LOCATION:The Gold Foundation\, 9-11 Carlisle Street\, Camden Park\, SA\, 5038\, Australia
ATTACH;FMTTYPE=image/jpeg:https://goldfoundation.com.au/wp-content/uploads/2025/12/WhatsApp-Image-2025-10-20-at-10.54.50-AM.jpeg
ORGANIZER;CN="The Gold Foundation":MAILTO:info@goldfoundation.com.au
END:VEVENT
BEGIN:VEVENT
DTSTART;TZID=Australia/Adelaide:20261226T180000
DTEND;TZID=Australia/Adelaide:20261226T203000
DTSTAMP:20260425T005050
CREATED:20251210T050720Z
LAST-MODIFIED:20251210T061744Z
UID:10003450-1798308000-1798317000@goldfoundation.com.au
SUMMARY:Not So Youth Group (ages 18-35)
DESCRIPTION:Not So Youth Group is a social group for young adults on the Autism Spectrum where attendees can be social\, find common ground and make friends\, all the while continuing to develop communication and social skills.
URL:https://goldfoundation.com.au/event/not-so-youth-group-ages-18-35-2/2026-12-26/
LOCATION:The Gold Foundation\, 9-11 Carlisle Street\, Camden Park\, SA\, 5038\, Australia
ATTACH;FMTTYPE=image/jpeg:https://goldfoundation.com.au/wp-content/uploads/2025/12/WhatsApp-Image-2025-10-20-at-10.54.50-AM.jpeg
ORGANIZER;CN="The Gold Foundation":MAILTO:info@goldfoundation.com.au
END:VEVENT
BEGIN:VEVENT
DTSTART;TZID=Australia/Adelaide:20270102T180000
DTEND;TZID=Australia/Adelaide:20270102T203000
DTSTAMP:20260425T005050
CREATED:20251210T050720Z
LAST-MODIFIED:20251210T061744Z
UID:10003451-1798912800-1798921800@goldfoundation.com.au
SUMMARY:Not So Youth Group (ages 18-35)
DESCRIPTION:Not So Youth Group is a social group for young adults on the Autism Spectrum where attendees can be social\, find common ground and make friends\, all the while continuing to develop communication and social skills.
URL:https://goldfoundation.com.au/event/not-so-youth-group-ages-18-35-2/2027-01-02/
LOCATION:The Gold Foundation\, 9-11 Carlisle Street\, Camden Park\, SA\, 5038\, Australia
ATTACH;FMTTYPE=image/jpeg:https://goldfoundation.com.au/wp-content/uploads/2025/12/WhatsApp-Image-2025-10-20-at-10.54.50-AM.jpeg
ORGANIZER;CN="The Gold Foundation":MAILTO:info@goldfoundation.com.au
END:VEVENT
BEGIN:VEVENT
DTSTART;TZID=Australia/Adelaide:20270109T180000
DTEND;TZID=Australia/Adelaide:20270109T203000
DTSTAMP:20260425T005050
CREATED:20251210T050720Z
LAST-MODIFIED:20251210T061744Z
UID:10003452-1799517600-1799526600@goldfoundation.com.au
SUMMARY:Not So Youth Group (ages 18-35)
DESCRIPTION:Not So Youth Group is a social group for young adults on the Autism Spectrum where attendees can be social\, find common ground and make friends\, all the while continuing to develop communication and social skills.
URL:https://goldfoundation.com.au/event/not-so-youth-group-ages-18-35-2/2027-01-09/
LOCATION:The Gold Foundation\, 9-11 Carlisle Street\, Camden Park\, SA\, 5038\, Australia
ATTACH;FMTTYPE=image/jpeg:https://goldfoundation.com.au/wp-content/uploads/2025/12/WhatsApp-Image-2025-10-20-at-10.54.50-AM.jpeg
ORGANIZER;CN="The Gold Foundation":MAILTO:info@goldfoundation.com.au
END:VEVENT
BEGIN:VEVENT
DTSTART;TZID=Australia/Adelaide:20270116T180000
DTEND;TZID=Australia/Adelaide:20270116T203000
DTSTAMP:20260425T005050
CREATED:20251210T050720Z
LAST-MODIFIED:20251210T061744Z
UID:10003453-1800122400-1800131400@goldfoundation.com.au
SUMMARY:Not So Youth Group (ages 18-35)
DESCRIPTION:Not So Youth Group is a social group for young adults on the Autism Spectrum where attendees can be social\, find common ground and make friends\, all the while continuing to develop communication and social skills.
URL:https://goldfoundation.com.au/event/not-so-youth-group-ages-18-35-2/2027-01-16/
LOCATION:The Gold Foundation\, 9-11 Carlisle Street\, Camden Park\, SA\, 5038\, Australia
ATTACH;FMTTYPE=image/jpeg:https://goldfoundation.com.au/wp-content/uploads/2025/12/WhatsApp-Image-2025-10-20-at-10.54.50-AM.jpeg
ORGANIZER;CN="The Gold Foundation":MAILTO:info@goldfoundation.com.au
END:VEVENT
BEGIN:VEVENT
DTSTART;TZID=Australia/Adelaide:20270123T180000
DTEND;TZID=Australia/Adelaide:20270123T203000
DTSTAMP:20260425T005050
CREATED:20251210T050720Z
LAST-MODIFIED:20251210T061744Z
UID:10003454-1800727200-1800736200@goldfoundation.com.au
SUMMARY:Not So Youth Group (ages 18-35)
DESCRIPTION:Not So Youth Group is a social group for young adults on the Autism Spectrum where attendees can be social\, find common ground and make friends\, all the while continuing to develop communication and social skills.
URL:https://goldfoundation.com.au/event/not-so-youth-group-ages-18-35-2/2027-01-23/
LOCATION:The Gold Foundation\, 9-11 Carlisle Street\, Camden Park\, SA\, 5038\, Australia
ATTACH;FMTTYPE=image/jpeg:https://goldfoundation.com.au/wp-content/uploads/2025/12/WhatsApp-Image-2025-10-20-at-10.54.50-AM.jpeg
ORGANIZER;CN="The Gold Foundation":MAILTO:info@goldfoundation.com.au
END:VEVENT
BEGIN:VEVENT
DTSTART;TZID=Australia/Adelaide:20270130T180000
DTEND;TZID=Australia/Adelaide:20270130T203000
DTSTAMP:20260425T005050
CREATED:20251210T050720Z
LAST-MODIFIED:20251210T061744Z
UID:10003455-1801332000-1801341000@goldfoundation.com.au
SUMMARY:Not So Youth Group (ages 18-35)
DESCRIPTION:Not So Youth Group is a social group for young adults on the Autism Spectrum where attendees can be social\, find common ground and make friends\, all the while continuing to develop communication and social skills.
URL:https://goldfoundation.com.au/event/not-so-youth-group-ages-18-35-2/2027-01-30/
LOCATION:The Gold Foundation\, 9-11 Carlisle Street\, Camden Park\, SA\, 5038\, Australia
ATTACH;FMTTYPE=image/jpeg:https://goldfoundation.com.au/wp-content/uploads/2025/12/WhatsApp-Image-2025-10-20-at-10.54.50-AM.jpeg
ORGANIZER;CN="The Gold Foundation":MAILTO:info@goldfoundation.com.au
END:VEVENT
BEGIN:VEVENT
DTSTART;TZID=Australia/Adelaide:20270206T180000
DTEND;TZID=Australia/Adelaide:20270206T203000
DTSTAMP:20260425T005050
CREATED:20251210T050720Z
LAST-MODIFIED:20251210T061744Z
UID:10003456-1801936800-1801945800@goldfoundation.com.au
SUMMARY:Not So Youth Group (ages 18-35)
DESCRIPTION:Not So Youth Group is a social group for young adults on the Autism Spectrum where attendees can be social\, find common ground and make friends\, all the while continuing to develop communication and social skills.
URL:https://goldfoundation.com.au/event/not-so-youth-group-ages-18-35-2/2027-02-06/
LOCATION:The Gold Foundation\, 9-11 Carlisle Street\, Camden Park\, SA\, 5038\, Australia
ATTACH;FMTTYPE=image/jpeg:https://goldfoundation.com.au/wp-content/uploads/2025/12/WhatsApp-Image-2025-10-20-at-10.54.50-AM.jpeg
ORGANIZER;CN="The Gold Foundation":MAILTO:info@goldfoundation.com.au
END:VEVENT
BEGIN:VEVENT
DTSTART;TZID=Australia/Adelaide:20270213T180000
DTEND;TZID=Australia/Adelaide:20270213T203000
DTSTAMP:20260425T005050
CREATED:20251210T050720Z
LAST-MODIFIED:20251210T061744Z
UID:10003457-1802541600-1802550600@goldfoundation.com.au
SUMMARY:Not So Youth Group (ages 18-35)
DESCRIPTION:Not So Youth Group is a social group for young adults on the Autism Spectrum where attendees can be social\, find common ground and make friends\, all the while continuing to develop communication and social skills.
URL:https://goldfoundation.com.au/event/not-so-youth-group-ages-18-35-2/2027-02-13/
LOCATION:The Gold Foundation\, 9-11 Carlisle Street\, Camden Park\, SA\, 5038\, Australia
ATTACH;FMTTYPE=image/jpeg:https://goldfoundation.com.au/wp-content/uploads/2025/12/WhatsApp-Image-2025-10-20-at-10.54.50-AM.jpeg
ORGANIZER;CN="The Gold Foundation":MAILTO:info@goldfoundation.com.au
END:VEVENT
BEGIN:VEVENT
DTSTART;TZID=Australia/Adelaide:20270220T180000
DTEND;TZID=Australia/Adelaide:20270220T203000
DTSTAMP:20260425T005050
CREATED:20251210T050720Z
LAST-MODIFIED:20251210T061744Z
UID:10003458-1803146400-1803155400@goldfoundation.com.au
SUMMARY:Not So Youth Group (ages 18-35)
DESCRIPTION:Not So Youth Group is a social group for young adults on the Autism Spectrum where attendees can be social\, find common ground and make friends\, all the while continuing to develop communication and social skills.
URL:https://goldfoundation.com.au/event/not-so-youth-group-ages-18-35-2/2027-02-20/
LOCATION:The Gold Foundation\, 9-11 Carlisle Street\, Camden Park\, SA\, 5038\, Australia
ATTACH;FMTTYPE=image/jpeg:https://goldfoundation.com.au/wp-content/uploads/2025/12/WhatsApp-Image-2025-10-20-at-10.54.50-AM.jpeg
ORGANIZER;CN="The Gold Foundation":MAILTO:info@goldfoundation.com.au
END:VEVENT
BEGIN:VEVENT
DTSTART;TZID=Australia/Adelaide:20270227T180000
DTEND;TZID=Australia/Adelaide:20270227T203000
DTSTAMP:20260425T005050
CREATED:20251210T050720Z
LAST-MODIFIED:20251210T061744Z
UID:10003459-1803751200-1803760200@goldfoundation.com.au
SUMMARY:Not So Youth Group (ages 18-35)
DESCRIPTION:Not So Youth Group is a social group for young adults on the Autism Spectrum where attendees can be social\, find common ground and make friends\, all the while continuing to develop communication and social skills.
URL:https://goldfoundation.com.au/event/not-so-youth-group-ages-18-35-2/2027-02-27/
LOCATION:The Gold Foundation\, 9-11 Carlisle Street\, Camden Park\, SA\, 5038\, Australia
ATTACH;FMTTYPE=image/jpeg:https://goldfoundation.com.au/wp-content/uploads/2025/12/WhatsApp-Image-2025-10-20-at-10.54.50-AM.jpeg
ORGANIZER;CN="The Gold Foundation":MAILTO:info@goldfoundation.com.au
END:VEVENT
BEGIN:VEVENT
DTSTART;TZID=Australia/Adelaide:20270306T180000
DTEND;TZID=Australia/Adelaide:20270306T203000
DTSTAMP:20260425T005050
CREATED:20251210T050720Z
LAST-MODIFIED:20251210T061744Z
UID:10003460-1804356000-1804365000@goldfoundation.com.au
SUMMARY:Not So Youth Group (ages 18-35)
DESCRIPTION:Not So Youth Group is a social group for young adults on the Autism Spectrum where attendees can be social\, find common ground and make friends\, all the while continuing to develop communication and social skills.
URL:https://goldfoundation.com.au/event/not-so-youth-group-ages-18-35-2/2027-03-06/
LOCATION:The Gold Foundation\, 9-11 Carlisle Street\, Camden Park\, SA\, 5038\, Australia
ATTACH;FMTTYPE=image/jpeg:https://goldfoundation.com.au/wp-content/uploads/2025/12/WhatsApp-Image-2025-10-20-at-10.54.50-AM.jpeg
ORGANIZER;CN="The Gold Foundation":MAILTO:info@goldfoundation.com.au
END:VEVENT
BEGIN:VEVENT
DTSTART;TZID=Australia/Adelaide:20270313T180000
DTEND;TZID=Australia/Adelaide:20270313T203000
DTSTAMP:20260425T005050
CREATED:20251210T050720Z
LAST-MODIFIED:20251210T061744Z
UID:10003461-1804960800-1804969800@goldfoundation.com.au
SUMMARY:Not So Youth Group (ages 18-35)
DESCRIPTION:Not So Youth Group is a social group for young adults on the Autism Spectrum where attendees can be social\, find common ground and make friends\, all the while continuing to develop communication and social skills.
URL:https://goldfoundation.com.au/event/not-so-youth-group-ages-18-35-2/2027-03-13/
LOCATION:The Gold Foundation\, 9-11 Carlisle Street\, Camden Park\, SA\, 5038\, Australia
ATTACH;FMTTYPE=image/jpeg:https://goldfoundation.com.au/wp-content/uploads/2025/12/WhatsApp-Image-2025-10-20-at-10.54.50-AM.jpeg
ORGANIZER;CN="The Gold Foundation":MAILTO:info@goldfoundation.com.au
END:VEVENT
END:VCALENDAR